Workbook

Sheet Tab
C2: Achtung! Beta-Version keine Garantie!! Empfehlung: Ergebnisse selber kontrollieren!! Autor: Franz Besl, FOSBOS Landshut; siehe auch Tabelle: "wichtige Hinweise"
B3: Name | F3: Vorname | J3: Fachrichtung | M3: Klasse | R3: Punktesumme Halbjahr 1 | U3: erreicht | V3: von | W3: max | Z3: mein Notenbuch | AM3: Punktesumme Halbjahr 2 | AP3: erreicht | AQ3: von | AR3: max
B4: Heinz | F4: Maxi | J4: Sozial | M4: FS11c | U4: =SUM(X9:X47) -> 0 | W4: =Tab_Hinter01!Y4 -> 0 | AP4: =SUM(AS9:AS47) -> 0 | AR4: =Tab_Hinter01!AT4 -> 0
E5: Halbjahr 1 | Z5: Halbjahr 2
E6: Gewicht: SchA zu sonstigen Noten | H6: Schulaufgabe | K6: sonstige Noten | V6: Gesamt | Z6: Gewicht: SchA zu sonstigen Noten | AC6: Schulaufgabe | AF6: sonstige Noten | AQ6: Gesamt
M7: Kurzarbeit/Exen | Q7: mündlich | U7: Durch-schnitt | W7: unger. | X7: ger. | AH7: Kurzarbeit/Exen | AL7: mündlich | AP7: Durch-schnitt | AR7: unger. | AS7: ger.
B8: Fächername | H8: 1 | I8: 2 | J8: Durch-schnitt | M8: 1 | N8: 2 | O8: 3 | P8: 4 | Q8: 1 | R8: 2 | S8: 3 | T8: 4 | AC8: 1 | AD8: 2 | AE8: Durch-schnitt | AH8: 1 | AI8: 2 | AJ8: 3 | AK8: 4 | AL8: 1 | AM8: 2 | AN8: 3 | AO8: 4
B9: 1 | C9: Religionslehre/ Ethik | E9: 1 | F9: zu 1 | J9: =Tab_Hinter01!J9 | L9: Note | U9: =Tab_Hinter01!U9 | W9: =Tab_Hinter01!W9 | X9: =Tab_Hinter01!X9 | Z9: 1 | AA9: zu 1 | AE9: =Tab_Hinter01!AE9 | AG9: Note | AP9: =Tab_Hinter01!AP9 | AR9: =Tab_Hinter01!AR9 | AS9: =Tab_Hinter01!AS9
L10: Gewicht | AG10: Gewicht
M11: =IF(M9="","",M9*M10) | N11: =IF(N9="","",N9*N10) | O11: =IF(O9="","",O9*O10) | P11: =IF(P9="","",P9*P10) | Q11: =IF(Q9="","",Q9*Q10) | R11: =IF(R9="","",R9*R10) | S11: =IF(S9="","",S9*S10) | T11: =IF(T9="","",T9*T10) | AH11: =IF(AH9="","",AH9*AH10) | AI11: =IF(AI9="","",AI9*AI10) | AJ11: =IF(AJ9="","",AJ9*AJ10) | AK11: =IF(AK9="","",AK9*AK10) | AL11: =IF(AL9="","",AL9*AL10) | AM11: =IF(AM9="","",AM9*AM10) | AN11: =IF(AN9="","",AN9*AN10) | AO11: =IF(AO9="","",AO9*AO10)
M12: =IF(M9="","",M10) | N12: =IF(N9="","",N10) | O12: =IF(O9="","",O10) | P12: =IF(P9="","",P10) | Q12: =IF(Q9="","",Q10) | R12: =IF(R9="","",R10) | S12: =IF(S9="","",S10) | T12: =IF(T9="","",T10) | AH12: =IF(AH9="","",AH10) | AI12: =IF(AI9="","",AI10) | AJ12: =IF(AJ9="","",AJ10) | AK12: =IF(AK9="","",AK10) | AL12: =IF(AL9="","",AL10) | AM12: =IF(AM9="","",AM10) | AN12: =IF(AN9="","",AN10) | AO12: =IF(AO9="","",AO10)
B13: 2 | C13: Deutsch | E13: 1 | F13: zu 1 | J13: =Tab_Hinter01!J13 | L13: Note | U13: =Tab_Hinter01!U13 | W13: =Tab_Hinter01!W13 | X13: =Tab_Hinter01!X13 | Z13: 1 | AA13: zu 1 | AE13: =Tab_Hinter01!AE13 | AG13: Note | AP13: =Tab_Hinter01!AP13 | AR13: =Tab_Hinter01!AR13 | AS13: =Tab_Hinter01!AS13
L14: Gewicht | AG14: Gewicht
M15: =IF(M13="","",M13*M14) | N15: =IF(N13="","",N13*N14) | O15: =IF(O13="","",O13*O14) | P15: =IF(P13="","",P13*P14) | Q15: =IF(Q13="","",Q13*Q14) | R15: =IF(R13="","",R13*R14) | S15: =IF(S13="","",S13*S14) | T15: =IF(T13="","",T13*T14) | AH15: =IF(AH13="","",AH13*AH14) | AI15: =IF(AI13="","",AI13*AI14) | AJ15: =IF(AJ13="","",AJ13*AJ14) | AK15: =IF(AK13="","",AK13*AK14) | AL15: =IF(AL13="","",AL13*AL14) | AM15: =IF(AM13="","",AM13*AM14) | AN15: =IF(AN13="","",AN13*AN14) | AO15: =IF(AO13="","",AO13*AO14)
M16: =IF(M13="","",M14) | N16: =IF(N13="","",N14) | O16: =IF(O13="","",O14) | P16: =IF(P13="","",P14) | Q16: =IF(Q13="","",Q14) | R16: =IF(R13="","",R14) | S16: =IF(S13="","",S14) | T16: =IF(T13="","",T14) | AH16: =IF(AH13="","",AH14) | AI16: =IF(AI13="","",AI14) | AJ16: =IF(AJ13="","",AJ14) | AK16: =IF(AK13="","",AK14) | AL16: =IF(AL13="","",AL14) | AM16: =IF(AM13="","",AM14) | AN16: =IF(AN13="","",AN14) | AO16: =IF(AO13="","",AO14)
B17: 3 | C17: Englisch | E17: 1 | F17: zu 1 | J17: =Tab_Hinter01!J17 | L17: Note | U17: =Tab_Hinter01!U17 | W17: =Tab_Hinter01!W17 | X17: =Tab_Hinter01!X17 | Z17: 1 | AA17: zu 1 | AE17: =Tab_Hinter01!AE17 | AG17: Note | AP17: =Tab_Hinter01!AP17 | AR17: =Tab_Hinter01!AR17 | AS17: =Tab_Hinter01!AS17
L18: Gewicht | AG18: Gewicht
M19: =IF(M17="","",M17*M18) | N19: =IF(N17="","",N17*N18) | O19: =IF(O17="","",O17*O18) | P19: =IF(P17="","",P17*P18) | Q19: =IF(Q17="","",Q17*Q18) | R19: =IF(R17="","",R17*R18) | S19: =IF(S17="","",S17*S18) | T19: =IF(T17="","",T17*T18) | AH19: =IF(AH17="","",AH17*AH18) | AI19: =IF(AI17="","",AI17*AI18) | AJ19: =IF(AJ17="","",AJ17*AJ18) | AK19: =IF(AK17="","",AK17*AK18) | AL19: =IF(AL17="","",AL17*AL18) | AM19: =IF(AM17="","",AM17*AM18) | AN19: =IF(AN17="","",AN17*AN18) | AO19: =IF(AO17="","",AO17*AO18)
M20: =IF(M17="","",M18) | N20: =IF(N17="","",N18) | O20: =IF(O17="","",O18) | P20: =IF(P17="","",P18) | Q20: =IF(Q17="","",Q18) | R20: =IF(R17="","",R18) | S20: =IF(S17="","",S18) | T20: =IF(T17="","",T18) | AH20: =IF(AH17="","",AH18) | AI20: =IF(AI17="","",AI18) | AJ20: =IF(AJ17="","",AJ18) | AK20: =IF(AK17="","",AK18) | AL20: =IF(AL17="","",AL18) | AM20: =IF(AM17="","",AM18) | AN20: =IF(AN17="","",AN18) | AO20: =IF(AO17="","",AO18)
B21: 4 | C21: Geschichte | E21: 1 | F21: zu 1 | J21: =Tab_Hinter01!J21 | L21: Note | U21: =Tab_Hinter01!U21 | W21: =Tab_Hinter01!W21 | X21: =Tab_Hinter01!X21 | Z21: 1 | AA21: zu 1 | AE21: =Tab_Hinter01!AE21 | AG21: Note | AP21: =Tab_Hinter01!AP21 | AR21: =Tab_Hinter01!AR21 | AS21: =Tab_Hinter01!AS21
L22: Gewicht | AG22: Gewicht
M23: =IF(M21="","",M21*M22) | N23: =IF(N21="","",N21*N22) | O23: =IF(O21="","",O21*O22) | P23: =IF(P21="","",P21*P22) | Q23: =IF(Q21="","",Q21*Q22) | R23: =IF(R21="","",R21*R22) | S23: =IF(S21="","",S21*S22) | T23: =IF(T21="","",T21*T22) | AH23: =IF(AH21="","",AH21*AH22) | AI23: =IF(AI21="","",AI21*AI22) | AJ23: =IF(AJ21="","",AJ21*AJ22) | AK23: =IF(AK21="","",AK21*AK22) | AL23: =IF(AL21="","",AL21*AL22) | AM23: =IF(AM21="","",AM21*AM22) | AN23: =IF(AN21="","",AN21*AN22) | AO23: =IF(AO21="","",AO21*AO22)
M24: =IF(M21="","",M22) | N24: =IF(N21="","",N22) | O24: =IF(O21="","",O22) | P24: =IF(P21="","",P22) | Q24: =IF(Q21="","",Q22) | R24: =IF(R21="","",R22) | S24: =IF(S21="","",S22) | T24: =IF(T21="","",T22) | AH24: =IF(AH21="","",AH22) | AI24: =IF(AI21="","",AI22) | AJ24: =IF(AJ21="","",AJ22) | AK24: =IF(AK21="","",AK22) | AL24: =IF(AL21="","",AL22) | AM24: =IF(AM21="","",AM22) | AN24: =IF(AN21="","",AN22) | AO24: =IF(AO21="","",AO22)
B25: 5 | C25: Sozialkunde | E25: 1 | F25: zu 1 | J25: =Tab_Hinter01!J25 | L25: Note | U25: =Tab_Hinter01!U25 | W25: =Tab_Hinter01!W25 | X25: =Tab_Hinter01!X25 | Z25: 2 | AA25: zu 1 | AE25: =Tab_Hinter01!AE25 | AG25: Note | AP25: =Tab_Hinter01!AP25 | AR25: =Tab_Hinter01!AR25 | AS25: =Tab_Hinter01!AS25
L26: Gewicht | AG26: Gewicht
M27: =IF(M25="","",M25*M26) | N27: =IF(N25="","",N25*N26) | O27: =IF(O25="","",O25*O26) | P27: =IF(P25="","",P25*P26) | Q27: =IF(Q25="","",Q25*Q26) | R27: =IF(R25="","",R25*R26) | S27: =IF(S25="","",S25*S26) | T27: =IF(T25="","",T25*T26) | AH27: =IF(AH25="","",AH25*AI25) | AI27: =IF(#REF!="","",#REF!*AI26) -> #REF! | AJ27: =IF(AJ25="","",AJ25*AJ26) | AK27: =IF(AK25="","",AK25*AK26) | AL27: =IF(AL25="","",AL25*AL26) | AM27: =IF(AM25="","",AM25*AM26) | AN27: =IF(AN25="","",AN25*AN26) | AO27: =IF(AO25="","",AO25*AO26)
M28: =IF(M25="","",M26) | N28: =IF(N25="","",N26) | O28: =IF(O25="","",O26) | P28: =IF(P25="","",P26) | Q28: =IF(Q25="","",Q26) | R28: =IF(R25="","",R26) | S28: =IF(S25="","",S26) | T28: =IF(T25="","",T26) | AH28: =IF(AH25="","",AI25) | AI28: =IF(#REF!="","",AI26) -> #REF! | AJ28: =IF(AJ25="","",AJ26) | AK28: =IF(AK25="","",AK26) | AL28: =IF(AL25="","",AL26) | AM28: =IF(AM25="","",AM26) | AN28: =IF(AN25="","",AN26) | AO28: =IF(AO25="","",AO26)
B29: 6 | C29: Mathematik | E29: 1 | F29: zu 1 | J29: =Tab_Hinter01!J29 | L29: Note | U29: =Tab_Hinter01!U29 | W29: =Tab_Hinter01!W29 | X29: =Tab_Hinter01!X29 | Z29: 1 | AA29: zu 1 | AE29: =Tab_Hinter01!AE29 | AG29: Note | AP29: =Tab_Hinter01!AP29 | AR29: =Tab_Hinter01!AR29 | AS29: =Tab_Hinter01!AS29
L30: Gewicht | AG30: Gewicht
M31: =IF(M29="","",M29*M30) | N31: =IF(N29="","",N29*N30) | O31: =IF(O29="","",O29*O30) | P31: =IF(P29="","",P29*P30) | Q31: =IF(Q29="","",Q29*Q30) | R31: =IF(R29="","",R29*R30) | S31: =IF(S29="","",S29*S30) | T31: =IF(T29="","",T29*T30) | AH31: =IF(AH29="","",AH29*AH30) | AI31: =IF(AI29="","",AI29*AI30) | AJ31: =IF(AJ29="","",AJ29*AJ30) | AK31: =IF(AK29="","",AK29*AK30) | AL31: =IF(AL29="","",AL29*AL30) | AM31: =IF(AM29="","",AM29*AM30) | AN31: =IF(AN29="","",AN29*AN30) | AO31: =IF(AO29="","",AO29*AO30)
M32: =IF(M29="","",M30) | N32: =IF(N29="","",N30) | O32: =IF(O29="","",O30) | P32: =IF(P29="","",P30) | Q32: =IF(Q29="","",Q30) | R32: =IF(R29="","",R30) | S32: =IF(S29="","",S30) | T32: =IF(T29="","",T30) | AH32: =IF(AH29="","",AH30) | AI32: =IF(AI29="","",AI30) | AJ32: =IF(AJ29="","",AJ30) | AK32: =IF(AK29="","",AK30) | AL32: =IF(AL29="","",AL30) | AM32: =IF(AM29="","",AM30) | AN32: =IF(AN29="","",AN30) | AO32: =IF(AO29="","",AO30)
B33: 7 | C33: Profilfach | E33: 1 | F33: zu 1 | J33: =Tab_Hinter01!J33 | L33: Note | U33: =Tab_Hinter01!U33 | W33: =Tab_Hinter01!W33 | X33: =Tab_Hinter01!X33 | Z33: 1 | AA33: zu 1 | AE33: =Tab_Hinter01!AE33 | AG33: Note | AP33: =Tab_Hinter01!AP33 | AR33: =Tab_Hinter01!AR33 | AS33: =Tab_Hinter01!AS33
L34: Gewicht | AG34: Gewicht
M35: =IF(M33="","",M33*M34) | N35: =IF(N33="","",N33*N34) | O35: =IF(O33="","",O33*O34) | P35: =IF(P33="","",P33*P34) | Q35: =IF(Q33="","",Q33*Q34) | R35: =IF(R33="","",R33*R34) | S35: =IF(S33="","",S33*S34) | T35: =IF(T33="","",T33*T34) | AH35: =IF(AH33="","",AH33*AH34) | AI35: =IF(AI33="","",AI33*AI34) | AJ35: =IF(AJ33="","",AJ33*AJ34) | AK35: =IF(AK33="","",AK33*AK34) | AL35: =IF(AL33="","",AL33*AL34) | AM35: =IF(AM33="","",AM33*AM34) | AN35: =IF(AN33="","",AN33*AN34) | AO35: =IF(AO33="","",AO33*AO34)
M36: =IF(M33="","",M34) | N36: =IF(N33="","",N34) | O36: =IF(O33="","",O34) | P36: =IF(P33="","",P34) | Q36: =IF(Q33="","",Q34) | R36: =IF(R33="","",R34) | S36: =IF(S33="","",S34) | T36: =IF(T33="","",T34) | AH36: =IF(AH33="","",AH34) | AI36: =IF(AI33="","",AI34) | AJ36: =IF(AJ33="","",AJ34) | AK36: =IF(AK33="","",AK34) | AL36: =IF(AL33="","",AL34) | AM36: =IF(AM33="","",AM34) | AN36: =IF(AN33="","",AN34) | AO36: =IF(AO33="","",AO34)
B37: 8 | C37: Fach | E37: 1 | F37: zu 1 | J37: =Tab_Hinter01!J37 | L37: Note | U37: =Tab_Hinter01!U37 | W37: =Tab_Hinter01!W37 | X37: =Tab_Hinter01!X37 | Z37: 1 | AA37: zu 1 | AE37: =Tab_Hinter01!AE37 | AG37: Note | AP37: =Tab_Hinter01!AP37 | AR37: =Tab_Hinter01!AR37 | AS37: =Tab_Hinter01!AS37
L38: Gewicht | AG38: Gewicht
M39: =IF(M37="","",M37*M38) | N39: =IF(N37="","",N37*N38) | O39: =IF(O37="","",O37*O38) | P39: =IF(P37="","",P37*P38) | Q39: =IF(Q37="","",Q37*Q38) | R39: =IF(R37="","",R37*R38) | S39: =IF(S37="","",S37*S38) | T39: =IF(T37="","",T37*T38) | AH39: =IF(AH37="","",AH37*AH38) | AI39: =IF(AI37="","",AI37*AI38) | AJ39: =IF(AJ37="","",AJ37*AJ38) | AK39: =IF(AK37="","",AK37*AK38) | AL39: =IF(AL37="","",AL37*AL38) | AM39: =IF(AM37="","",AM37*AM38) | AN39: =IF(AN37="","",AN37*AN38) | AO39: =IF(AO37="","",AO37*AO38)
M40: =IF(M37="","",M38) | N40: =IF(N37="","",N38) | O40: =IF(O37="","",O38) | P40: =IF(P37="","",P38) | Q40: =IF(Q37="","",Q38) | R40: =IF(R37="","",R38) | S40: =IF(S37="","",S38) | T40: =IF(T37="","",T38) | AH40: =IF(AH37="","",AH38) | AI40: =IF(AI37="","",AI38) | AJ40: =IF(AJ37="","",AJ38) | AK40: =IF(AK37="","",AK38) | AL40: =IF(AL37="","",AL38) | AM40: =IF(AM37="","",AM38) | AN40: =IF(AN37="","",AN38) | AO40: =IF(AO37="","",AO38)
B41: 9 | C41: Fach | E41: 1 | F41: zu 1 | J41: =Tab_Hinter01!J41 | L41: Note | U41: =Tab_Hinter01!U41 | W41: =Tab_Hinter01!W41 | X41: =Tab_Hinter01!X41 | Z41: 1 | AA41: zu 1 | AE41: =Tab_Hinter01!AE41 | AG41: Note | AP41: =Tab_Hinter01!AP41 | AR41: =Tab_Hinter01!AR41 | AS41: =Tab_Hinter01!AS41
...

Sheet Tab_Hinter01
C3: Hintergrundtabelle | U3: Punktesumme Halbjahr 1 | AP3: Punktesumme Halbjahr 2
W4: =SUM(X9:X47) -> 0 | Y4: =SUM(Y9:Y47) -> 0 | AR4: =SUM(AS9:AS47) -> 0 | AT4: =SUM(AT9:AT47) -> 0
E5: Halbjahr 1 | Z5: Halbjahr 2 | AU5: Fehlerkontrolle
E6: Gewicht: SchA zu sonstigen Noten | H6: Schulaufgabe | K6: sonstige Noten | V6: Gesamt | Z6: Gewicht: SchA zu sonstigen Noten | AC6: Schulaufgabe | AF6: sonstige Noten | AQ6: Gesamt
M7: Kurzarbeit/Exen | Q7: mündlich | U7: Durch-schnitt | W7: unger. | X7: ger. | AH7: Kurzarbeit/Exen | AL7: mündlich | AP7: Durch-schnitt | AR7: unger. | AS7: ger.
H8: 1 | I8: 2 | J8: Durch-schnitt | M8: 1 | N8: 2 | O8: 3 | P8: 4 | Q8: 1 | R8: 2 | S8: 3 | T8: 4 | AC8: 1 | AD8: 2 | AE8: Durch-schnitt | AH8: 1 | AI8: 2 | AJ8: 3 | AK8: 4 | AL8: 1 | AM8: 2 | AN8: 3 | AO8: 4 | AU8: Anzahl Noten | AV8: Anzahl Gewicht
C9: Religionslehre/ Ethik | E9: =Tab!E9 -> 1 | F9: zu 1 | H9: =IF(Tab!H9="","",Tab!H9) | I9: =IF(Tab!I9="","",Tab!I9) | J9: =IF(AND(H9="",I9=""),"",AVERAGE(H9:I9)) | L9: Note | M9: =IF(Tab!M9="","",Tab!M9) | N9: =IF(Tab!N9="","",Tab!N9) | O9: =IF(Tab!O9="","",Tab!O9) | P9: =IF(Tab!P9="","",Tab!P9) | Q9: =IF(Tab!Q9="","",Tab!Q9) | R9: =IF(Tab!R9="","",Tab!R9) | S9: =IF(Tab!S9="","",Tab!S9) | T9: =IF(Tab!T9="","",Tab!T9) | U9: =IF(ISERROR(SUM(M11:T11)/SUM(M12:T12)),"",SUM(M11:T11)/SUM(M12:T12)) | W9: =IF(AND(J9="",U9=""),"",IF(J9="",U9,IF(U9="",J9,(J9*E9+U9)/(E9+1)))) | X9: =IF(W9="","",IF(W9<1,0,ROUND(W9,0))) | Y9: =IF(X9="","",15) | Z9: =Tab!Z9 -> 1 | AA9: zu 1 | AC9: =IF(Tab!AC9="","",Tab!AC9) | AD9: =IF(Tab!AD9="","",Tab!AD9) | AE9: =IF(AND(AC9="",AD9=""),"",AVERAGE(AC9:AD9)) | AG9: Note | AH9: =IF(Tab!AH9="","",Tab!AH9) | AI9: =IF(Tab!AI9="","",Tab!AI9) | AJ9: =IF(Tab!AJ9="","",Tab!AJ9) | AK9: =IF(Tab!AK9="","",Tab!AK9) | AL9: =IF(Tab!AL9="","",Tab!AL9) | AM9: =IF(Tab!AM9="","",Tab!AM9) | AN9: =IF(Tab!AN9="","",Tab!AN9) | AO9: =IF(Tab!AO9="","",Tab!AO9) | AP9: =IF(ISERROR(SUM(AH11:AO11)/SUM(AH12:AO12)),"",SUM(AH11:AO11)/SUM(AH12:AO12)) | AR9: =IF(AND(AE9="",AP9=""),"",IF(AE9="",AP9,IF(AP9="",AE9,(AE9*Z9+AP9)/(Z9+1)))) | AS9: =IF(AR9="","",IF(AR9<1,0,ROUND(AR9,0))) | AT9: =IF(AS9="","",15) | AU9: =COUNT(M9:T9,AH9:AO9) -> 0 | AV9: =COUNT(M10:T10,AH10:AO10) -> 0 | AW9: =IF(AU9=AV9,0,1) -> 0
L10: Gewicht | M10: =IF(Tab!M10="","",Tab!M10) | N10: =IF(Tab!N10="","",Tab!N10) | O10: =IF(Tab!O10="","",Tab!O10) | P10: =IF(Tab!P10="","",Tab!P10) | Q10: =IF(Tab!Q10="","",Tab!Q10) | R10: =IF(Tab!R10="","",Tab!R10) | S10: =IF(Tab!S10="","",Tab!S10) | T10: =IF(Tab!T10="","",Tab!T10) | AG10: Gewicht | AH10: =IF(Tab!AH10="","",Tab!AH10) | AI10: =IF(Tab!AI10="","",Tab!AI10) | AJ10: =IF(Tab!AJ10="","",Tab!AJ10) | AK10: =IF(Tab!AK10="","",Tab!AK10) | AL10: =IF(Tab!AL10="","",Tab!AL10) | AM10: =IF(Tab!AM10="","",Tab!AM10) | AN10: =IF(Tab!AN10="","",Tab!AN10) | AO10: =IF(Tab!AO10="","",Tab!AO10)
M11: =IF(M9="","",M9*M10) | N11: =IF(N9="","",N9*N10) | O11: =IF(O9="","",O9*O10) | P11: =IF(P9="","",P9*P10) | Q11: =IF(Q9="","",Q9*Q10) | R11: =IF(R9="","",R9*R10) | S11: =IF(S9="","",S9*S10) | T11: =IF(T9="","",T9*T10) | AH11: =IF(AH9="","",AH9*AH10) | AI11: =IF(AI9="","",AI9*AI10) | AJ11: =IF(AJ9="","",AJ9*AJ10) | AK11: =IF(AK9="","",AK9*AK10) | AL11: =IF(AL9="","",AL9*AL10) | AM11: =IF(AM9="","",AM9*AM10) | AN11: =IF(AN9="","",AN9*AN10) | AO11: =IF(AO9="","",AO9*AO10)
M12: =IF(M9="","",M10) | N12: =IF(N9="","",N10) | O12: =IF(O9="","",O10) | P12: =IF(P9="","",P10) | Q12: =IF(Q9="","",Q10) | R12: =IF(R9="","",R10) | S12: =IF(S9="","",S10) | T12: =IF(T9="","",T10) | AH12: =IF(AH9="","",AH10) | AI12: =IF(AI9="","",AI10) | AJ12: =IF(AJ9="","",AJ10) | AK12: =IF(AK9="","",AK10) | AL12: =IF(AL9="","",AL10) | AM12: =IF(AM9="","",AM10) | AN12: =IF(AN9="","",AN10) | AO12: =IF(AO9="","",AO10)
C13: Deutsch | E13: =Tab!E13 -> 1 | F13: zu 1 | H13: =IF(Tab!H13="","",Tab!H13) | I13: =IF(Tab!I13="","",Tab!I13) | J13: =IF(AND(H13="",I13=""),"",AVERAGE(H13:I13)) | L13: Note | M13: =IF(Tab!M13="","",Tab!M13) | N13: =IF(Tab!N13="","",Tab!N13) | O13: =IF(Tab!O13="","",Tab!O13) | P13: =IF(Tab!P13="","",Tab!P13) | Q13: =IF(Tab!Q13="","",Tab!Q13) | R13: =IF(Tab!R13="","",Tab!R13) | S13: =IF(Tab!S13="","",Tab!S13) | T13: =IF(Tab!T13="","",Tab!T13) | U13: =IF(ISERROR(SUM(M15:T15)/SUM(M16:T16)),"",SUM(M15:T15)/SUM(M16:T16)) | W13: =IF(AND(J13="",U13=""),"",IF(J13="",U13,IF(U13="",J13,(J13*E13+U13)/(E13+1)))) | X13: =IF(W13="","",IF(W13<1,0,ROUND(W13,0))) | Y13: =IF(X13="","",15) | Z13: 1 | AA13: zu 1 | AC13: =IF(Tab!AC13="","",Tab!AC13) | AD13: =IF(Tab!AD13="","",Tab!AD13) | AE13: =IF(AND(AC13="",AD13=""),"",AVERAGE(AC13:AD13)) | AG13: Note | AH13: =IF(Tab!AH13="","",Tab!AH13) | AI13: =IF(Tab!AI13="","",Tab!AI13) | AJ13: =IF(Tab!AJ13="","",Tab!AJ13) | AK13: =IF(Tab!AK13="","",Tab!AK13) | AL13: =IF(Tab!AL13="","",Tab!AL13) | AM13: =IF(Tab!AM13="","",Tab!AM13) | AN13: =IF(Tab!AN13="","",Tab!AN13) | AO13: =IF(Tab!AO13="","",Tab!AO13) | AP13: =IF(ISERROR(SUM(AH15:AO15)/SUM(AH16:AO16)),"",SUM(AH15:AO15)/SUM(AH16:AO16)) | AR13: =IF(AND(AE13="",AP13=""),"",IF(AE13="",AP13,IF(AP13="",AE13,(AE13*Z13+AP13)/(Z13+1)))) | AS13: =IF(AR13="","",IF(AR13<1,0,ROUND(AR13,0))) | AT13: =IF(AS13="","",15) | AU13: =COUNT(M13:T13,AH13:AO13) -> 0 | AV13: =COUNT(M14:T14,AH14:AO14) -> 0 | AW13: =IF(AU13=AV13,0,1) -> 0
L14: Gewicht | M14: =IF(Tab!M14="","",Tab!M14) | N14: =IF(Tab!N14="","",Tab!N14) | O14: =IF(Tab!O14="","",Tab!O14) | P14: =IF(Tab!P14="","",Tab!P14) | Q14: =IF(Tab!Q14="","",Tab!Q14) | R14: =IF(Tab!R14="","",Tab!R14) | S14: =IF(Tab!S14="","",Tab!S14) | T14: =IF(Tab!T14="","",Tab!T14) | AG14: Gewicht | AH14: =IF(Tab!AH14="","",Tab!AH14) | AI14: =IF(Tab!AI14="","",Tab!AI14) | AJ14: =IF(Tab!AJ14="","",Tab!AJ14) | AK14: =IF(Tab!AK14="","",Tab!AK14) | AL14: =IF(Tab!AL14="","",Tab!AL14) | AM14: =IF(Tab!AM14="","",Tab!AM14) | AN14: =IF(Tab!AN14="","",Tab!AN14) | AO14: =IF(Tab!AO14="","",Tab!AO14)
M15: =IF(M13="","",M13*M14) | N15: =IF(N13="","",N13*N14) | O15: =IF(O13="","",O13*O14) | P15: =IF(P13="","",P13*P14) | Q15: =IF(Q13="","",Q13*Q14) | R15: =IF(R13="","",R13*R14) | S15: =IF(S13="","",S13*S14) | T15: =IF(T13="","",T13*T14) | AH15: =IF(AH13="","",AH13*AH14) | AI15: =IF(AI13="","",AI13*AI14) | AJ15: =IF(AJ13="","",AJ13*AJ14) | AK15: =IF(AK13="","",AK13*AK14) | AL15: =IF(AL13="","",AL13*AL14) | AM15: =IF(AM13="","",AM13*AM14) | AN15: =IF(AN13="","",AN13*AN14) | AO15: =IF(AO13="","",AO13*AO14)
M16: =IF(M13="","",M14) | N16: =IF(N13="","",N14) | O16: =IF(O13="","",O14) | P16: =IF(P13="","",P14) | Q16: =IF(Q13="","",Q14) | R16: =IF(R13="","",R14) | S16: =IF(S13="","",S14) | T16: =IF(T13="","",T14) | AH16: =IF(AH13="","",AH14) | AI16: =IF(AI13="","",AI14) | AJ16: =IF(AJ13="","",AJ14) | AK16: =IF(AK13="","",AK14) | AL16: =IF(AL13="","",AL14) | AM16: =IF(AM13="","",AM14) | AN16: =IF(AN13="","",AN14) | AO16: =IF(AO13="","",AO14)
C17: Englisch | E17: =Tab!E17 -> 1 | F17: zu 1 | H17: =IF(Tab!H17="","",Tab!H17) | I17: =IF(Tab!I17="","",Tab!I17) | J17: =IF(AND(H17="",I17=""),"",AVERAGE(H17:I17)) | L17: Note | M17: =IF(Tab!M17="","",Tab!M17) | N17: =IF(Tab!N17="","",Tab!N17) | O17: =IF(Tab!O17="","",Tab!O17) | P17: =IF(Tab!P17="","",Tab!P17) | Q17: =IF(Tab!Q17="","",Tab!Q17) | R17: =IF(Tab!R17="","",Tab!R17) | S17: =IF(Tab!S17="","",Tab!S17) | T17: =IF(Tab!T17="","",Tab!T17) | U17: =IF(ISERROR(SUM(M19:T19)/SUM(M20:T20)),"",SUM(M19:T19)/SUM(M20:T20)) | W17: =IF(AND(J17="",U17=""),"",IF(J17="",U17,IF(U17="",J17,(J17*E17+U17)/(E17+1)))) | X17: =IF(W17="","",IF(W17<1,0,ROUND(W17,0))) | Y17: =IF(X17="","",15) | Z17: 1 | AA17: zu 1 | AC17: =IF(Tab!AC17="","",Tab!AC17) | AD17: =IF(Tab!AD17="","",Tab!AD17) | AE17: =IF(AND(AC17="",AD17=""),"",AVERAGE(AC17:AD17)) | AG17: Note | AH17: =IF(Tab!AH17="","",Tab!AH17) | AI17: =IF(Tab!AI17="","",Tab!AI17) | AJ17: =IF(Tab!AJ17="","",Tab!AJ17) | AK17: =IF(Tab!AK17="","",Tab!AK17) | AL17: =IF(Tab!AL17="","",Tab!AL17) | AM17: =IF(Tab!AM17="","",Tab!AM17) | AN17: =IF(Tab!AN17="","",Tab!AN17) | AO17: =IF(Tab!AO17="","",Tab!AO17) | AP17: =IF(ISERROR(SUM(AH19:AO19)/SUM(AH20:AO20)),"",SUM(AH19:AO19)/SUM(AH20:AO20)) | AR17: =IF(AND(AE17="",AP17=""),"",IF(AE17="",AP17,IF(AP17="",AE17,(AE17*Z17+AP17)/(Z17+1)))) | AS17: =IF(AR17="","",IF(AR17<1,0,ROUND(AR17,0))) | AT17: =IF(AS17="","",15) | AU17: =COUNT(M17:T17,AH17:AO17) -> 0 | AV17: =COUNT(M18:T18,AH18:AO18) -> 0 | AW17: =IF(AU17=AV17,0,1) -> 0
L18: Gewicht | M18: =IF(Tab!M18="","",Tab!M18) | N18: =IF(Tab!N18="","",Tab!N18) | O18: =IF(Tab!O18="","",Tab!O18) | P18: =IF(Tab!P18="","",Tab!P18) | Q18: =IF(Tab!Q18="","",Tab!Q18) | R18: =IF(Tab!R18="","",Tab!R18) | S18: =IF(Tab!S18="","",Tab!S18) | T18: =IF(Tab!T18="","",Tab!T18) | AG18: Gewicht | AH18: =IF(Tab!AH18="","",Tab!AH18) | AI18: =IF(Tab!AI18="","",Tab!AI18) | AJ18: =IF(Tab!AJ18="","",Tab!AJ18) | AK18: =IF(Tab!AK18="","",Tab!AK18) | AL18: =IF(Tab!AL18="","",Tab!AL18) | AM18: =IF(Tab!AM18="","",Tab!AM18) | AN18: =IF(Tab!AN18="","",Tab!AN18) | AO18: =IF(Tab!AO18="","",Tab!AO18)
M19: =IF(M17="","",M17*M18) | N19: =IF(N17="","",N17*N18) | O19: =IF(O17="","",O17*O18) | P19: =IF(P17="","",P17*P18) | Q19: =IF(Q17="","",Q17*Q18) | R19: =IF(R17="","",R17*R18) | S19: =IF(S17="","",S17*S18) | T19: =IF(T17="","",T17*T18) | AH19: =IF(AH17="","",AH17*AH18) | AI19: =IF(AI17="","",AI17*AI18) | AJ19: =IF(AJ17="","",AJ17*AJ18) | AK19: =IF(AK17="","",AK17*AK18) | AL19: =IF(AL17="","",AL17*AL18) | AM19: =IF(AM17="","",AM17*AM18) | AN19: =IF(AN17="","",AN17*AN18) | AO19: =IF(AO17="","",AO17*AO18)
M20: =IF(M17="","",M18) | N20: =IF(N17="","",N18) | O20: =IF(O17="","",O18) | P20: =IF(P17="","",P18) | Q20: =IF(Q17="","",Q18) | R20: =IF(R17="","",R18) | S20: =IF(S17="","",S18) | T20: =IF(T17="","",T18) | AH20: =IF(AH17="","",AH18) | AI20: =IF(AI17="","",AI18) | AJ20: =IF(AJ17="","",AJ18) | AK20: =IF(AK17="","",AK18) | AL20: =IF(AL17="","",AL18) | AM20: =IF(AM17="","",AM18) | AN20: =IF(AN17="","",AN18) | AO20: =IF(AO17="","",AO18)
C21: Geschichte | E21: =Tab!E21 -> 1 | F21: zu 1 | H21: =IF(Tab!H21="","",Tab!H21) | I21: =IF(Tab!I21="","",Tab!I21) | J21: =IF(AND(H21="",I21=""),"",AVERAGE(H21:I21)) | L21: Note | M21: =IF(Tab!M21="","",Tab!M21) | N21: =IF(Tab!N21="","",Tab!N21) | O21: =IF(Tab!O21="","",Tab!O21) | P21: =IF(Tab!P21="","",Tab!P21) | Q21: =IF(Tab!Q21="","",Tab!Q21) | R21: =IF(Tab!R21="","",Tab!R21) | S21: =IF(Tab!S21="","",Tab!S21) | T21: =IF(Tab!T21="","",Tab!T21) | U21: =IF(ISERROR(SUM(M23:T23)/SUM(M24:T24)),"",SUM(M23:T23)/SUM(M24:T24)) | W21: =IF(AND(J21="",U21=""),"",IF(J21="",U21,IF(U21="",J21,(J21*E21+U21)/(E21+1)))) | X21: =IF(W21="","",IF(W21<1,0,ROUND(W21,0))) | Y21: =IF(X21="","",15) | Z21: 1 | AA21: zu 1 | AC21: =IF(Tab!AC21="","",Tab!AC21) | AD21: =IF(Tab!AD21="","",Tab!AD21) | AE21: =IF(AND(AC21="",AD21=""),"",AVERAGE(AC21:AD21)) | AG21: Note | AH21: =IF(Tab!AH21="","",Tab!AH21) | AI21: =IF(Tab!AI21="","",Tab!AI21) | AJ21: =IF(Tab!AJ21="","",Tab!AJ21) | AK21: =IF(Tab!AK21="","",Tab!AK21) | AL21: =IF(Tab!AL21="","",Tab!AL21) | AM21: =IF(Tab!AM21="","",Tab!AM21) | AN21: =IF(Tab!AN21="","",Tab!AN21) | AO21: =IF(Tab!AO21="","",Tab!AO21) | AP21: =IF(ISERROR(SUM(AH23:AO23)/SUM(AH24:AO24)),"",SUM(AH23:AO23)/SUM(AH24:AO24)) | AR21: =IF(AND(AE21="",AP21=""),"",IF(AE21="",AP21,IF(AP21="",AE21,(AE21*Z21+AP21)/(Z21+1)))) | AS21: =IF(AR21="","",IF(AR21<1,0,ROUND(AR21,0))) | AT21: =IF(AS21="","",15) | AU21: =COUNT(M21:T21,AH21:AO21) -> 0 | AV21: =COUNT(M22:T22,AH22:AO22) -> 0 | AW21: =IF(AU21=AV21,0,1) -> 0
L22: Gewicht | M22: =IF(Tab!M22="","",Tab!M22) | N22: =IF(Tab!N22="","",Tab!N22) | O22: =IF(Tab!O22="","",Tab!O22) | P22: =IF(Tab!P22="","",Tab!P22) | Q22: =IF(Tab!Q22="","",Tab!Q22) | R22: =IF(Tab!R22="","",Tab!R22) | S22: =IF(Tab!S22="","",Tab!S22) | T22: =IF(Tab!T22="","",Tab!T22) | AG22: Gewicht | AH22: =IF(Tab!AH22="","",Tab!AH22) | AI22: =IF(Tab!AI22="","",Tab!AI22) | AJ22: =IF(Tab!AJ22="","",Tab!AJ22) | AK22: =IF(Tab!AK22="","",Tab!AK22) | AL22: =IF(Tab!AL22="","",Tab!AL22) | AM22: =IF(Tab!AM22="","",Tab!AM22) | AN22: =IF(Tab!AN22="","",Tab!AN22) | AO22: =IF(Tab!AO22="","",Tab!AO22)
M23: =IF(M21="","",M21*M22) | N23: =IF(N21="","",N21*N22) | O23: =IF(O21="","",O21*O22) | P23: =IF(P21="","",P21*P22) | Q23: =IF(Q21="","",Q21*Q22) | R23: =IF(R21="","",R21*R22) | S23: =IF(S21="","",S21*S22) | T23: =IF(T21="","",T21*T22) | AH23: =IF(AH21="","",AH21*AH22) | AI23: =IF(AI21="","",AI21*AI22) | AJ23: =IF(AJ21="","",AJ21*AJ22) | AK23: =IF(AK21="","",AK21*AK22) | AL23: =IF(AL21="","",AL21*AL22) | AM23: =IF(AM21="","",AM21*AM22) | AN23: =IF(AN21="","",AN21*AN22) | AO23: =IF(AO21="","",AO21*AO22)
M24: =IF(M21="","",M22) | N24: =IF(N21="","",N22) | O24: =IF(O21="","",O22) | P24: =IF(P21="","",P22) | Q24: =IF(Q21="","",Q22) | R24: =IF(R21="","",R22) | S24: =IF(S21="","",S22) | T24: =IF(T21="","",T22) | AH24: =IF(AH21="","",AH22) | AI24: =IF(AI21="","",AI22) | AJ24: =IF(AJ21="","",AJ22) | AK24: =IF(AK21="","",AK22) | AL24: =IF(AL21="","",AL22) | AM24: =IF(AM21="","",AM22) | AN24: =IF(AN21="","",AN22) | AO24: =IF(AO21="","",AO22)
C25: Sozialkunde | E25: =Tab!E25 -> 1 | F25: zu 1 | H25: =IF(Tab!H25="","",Tab!H25) | I25: =IF(Tab!I25="","",Tab!I25) | J25: =IF(AND(H25="",I25=""),"",AVERAGE(H25:I25)) | L25: Note | M25: =IF(Tab!M25="","",Tab!M25) | N25: =IF(Tab!N25="","",Tab!N25) | O25: =IF(Tab!O25="","",Tab!O25) | P25: =IF(Tab!P25="","",Tab!P25) | Q25: =IF(Tab!Q25="","",Tab!Q25) | R25: =IF(Tab!R25="","",Tab!R25) | S25: =IF(Tab!S25="","",Tab!S25) | T25: =IF(Tab!T25="","",Tab!T25) | U25: =IF(ISERROR(SUM(M27:T27)/SUM(M28:T28)),"",SUM(M27:T27)/SUM(M28:T28)) | W25: =IF(AND(J25="",U25=""),"",IF(J25="",U25,IF(U25="",J25,(J25*E25+U25)/(E25+1)))) | X25: =IF(W25="","",IF(W25<1,0,ROUND(W25,0))) | Y25: =IF(X25="","",15) | Z25: 1 | AA25: zu 1 | AC25: =IF(Tab!AC25="","",Tab!AC25) | AD25: =IF(Tab!AD25="","",Tab!AD25) | AE25: =IF(AND(AC25="",AD25=""),"",AVERAGE(AC25:AD25)) | AG25: Note | AH25: =IF(Tab!AH25="","",Tab!AH25) | AI25: =IF(Tab!AI25="","",Tab!AI25) | AJ25: =IF(Tab!AJ25="","",Tab!AJ25) | AK25: =IF(Tab!AK25="","",Tab!AK25) | AL25: =IF(Tab!AL25="","",Tab!AL25) | AM25: =IF(Tab!AM25="","",Tab!AM25) | AN25: =IF(Tab!AN25="","",Tab!AN25) | AO25: =IF(Tab!AO25="","",Tab!AO25) | AP25: =IF(ISERROR(SUM(AH27:AO27)/SUM(AH28:AO28)),"",SUM(AH27:AO27)/SUM(AH28:AO28)) | AR25: =IF(AND(AE25="",AP25=""),"",IF(AE25="",AP25,IF(AP25="",AE25,(AE25*Z25+AP25)/(Z25+1)))) | AS25: =IF(AR25="","",IF(AR25<1,0,ROUND(AR25,0))) | AT25: =IF(AS25="","",15) | AU25: =COUNT(M25:T25,AH25:AO25) -> 0 | AV25: =COUNT(M26:T26,AH26:AO26) -> 0 | AW25: =IF(AU25=AV25,0,1) -> 0
L26: Gewicht | M26: =IF(Tab!M26="","",Tab!M26) | N26: =IF(Tab!N26="","",Tab!N26) | O26: =IF(Tab!O26="","",Tab!O26) | P26: =IF(Tab!P26="","",Tab!P26) | Q26: =IF(Tab!Q26="","",Tab!Q26) | R26: =IF(Tab!R26="","",Tab!R26) | S26: =IF(Tab!S26="","",Tab!S26) | T26: =IF(Tab!T26="","",Tab!T26) | AG26: Gewicht | AH26: =IF(Tab!AH26="","",Tab!AH26) | AI26: =IF(Tab!AI26="","",Tab!AI26) | AJ26: =IF(Tab!AJ26="","",Tab!AJ26) | AK26: =IF(Tab!AK26="","",Tab!AK26) | AL26: =IF(Tab!AL26="","",Tab!AL26) | AM26: =IF(Tab!AM26="","",Tab!AM26) | AN26: =IF(Tab!AN26="","",Tab!AN26) | AO26: =IF(Tab!AO26="","",Tab!AO26)
M27: =IF(M25="","",M25*M26) | N27: =IF(N25="","",N25*N26) | O27: =IF(O25="","",O25*O26) | P27: =IF(P25="","",P25*P26) | Q27: =IF(Q25="","",Q25*Q26) | R27: =IF(R25="","",R25*R26) | S27: =IF(S25="","",S25*S26) | T27: =IF(T25="","",T25*T26) | AH27: =IF(AH25="","",AH25*AH26) | AI27: =IF(AI25="","",AI25*AI26) | AJ27: =IF(AJ25="","",AJ25*AJ26) | AK27: =IF(AK25="","",AK25*AK26) | AL27: =IF(AL25="","",AL25*AL26) | AM27: =IF(AM25="","",AM25*AM26) | AN27: =IF(AN25="","",AN25*AN26) | AO27: =IF(AO25="","",AO25*AO26)
M28: =IF(M25="","",M26) | N28: =IF(N25="","",N26) | O28: =IF(O25="","",O26) | P28: =IF(P25="","",P26) | Q28: =IF(Q25="","",Q26) | R28: =IF(R25="","",R26) | S28: =IF(S25="","",S26) | T28: =IF(T25="","",T26) | AH28: =IF(AH25="","",AH26) | AI28: =IF(AI25="","",AI26) | AJ28: =IF(AJ25="","",AJ26) | AK28: =IF(AK25="","",AK26) | AL28: =IF(AL25="","",AL26) | AM28: =IF(AM25="","",AM26) | AN28: =IF(AN25="","",AN26) | AO28: =IF(AO25="","",AO26)
C29: Mathematik | E29: =Tab!E29 -> 1 | F29: zu 1 | H29: =IF(Tab!H29="","",Tab!H29) | I29: =IF(Tab!I29="","",Tab!I29) | J29: =IF(AND(H29="",I29=""),"",AVERAGE(H29:I29)) | L29: Note | M29: =IF(Tab!M29="","",Tab!M29) | N29: =IF(Tab!N29="","",Tab!N29) | O29: =IF(Tab!O29="","",Tab!O29) | P29: =IF(Tab!P29="","",Tab!P29) | Q29: =IF(Tab!Q29="","",Tab!Q29) | R29: =IF(Tab!R29="","",Tab!R29) | S29: =IF(Tab!S29="","",Tab!S29) | T29: =IF(Tab!T29="","",Tab!T29) | U29: =IF(ISERROR(SUM(M31:T31)/SUM(M32:T32)),"",SUM(M31:T31)/SUM(M32:T32)) | W29: =IF(AND(J29="",U29=""),"",IF(J29="",U29,IF(U29="",J29,(J29*E29+U29)/(E29+1)))) | X29: =IF(W29="","",IF(W29<1,0,ROUND(W29,0))) | Y29: =IF(X29="","",15) | Z29: 1 | AA29: zu 1 | AC29: =IF(Tab!AC29="","",Tab!AC29) | AD29: =IF(Tab!AD29="","",Tab!AD29) | AE29: =IF(AND(AC29="",AD29=""),"",AVERAGE(AC29:AD29)) | AG29: Note | AH29: =IF(Tab!AH29="","",Tab!AH29) | AI29: =IF(Tab!AI29="","",Tab!AI29) | AJ29: =IF(Tab!AJ29="","",Tab!AJ29) | AK29: =IF(Tab!AK29="","",Tab!AK29) | AL29: =IF(Tab!AL29="","",Tab!AL29) | AM29: =IF(Tab!AM29="","",Tab!AM29) | AN29: =IF(Tab!AN29="","",Tab!AN29) | AO29: =IF(Tab!AO29="","",Tab!AO29) | AP29: =IF(ISERROR(SUM(AH31:AO31)/SUM(AH32:AO32)),"",SUM(AH31:AO31)/SUM(AH32:AO32)) | AR29: =IF(AND(AE29="",AP29=""),"",IF(AE29="",AP29,IF(AP29="",AE29,(AE29*Z29+AP29)/(Z29+1)))) | AS29: =IF(AR29="","",IF(AR29<1,0,ROUND(AR29,0))) | AT29: =IF(AS29="","",15) | AU29: =COUNT(M29:T29,AH29:AO29) -> 0 | AV29: =COUNT(M30:T30,AH30:AO30) -> 0 | AW29: =IF(AU29=AV29,0,1) -> 0
L30: Gewicht | M30: =IF(Tab!M30="","",Tab!M30) | N30: =IF(Tab!N30="","",Tab!N30) | O30: =IF(Tab!O30="","",Tab!O30) | P30: =IF(Tab!P30="","",Tab!P30) | Q30: =IF(Tab!Q30="","",Tab!Q30) | R30: =IF(Tab!R30="","",Tab!R30) | S30: =IF(Tab!S30="","",Tab!S30) | T30: =IF(Tab!T30="","",Tab!T30) | AG30: Gewicht | AH30: =IF(Tab!AH30="","",Tab!AH30) | AI30: =IF(Tab!AI30="","",Tab!AI30) | AJ30: =IF(Tab!AJ30="","",Tab!AJ30) | AK30: =IF(Tab!AK30="","",Tab!AK30) | AL30: =IF(Tab!AL30="","",Tab!AL30) | AM30: =IF(Tab!AM30="","",Tab!AM30) | AN30: =IF(Tab!AN30="","",Tab!AN30) | AO30: =IF(Tab!AO30="","",Tab!AO30)
M31: =IF(M29="","",M29*M30) | N31: =IF(N29="","",N29*N30) | O31: =IF(O29="","",O29*O30) | P31: =IF(P29="","",P29*P30) | Q31: =IF(Q29="","",Q29*Q30) | R31: =IF(R29="","",R29*R30) | S31: =IF(S29="","",S29*S30) | T31: =IF(T29="","",T29*T30) | AH31: =IF(AH29="","",AH29*AH30) | AI31: =IF(AI29="","",AI29*AI30) | AJ31: =IF(AJ29="","",AJ29*AJ30) | AK31: =IF(AK29="","",AK29*AK30) | AL31: =IF(AL29="","",AL29*AL30) | AM31: =IF(AM29="","",AM29*AM30) | AN31: =IF(AN29="","",AN29*AN30) | AO31: =IF(AO29="","",AO29*AO30)
M32: =IF(M29="","",M30) | N32: =IF(N29="","",N30) | O32: =IF(O29="","",O30) | P32: =IF(P29="","",P30) | Q32: =IF(Q29="","",Q30) | R32: =IF(R29="","",R30) | S32: =IF(S29="","",S30) | T32: =IF(T29="","",T30) | AH32: =IF(AH29="","",AH30) | AI32: =IF(AI29="","",AI30) | AJ32: =IF(AJ29="","",AJ30) | AK32: =IF(AK29="","",AK30) | AL32: =IF(AL29="","",AL30) | AM32: =IF(AM29="","",AM30) | AN32: =IF(AN29="","",AN30) | AO32: =IF(AO29="","",AO30)
C33: Profilfach | E33: =Tab!E33 -> 1 | F33: zu 1 | H33: =IF(Tab!H33="","",Tab!H33) | I33: =IF(Tab!I33="","",Tab!I33) | J33: =IF(AND(H33="",I33=""),"",AVERAGE(H33:I33)) | L33: Note | M33: =IF(Tab!M33="","",Tab!M33) | N33: =IF(Tab!N33="","",Tab!N33) | O33: =IF(Tab!O33="","",Tab!O33) | P33: =IF(Tab!P33="","",Tab!P33) | Q33: =IF(Tab!Q33="","",Tab!Q33) | R33: =IF(Tab!R33="","",Tab!R33) | S33: =IF(Tab!S33="","",Tab!S33) | T33: =IF(Tab!T33="","",Tab!T33) | U33: =IF(ISERROR(SUM(M35:T35)/SUM(M36:T36)),"",SUM(M35:T35)/SUM(M36:T36)) | W33: =IF(AND(J33="",U33=""),"",IF(J33="",U33,IF(U33="",J33,(J33*E33+U33)/(E33+1)))) | X33: =IF(W33="","",IF(W33<1,0,ROUND(W33,0))) | Y33: =IF(X33="","",15) | Z33: 1 | AA33: zu 1 | AC33: =IF(Tab!AC33="","",Tab!AC33) | AD33: =IF(Tab!AD33="","",Tab!AD33) | AE33: =IF(AND(AC33="",AD33=""),"",AVERAGE(AC33:AD33)) | AG33: Note | AH33: =IF(Tab!AH33="","",Tab!AH33) | AI33: =IF(Tab!AI33="","",Tab!AI33) | AJ33: =IF(Tab!AJ33="","",Tab!AJ33) | AK33: =IF(Tab!AK33="","",Tab!AK33) | AL33: =IF(Tab!AL33="","",Tab!AL33) | AM33: =IF(Tab!AM33="","",Tab!AM33) | AN33: =IF(Tab!AN33="","",Tab!AN33) | AO33: =IF(Tab!AO33="","",Tab!AO33) | AP33: =IF(ISERROR(SUM(AH35:AO35)/SUM(AH36:AO36)),"",SUM(AH35:AO35)/SUM(AH36:AO36)) | AR33: =IF(AND(AE33="",AP33=""),"",IF(AE33="",AP33,IF(AP33="",AE33,(AE33*Z33+AP33)/(Z33+1)))) | AS33: =IF(AR33="","",IF(AR33<1,0,ROUND(AR33,0))) | AT33: =IF(AS33="","",15) | AU33: =COUNT(M33:T33,AH33:AO33) -> 0 | AV33: =COUNT(M34:T34,AH34:AO34) -> 0 | AW33: =IF(AU33=AV33,0,1) -> 0
L34: Gewicht | M34: =IF(Tab!M34="","",Tab!M34) | N34: =IF(Tab!N34="","",Tab!N34) | O34: =IF(Tab!O34="","",Tab!O34) | P34: =IF(Tab!P34="","",Tab!P34) | Q34: =IF(Tab!Q34="","",Tab!Q34) | R34: =IF(Tab!R34="","",Tab!R34) | S34: =IF(Tab!S34="","",Tab!S34) | T34: =IF(Tab!T34="","",Tab!T34) | AG34: Gewicht | AH34: =IF(Tab!AH34="","",Tab!AH34) | AI34: =IF(Tab!AI34="","",Tab!AI34) | AJ34: =IF(Tab!AJ34="","",Tab!AJ34) | AK34: =IF(Tab!AK34="","",Tab!AK34) | AL34: =IF(Tab!AL34="","",Tab!AL34) | AM34: =IF(Tab!AM34="","",Tab!AM34) | AN34: =IF(Tab!AN34="","",Tab!AN34) | AO34: =IF(Tab!AO34="","",Tab!AO34)
M35: =IF(M33="","",M33*M34) | N35: =IF(N33="","",N33*N34) | O35: =IF(O33="","",O33*O34) | P35: =IF(P33="","",P33*P34) | Q35: =IF(Q33="","",Q33*Q34) | R35: =IF(R33="","",R33*R34) | S35: =IF(S33="","",S33*S34) | T35: =IF(T33="","",T33*T34) | AH35: =IF(AH33="","",AH33*AH34) | AI35: =IF(AI33="","",AI33*AI34) | AJ35: =IF(AJ33="","",AJ33*AJ34) | AK35: =IF(AK33="","",AK33*AK34) | AL35: =IF(AL33="","",AL33*AL34) | AM35: =IF(AM33="","",AM33*AM34) | AN35: =IF(AN33="","",AN33*AN34) | AO35: =IF(AO33="","",AO33*AO34)
M36: =IF(M33="","",M34) | N36: =IF(N33="","",N34) | O36: =IF(O33="","",O34) | P36: =IF(P33="","",P34) | Q36: =IF(Q33="","",Q34) | R36: =IF(R33="","",R34) | S36: =IF(S33="","",S34) | T36: =IF(T33="","",T34) | AH36: =IF(AH33="","",AH34) | AI36: =IF(AI33="","",AI34) | AJ36: =IF(AJ33="","",AJ34) | AK36: =IF(AK33="","",AK34) | AL36: =IF(AL33="","",AL34) | AM36: =IF(AM33="","",AM34) | AN36: =IF(AN33="","",AN34) | AO36: =IF(AO33="","",AO34)
C37: Fach | E37: =Tab!E37 -> 1 | F37: zu 1 | H37: =IF(Tab!H37="","",Tab!H37) | I37: =IF(Tab!I37="","",Tab!I37) | J37: =IF(AND(H37="",I37=""),"",AVERAGE(H37:I37)) | L37: Note | M37: =IF(Tab!M37="","",Tab!M37) | N37: =IF(Tab!N37="","",Tab!N37) | O37: =IF(Tab!O37="","",Tab!O37) | P37: =IF(Tab!P37="","",Tab!P37) | Q37: =IF(Tab!Q37="","",Tab!Q37) | R37: =IF(Tab!R37="","",Tab!R37) | S37: =IF(Tab!S37="","",Tab!S37) | T37: =IF(Tab!T37="","",Tab!T37) | U37: =IF(ISERROR(SUM(M39:T39)/SUM(M40:T40)),"",SUM(M39:T39)/SUM(M40:T40)) | W37: =IF(AND(J37="",U37=""),"",IF(J37="",U37,IF(U37="",J37,(J37*E37+U37)/(E37+1)))) | X37: =IF(W37="","",IF(W37<1,0,ROUND(W37,0))) | Y37: =IF(X37="","",15) | Z37: 1 | AA37: zu 1 | AC37: =IF(Tab!AC37="","",Tab!AC37) | AD37: =IF(Tab!AD37="","",Tab!AD37) | AE37: =IF(AND(AC37="",AD37=""),"",AVERAGE(AC37:AD37)) | AG37: Note | AH37: =IF(Tab!AH37="","",Tab!AH37) | AI37: =IF(Tab!AI37="","",Tab!AI37) | AJ37: =IF(Tab!AJ37="","",Tab!AJ37) | AK37: =IF(Tab!AK37="","",Tab!AK37) | AL37: =IF(Tab!AL37="","",Tab!AL37) | AM37: =IF(Tab!AM37="","",Tab!AM37) | AN37: =IF(Tab!AN37="","",Tab!AN37) | AO37: =IF(Tab!AO37="","",Tab!AO37) | AP37: =IF(ISERROR(SUM(AH39:AO39)/SUM(AH40:AO40)),"",SUM(AH39:AO39)/SUM(AH40:AO40)) | AR37: =IF(AND(AE37="",AP37=""),"",IF(AE37="",AP37,IF(AP37="",AE37,(AE37*Z37+AP37)/(Z37+1)))) | AS37: =IF(AR37="","",IF(AR37<1,0,ROUND(AR37,0))) | AT37: =IF(AS37="","",15) | AU37: =COUNT(M37:T37,AH37:AO37) -> 0 | AV37: =COUNT(M38:T38,AH38:AO38) -> 0 | AW37: =IF(AU37=AV37,0,1) -> 0
L38: Gewicht | M38: =IF(Tab!M38="","",Tab!M38) | N38: =IF(Tab!N38="","",Tab!N38) | O38: =IF(Tab!O38="","",Tab!O38) | P38: =IF(Tab!P38="","",Tab!P38) | Q38: =IF(Tab!Q38="","",Tab!Q38) | R38: =IF(Tab!R38="","",Tab!R38) | S38: =IF(Tab!S38="","",Tab!S38) | T38: =IF(Tab!T38="","",Tab!T38) | AG38: Gewicht | AH38: =IF(Tab!AH38="","",Tab!AH38) | AI38: =IF(Tab!AI38="","",Tab!AI38) | AJ38: =IF(Tab!AJ38="","",Tab!AJ38) | AK38: =IF(Tab!AK38="","",Tab!AK38) | AL38: =IF(Tab!AL38="","",Tab!AL38) | AM38: =IF(Tab!AM38="","",Tab!AM38) | AN38: =IF(Tab!AN38="","",Tab!AN38) | AO38: =IF(Tab!AO38="","",Tab!AO38)
M39: =IF(M37="","",M37*M38) | N39: =IF(N37="","",N37*N38) | O39: =IF(O37="","",O37*O38) | P39: =IF(P37="","",P37*P38) | Q39: =IF(Q37="","",Q37*Q38) | R39: =IF(R37="","",R37*R38) | S39: =IF(S37="","",S37*S38) | T39: =IF(T37="","",T37*T38) | AH39: =IF(AH37="","",AH37*AH38) | AI39: =IF(AI37="","",AI37*AI38) | AJ39: =IF(AJ37="","",AJ37*AJ38) | AK39: =IF(AK37="","",AK37*AK38) | AL39: =IF(AL37="","",AL37*AL38) | AM39: =IF(AM37="","",AM37*AM38) | AN39: =IF(AN37="","",AN37*AN38) | AO39: =IF(AO37="","",AO37*AO38)
M40: =IF(M37="","",M38) | N40: =IF(N37="","",N38) | O40: =IF(O37="","",O38) | P40: =IF(P37="","",P38) | Q40: =IF(Q37="","",Q38) | R40: =IF(R37="","",R38) | S40: =IF(S37="","",S38) | T40: =IF(T37="","",T38) | AH40: =IF(AH37="","",AH38) | AI40: =IF(AI37="","",AI38) | AJ40: =IF(AJ37="","",AJ38) | AK40: =IF(AK37="","",AK38) | AL40: =IF(AL37="","",AL38) | AM40: =IF(AM37="","",AM38) | AN40: =IF(AN37="","",AN38) | AO40: =IF(AO37="","",AO38)
C41: Fach | E41: =Tab!E41 -> 1 | F41: zu 1 | H41: =IF(Tab!H41="","",Tab!H41) | I41: =IF(Tab!I41="","",Tab!I41) | J41: =IF(AND(H41="",I41=""),"",AVERAGE(H41:I41)) | L41: Note | M41: =IF(Tab!M41="","",Tab!M41) | N41: =IF(Tab!N41="","",Tab!N41) | O41: =IF(Tab!O41="","",Tab!O41) | P41: =IF(Tab!P41="","",Tab!P41) | Q41: =IF(Tab!Q41="","",Tab!Q41) | R41: =IF(Tab!R41="","",Tab!R41) | S41: =IF(Tab!S41="","",Tab!S41) | T41: =IF(Tab!T41="","",Tab!T41) | U41: =IF(ISERROR(SUM(M43:T43)/SUM(M44:T44)),"",SUM(M43:T43)/SUM(M44:T44)) | W41: =IF(AND(J41="",U41=""),"",IF(J41="",U41,IF(U41="",J41,(J41*E41+U41)/(E41+1)))) | X41: =IF(W41="","",IF(W41<1,0,ROUND(W41,0))) | Y41: =IF(X41="","",15) | Z41: 1 | AA41: zu 1 | AC41: =IF(Tab!AC41="","",Tab!AC41) | AD41: =IF(Tab!AD41="","",Tab!AD41) | AE41: =IF(AND(AC41="",AD41=""),"",AVERAGE(AC41:AD41)) | AG41: Note | AH41: =IF(Tab!AH41="","",Tab!AH41) | AI41: =IF(Tab!AI41="","",Tab!AI41) | AJ41: =IF(Tab!AJ41="","",Tab!AJ41) | AK41: =IF(Tab!AK41="","",Tab!AK41) | AL41: =IF(Tab!AL41="","",Tab!AL41) | AM41: =IF(Tab!AM41="","",Tab!AM41) | AN41: =IF(Tab!AN41="","",Tab!AN41) | AO41: =IF(Tab!AO41="","",Tab!AO41) | AP41: =IF(ISERROR(SUM(AH43:AO43)/SUM(AH44:AO44)),"",SUM(AH43:AO43)/SUM(AH44:AO44)) | AR41: =IF(AND(AE41="",AP41=""),"",IF(AE41="",AP41,IF(AP41="",AE41,(AE41*Z41+AP41)/(Z41+1)))) | AS41: =IF(AR41="","",IF(AR41<1,0,ROUND(AR41,0))) | AT41: =IF(AS41="","",15) | AU41: =COUNT(M41:T41,AH41:AO41) -> 0 | AV41: =COUNT(M42:T42,AH42:AO42) -> 0 | AW41: =IF(AU41=AV41,0,1) -> 0
L42: Gewicht | M42: =IF(Tab!M42="","",Tab!M42) | N42: =IF(Tab!N42="","",Tab!N42) | O42: =IF(Tab!O42="","",Tab!O42) | P42: =IF(Tab!P42="","",Tab!P42) | Q42: =IF(Tab!Q42="","",Tab!Q42) | R42: =IF(Tab!R42="","",Tab!R42) | S42: =IF(Tab!S42="","",Tab!S42) | T42: =IF(Tab!T42="","",Tab!T42) | AG42: Gewicht | AH42: =IF(Tab!AH42="","",Tab!AH42) | AI42: =IF(Tab!AI42="","",Tab!AI42) | AJ42: =IF(Tab!AJ42="","",Tab!AJ42) | AK42: =IF(Tab!AK42="","",Tab!AK42) | AL42: =IF(Tab!AL42="","",Tab!AL42) | AM42: =IF(Tab!AM42="","",Tab!AM42) | AN42: =IF(Tab!AN42="","",Tab!AN42) | AO42: =IF(Tab!AO42="","",Tab!AO42)
...

Sheet wichtige Hinweise
