Workbook

Sheet Tab
C2: Achtung! Beta-Version keine Garantie!! Empfehlung: Ergebnisse selber kontrollieren!! Autor: Franz Besl, FOSBOS Landshut; siehe auch Tabelle: "wichtige Hinweise"
B3: Name | F3: Vorname | J3: Fachrichtung | M3: Klasse | R3: Punktesumme Halbjahr 1 | U3: erreicht | V3: von | W3: max | Z3: mein Notenbuch | AM3: Punktesumme Halbjahr 2 | AP3: erreicht | AQ3: von | AR3: max
B4: Heinz | F4: Maxi | J4: Sozial | M4: FS11c | U4: =SUM(X9:X47) -> 0 | W4: =Tab_Hinter01!Y4 -> 0 | AP4: =SUM(AS9:AS47) -> 0 | AR4: =Tab_Hinter01!AT4 -> 0
E5: Halbjahr 1 | Z5: Halbjahr 2
E6: Gewicht: SchA zu sonstigen Noten | H6: Schulaufgabe | K6: sonstige Noten | V6: Gesamt | Z6: Gewicht: SchA zu sonstigen Noten | AC6: Schulaufgabe | AF6: sonstige Noten | AQ6: Gesamt
M7: Kurzarbeit/Exen | Q7: mündlich | U7: Durch-schnitt | W7: unger. | X7: ger. | AH7: Kurzarbeit/Exen | AL7: mündlich | AP7: Durch-schnitt | AR7: unger. | AS7: ger.
B8: Fächername | H8: 1 | I8: 2 | J8: Durch-schnitt | M8: 1 | N8: 2 | O8: 3 | P8: 4 | Q8: 1 | R8: 2 | S8: 3 | T8: 4 | AC8: 1 | AD8: 2 | AE8: Durch-schnitt | AH8: 1 | AI8: 2 | AJ8: 3 | AK8: 4 | AL8: 1 | AM8: 2 | AN8: 3 | AO8: 4
B9: 1 | C9: Religionslehre/ Ethik | E9: 1 | F9: zu 1 | J9: =Tab_Hinter01!J9 | L9: Note | U9: =Tab_Hinter01!U9 | W9: =Tab_Hinter01!W9 | X9: =Tab_Hinter01!X9 | Z9: 1 | AA9: zu 1 | AE9: =Tab_Hinter01!AE9 | AG9: Note | AP9: =Tab_Hinter01!AP9 | AR9: =Tab_Hinter01!AR9 | AS9: =Tab_Hinter01!AS9
L10: Gewicht | AG10: Gewicht
M11: =IF(M9="","",M9*M10) | N11: =IF(N9="","",N9*N10) | O11: =IF(O9="","",O9*O10) | P11: =IF(P9="","",P9*P10) | Q11: =IF(Q9="","",Q9*Q10) | R11: =IF(R9="","",R9*R10) | S11: =IF(S9="","",S9*S10) | T11: =IF(T9="","",T9*T10) | AH11: =IF(AH9="","",AH9*AH10) | AI11: =IF(AI9="","",AI9*AI10) | AJ11: =IF(AJ9="","",AJ9*AJ10) | AK11: =IF(AK9="","",AK9*AK10) | AL11: =IF(AL9="","",AL9*AL10) | AM11: =IF(AM9="","",AM9*AM10) | AN11: =IF(AN9="","",AN9*AN10) | AO11: =IF(AO9="","",AO9*AO10)
M12: =IF(M9="","",M10) | N12: =IF(N9="","",N10) | O12: =IF(O9="","",O10) | P12: =IF(P9="","",P10) | Q12: =IF(Q9="","",Q10) | R12: =IF(R9="","",R10) | S12: =IF(S9="","",S10) | T12: =IF(T9="","",T10) | AH12: =IF(AH9="","",AH10) | AI12: =IF(AI9="","",AI10) | AJ12: =IF(AJ9="","",AJ10) | AK12: =IF(AK9="","",AK10) | AL12: =IF(AL9="","",AL10) | AM12: =IF(AM9="","",AM10) | AN12: =IF(AN9="","",AN10) | AO12: =IF(AO9="","",AO10)
B13: 2 | C13: Deutsch | E13: 1 | F13: zu 1 | J13: =Tab_Hinter01!J13 | L13: Note | U13: =Tab_Hinter01!U13 | W13: =Tab_Hinter01!W13 | X13: =Tab_Hinter01!X13 | Z13: 1 | AA13: zu 1 | AE13: =Tab_Hinter01!AE13 | AG13: Note | AP13: =Tab_Hinter01!AP13 | AR13: =Tab_Hinter01!AR13 | AS13: =Tab_Hinter01!AS13
L14: Gewicht | AG14: Gewicht
M15: =IF(M13="","",M13*M14) | N15: =IF(N13="","",N13*N14) | O15: =IF(O13="","",O13*O14) | P15: =IF(P13="","",P13*P14) | Q15: =IF(Q13="","",Q13*Q14) | R15: =IF(R13="","",R13*R14) | S15: =IF(S13="","",S13*S14) | T15: =IF(T13="","",T13*T14) | AH15: =IF(AH13="","",AH13*AH14) | AI15: =IF(AI13="","",AI13*AI14) | AJ15: =IF(AJ13="","",AJ13*AJ14) | AK15: =IF(AK13="","",AK13*AK14) | AL15: =IF(AL13="","",AL13*AL14) | AM15: =IF(AM13="","",AM13*AM14) | AN15: =IF(AN13="","",AN13*AN14) | AO15: =IF(AO13="","",AO13*AO14)
M16: =IF(M13="","",M14) | N16: =IF(N13="","",N14) | O16: =IF(O13="","",O14) | P16: =IF(P13="","",P14) | Q16: =IF(Q13="","",Q14) | R16: =IF(R13="","",R14) | S16: =IF(S13="","",S14) | T16: =IF(T13="","",T14) | AH16: =IF(AH13="","",AH14) | AI16: =IF(AI13="","",AI14) | AJ16: =IF(AJ13="","",AJ14) | AK16: =IF(AK13="","",AK14) | AL16: =IF(AL13="","",AL14) | AM16: =IF(AM13="","",AM14) | AN16: =IF(AN13="","",AN14) | AO16: =IF(AO13="","",AO14)
B17: 3 | C17: Englisch | E17: 1 | F17: zu 1 | J17: =Tab_Hinter01!J17 | L17: Note | U17: =Tab_Hinter01!U17 | W17: =Tab_Hinter01!W17 | X17: =Tab_Hinter01!X17 | Z17: 1 | AA17: zu 1 | AE17: =Tab_Hinter01!AE17 | AG17: Note | AP17: =Tab_Hinter01!AP17 | AR17: =Tab_Hinter01!AR17 | AS17: =Tab_Hinter01!AS17
L18: Gewicht | AG18: Gewicht
M19: =IF(M17="","",M17*M18) | N19: =IF(N17="","",N17*N18) | O19: =IF(O17="","",O17*O18) | P19: =IF(P17="","",P17*P18) | Q19: =IF(Q17="","",Q17*Q18) | R19: =IF(R17="","",R17*R18) | S19: =IF(S17="","",S17*S18) | T19: =IF(T17="","",T17*T18) | AH19: =IF(AH17="","",AH17*AH18) | AI19: =IF(AI17="","",AI17*AI18) | AJ19: =IF(AJ17="","",AJ17*AJ18) | AK19: =IF(AK17="","",AK17*AK18) | AL19: =IF(AL17="","",AL17*AL18) | AM19: =IF(AM17="","",AM17*AM18) | AN19: =IF(AN17="","",AN17*AN18) | AO19: =IF(AO17="","",AO17*AO18)
M20: =IF(M17="","",M18) | N20: =IF(N17="","",N18) | O20: =IF(O17="","",O18) | P20: =IF(P17="","",P18) | Q20: =IF(Q17="","",Q18) | R20: =IF(R17="","",R18) | S20: =IF(S17="","",S18) | T20: =IF(T17="","",T18) | AH20: =IF(AH17="","",AH18) | AI20: =IF(AI17="","",AI18) | AJ20: =IF(AJ17="","",AJ18) | AK20: =IF(AK17="","",AK18) | AL20: =IF(AL17="","",AL18) | AM20: =IF(AM17="","",AM18) | AN20: =IF(AN17="","",AN18) | AO20: =IF(AO17="","",AO18)
B21: 4 | C21: Geschichte | E21: 1 | F21: zu 1 | J21: =Tab_Hinter01!J21 | L21: Note | U21: =Tab_Hinter01!U21 | W21: =Tab_Hinter01!W21 | X21: =Tab_Hinter01!X21 | Z21: 1 | AA21: zu 1 | AE21: =Tab_Hinter01!AE21 | AG21: Note | AP21: =Tab_Hinter01!AP21 | AR21: =Tab_Hinter01!AR21 | AS21: =Tab_Hinter01!AS21
L22: Gewicht | AG22: Gewicht
M23: =IF(M21="","",M21*M22) | N23: =IF(N21="","",N21*N22) | O23: =IF(O21="","",O21*O22) | P23: =IF(P21="","",P21*P22) | Q23: =IF(Q21="","",Q21*Q22) | R23: =IF(R21="","",R21*R22) | S23: =IF(S21="","",S21*S22) | T23: =IF(T21="","",T21*T22) | AH23: =IF(AH21="","",AH21*AH22) | AI23: =IF(AI21="","",AI21*AI22) | AJ23: =IF(AJ21="","",AJ21*AJ22) | AK23: =IF(AK21="","",AK21*AK22) | AL23: =IF(AL21="","",AL21*AL22) | AM23: =IF(AM21="","",AM21*AM22) | AN23: =IF(AN21="","",AN21*AN22) | AO23: =IF(AO21="","",AO21*AO22)
M24: =IF(M21="","",M22) | N24: =IF(N21="","",N22) | O24: =IF(O21="","",O22) | P24: =IF(P21="","",P22) | Q24: =IF(Q21="","",Q22) | R24: =IF(R21="","",R22) | S24: =IF(S21="","",S22) | T24: =IF(T21="","",T22) | AH24: =IF(AH21="","",AH22) | AI24: =IF(AI21="","",AI22) | AJ24: =IF(AJ21="","",AJ22) | AK24: =IF(AK21="","",AK22) | AL24: =IF(AL21="","",AL22) | AM24: =IF(AM21="","",AM22) | AN24: =IF(AN21="","",AN22) | AO24: =IF(AO21="","",AO22)
B25: 5 | C25: Sozialkunde | E25: 1 | F25: zu 1 | J25: =Tab_Hinter01!J25 | L25: Note | U25: =Tab_Hinter01!U25 | W25: =Tab_Hinter01!W25 | X25: =Tab_Hinter01!X25 | Z25: 2 | AA25: zu 1 | AE25: =Tab_Hinter01!AE25 | AG25: Note | AP25: =Tab_Hinter01!AP25 | AR25: =Tab_Hinter01!AR25 | AS25: =Tab_Hinter01!AS25
L26: Gewicht | AG26: Gewicht
M27: =IF(M25="","",M25*M26) | N27: =IF(N25="","",N25*N26) | O27: =IF(O25="","",O25*O26) | P27: =IF(P25="","",P25*P26) | Q27: =IF(Q25="","",Q25*Q26) | R27: =IF(R25="","",R25*R26) | S27: =IF(S25="","",S25*S26) | T27: =IF(T25="","",T25*T26) | AH27: =IF(AH25="","",AH25*AI25) | AI27: =IF(#REF!="","",#REF!*AI26) -> #REF! | AJ27: =IF(AJ25="","",AJ25*AJ26) | AK27: =IF(AK25="","",AK25*AK26) | AL27: =IF(AL25="","",AL25*AL26) | AM27: =IF(AM25="","",AM25*AM26) | AN27: =IF(AN25="","",AN25*AN26) | AO27: =IF(AO25="","",AO25*AO26)
M28: =IF(M25="","",M26) | N28: =IF(N25="","",N26) | O28: =IF(O25="","",O26) | P28: =IF(P25="","",P26) | Q28: =IF(Q25="","",Q26) | R28: =IF(R25="","",R26) | S28: =IF(S25="","",S26) | T28: =IF(T25="","",T26) | AH28: =IF(AH25="","",AI25) | AI28: =IF(#REF!="","",AI26) -> #REF! | AJ28: =IF(AJ25="","",AJ26) | AK28: =IF(AK25="","",AK26) | AL28: =IF(AL25="","",AL26) | AM28: =IF(AM25="","",AM26) | AN28: =IF(AN25="","",AN26) | AO28: =IF(AO25="","",AO26)
B29: 6 | C29: Mathematik | E29: 1 | F29: zu 1 | J29: =Tab_Hinter01!J29 | L29: Note | U29: =Tab_Hinter01!U29 | W29: =Tab_Hinter01!W29 | X29: =Tab_Hinter01!X29 | Z29: 1 | AA29: zu 1 | AE29: =Tab_Hinter01!AE29 | AG29: Note | AP29: =Tab_Hinter01!AP29 | AR29: =Tab_Hinter01!AR29 | AS29: =Tab_Hinter01!AS29
L30: Gewicht | AG30: Gewicht
M31: =IF(M29="","",M29*M30) | N31: =IF(N29="","",N29*N30) | O31: =IF(O29="","",O29*O30) | P31: =IF(P29="","",P29*P30) | Q31: =IF(Q29="","",Q29*Q30) | R31: =IF(R29="","",R29*R30) | S31: =IF(S29="","",S29*S30) | T31: =IF(T29="","",T29*T30) | AH31: =IF(AH29="","",AH29*AH30) | AI31: =IF(AI29="","",AI29*AI30) | AJ31: =IF(AJ29="","",AJ29*AJ30) | AK31: =IF(AK29="","",AK29*AK30) | AL31: =IF(AL29="","",AL29*AL30) | AM31: =IF(AM29="","",AM29*AM30) | AN31: =IF(AN29="","",AN29*AN30) | AO31: =IF(AO29="","",AO29*AO30)
M32: =IF(M29="","",M30) | N32: =IF(N29="","",N30) | O32: =IF(O29="","",O30) | P32: =IF(P29="","",P30) | Q32: =IF(Q29="","",Q30) | R32: =IF(R29="","",R30) | S32: =IF(S29="","",S30) | T32: =IF(T29="","",T30) | AH32: =IF(AH29="","",AH30) | AI32: =IF(AI29="","",AI30) | AJ32: =IF(AJ29="","",AJ30) | AK32: =IF(AK29="","",AK30) | AL32: =IF(AL29="","",AL30) | AM32: =IF(AM29="","",AM30) | AN32: =IF(AN29="","",AN30) | AO32: =IF(AO29="","",AO30)
B33: 7 | C33: Profilfach | E33: 1 | F33: zu 1 | J33: =Tab_Hinter01!J33 | L33: Note | U33: =Tab_Hinter01!U33 | W33: =Tab_Hinter01!W33 | X33: =Tab_Hinter01!X33 | Z33: 1 | AA33: zu 1 | AE33: =Tab_Hinter01!AE33 | AG33: Note | AP33: =Tab_Hinter01!AP33 | AR33: =Tab_Hinter01!AR33 | AS33: =Tab_Hinter01!AS33
L34: Gewicht | AG34: Gewicht
M35: =IF(M33="","",M33*M34) | N35: =IF(N33="","",N33*N34) | O35: =IF(O33="","",O33*O34) | P35: =IF(P33="","",P33*P34) | Q35: =IF(Q33="","",Q33*Q34) | R35: =IF(R33="","",R33*R34) | S35: =IF(S33="","",S33*S34) | T35: =IF(T33="","",T33*T34) | AH35: =IF(AH33="","",AH33*AH34) | AI35: =IF(AI33="","",AI33*AI34) | AJ35: =IF(AJ33="","",AJ33*AJ34) | AK35: =IF(AK33="","",AK33*AK34) | AL35: =IF(AL33="","",AL33*AL34) | AM35: =IF(AM33="","",AM33*AM34) | AN35: =IF(AN33="","",AN33*AN34) | AO35: =IF(AO33="","",AO33*AO34)
M36: =IF(M33="","",M34) | N36: =IF(N33="","",N34) | O36: =IF(O33="","",O34) | P36: =IF(P33="","",P34) | Q36: =IF(Q33="","",Q34) | R36: =IF(R33="","",R34) | S36: =IF(S33="","",S34) | T36: =IF(T33="","",T34) | AH36: =IF(AH33="","",AH34) | AI36: =IF(AI33="","",AI34) | AJ36: =IF(AJ33="","",AJ34) | AK36: =IF(AK33="","",AK34) | AL36: =IF(AL33="","",AL34) | AM36: =IF(AM33="","",AM34) | AN36: =IF(AN33="","",AN34) | AO36: =IF(AO33="","",AO34)
B37: 8 | C37: Fach | E37: 1 | F37: zu 1 | J37: =Tab_Hinter01!J37 | L37: Note | U37: =Tab_Hinter01!U37 | W37: =Tab_Hinter01!W37 | X37: =Tab_Hinter01!X37 | Z37: 1 | AA37: zu 1 | AE37: =Tab_Hinter01!AE37 | AG37: Note | AP37: =Tab_Hinter01!AP37 | AR37: =Tab_Hinter01!AR37 | AS37: =Tab_Hinter01!AS37
L38: Gewicht | AG38: Gewicht
M39: =IF(M37="","",M37*M38) | N39: =IF(N37="","",N37*N38) | O39: =IF(O37="","",O37*O38) | P39: =IF(P37="","",P37*P38) | Q39: =IF(Q37="","",Q37*Q38) | R39: =IF(R37="","",R37*R38) | S39: =IF(S37="","",S37*S38) | T39: =IF(T37="","",T37*T38) | AH39: =IF(AH37="","",AH37*AH38) | AI39: =IF(AI37="","",AI37*AI38) | AJ39: =IF(AJ37="","",AJ37*AJ38) | AK39: =IF(AK37="","",AK37*AK38) | AL39: =IF(AL37="","",AL37*AL38) | AM39: =IF(AM37="","",AM37*AM38) | AN39: =IF(AN37="","",AN37*AN38) | AO39: =IF(AO37="","",AO37*AO38)
M40: =IF(M37="","",M38) | N40: =IF(N37="","",N38) | O40: =IF(O37="","",O38) | P40: =IF(P37="","",P38) | Q40: =IF(Q37="","",Q38) | R40: =IF(R37="","",R38) | S40: =IF(S37="","",S38) | T40: =IF(T37="","",T38) | AH40: =IF(AH37="","",AH38) | AI40: =IF(AI37="","",AI38) | AJ40: =IF(AJ37="","",AJ38) | AK40: =IF(AK37="","",AK38) | AL40: =IF(AL37="","",AL38) | AM40: =IF(AM37="","",AM38) | AN40: =IF(AN37="","",AN38) | AO40: =IF(AO37="","",AO38)
B41: 9 | C41: Fach | E41: 1 | F41: zu 1 | J41: =Tab_Hinter01!J41 | L41: Note | U41: =Tab_Hinter01!U41 | W41: =Tab_Hinter01!W41 | X41: =Tab_Hinter01!X41 | Z41: 1 | AA41: zu 1 | AE41: =Tab_Hinter01!AE41 | AG41: Note | AP41: =Tab_Hinter01!AP41 | AR41: =Tab_Hinter01!AR41 | AS41: =Tab_Hinter01!AS41
L42: Gewicht | AG42: Gewicht
M43: =IF(M41="","",M41*M42) | N43: =IF(N41="","",N41*N42) | O43: =IF(O41="","",O41*O42) | P43: =IF(P41="","",P41*P42) | Q43: =IF(Q41="","",Q41*Q42) | R43: =IF(R41="","",R41*R42) | S43: =IF(S41="","",S41*S42) | T43: =IF(T41="","",T41*T42) | AH43: =IF(AH41="","",AH41*AH42) | AI43: =IF(AI41="","",AI41*AI42) | AJ43: =IF(AJ41="","",AJ41*AJ42) | AK43: =IF(AK41="","",AK41*AK42) | AL43: =IF(AL41="","",AL41*AL42) | AM43: =IF(AM41="","",AM41*AM42) | AN43: =IF(AN41="","",AN41*AN42) | AO43: =IF(AO41="","",AO41*AO42)
M44: =IF(M41="","",M42) | N44: =IF(N41="","",N42) | O44: =IF(O41="","",O42) | P44: =IF(P41="","",P42) | Q44: =IF(Q41="","",Q42) | R44: =IF(R41="","",R42) | S44: =IF(S41="","",S42) | T44: =IF(T41="","",T42) | AH44: =IF(AH41="","",AH42) | AI44: =IF(AI41="","",AI42) | AJ44: =IF(AJ41="","",AJ42) | AK44: =IF(AK41="","",AK42) | AL44: =IF(AL41="","",AL42) | AM44: =IF(AM41="","",AM42) | AN44: =IF(AN41="","",AN42) | AO44: =IF(AO41="","",AO42)
B45: 10 | C45: Fach | E45: 1 | F45: zu 1 | J45: =Tab_Hinter01!J45 | L45: Note | U45: =Tab_Hinter01!U45 | W45: =Tab_Hinter01!W45 | X45: =Tab_Hinter01!X45 | Z45: 1 | AA45: zu 1 | AE45: =Tab_Hinter01!AE45 | AG45: Note | AP45: =Tab_Hinter01!AP45 | AR45: =Tab_Hinter01!AR45 | AS45: =Tab_Hinter01!AS45
L46: Gewicht | AG46: Gewicht
M47: =IF(M45="","",M45*M46) | N47: =IF(N45="","",N45*N46) | O47: =IF(O45="","",O45*O46) | P47: =IF(P45="","",P45*P46) | Q47: =IF(Q45="","",Q45*Q46) | R47: =IF(R45="","",R45*R46) | S47: =IF(S45="","",S45*S46) | T47: =IF(T45="","",T45*T46) | AH47: =IF(AH45="","",AH45*AH46) | AI47: =IF(AI45="","",AI45*AI46) | AJ47: =IF(AJ45="","",AJ45*AJ46) | AK47: =IF(AK45="","",AK45*AK46) | AL47: =IF(AL45="","",AL45*AL46) | AM47: =IF(AM45="","",AM45*AM46) | AN47: =IF(AN45="","",AN45*AN46) | AO47: =IF(AO45="","",AO45*AO46)
M48: =IF(M45="","",M46) | N48: =IF(N45="","",N46) | O48: =IF(O45="","",O46) | P48: =IF(P45="","",P46) | Q48: =IF(Q45="","",Q46) | R48: =IF(R45="","",R46) | S48: =IF(S45="","",S46) | T48: =IF(T45="","",T46) | AH48: =IF(AH45="","",AH46) | AI48: =IF(AI45="","",AI46) | AJ48: =IF(AJ45="","",AJ46) | AK48: =IF(AK45="","",AK46) | AL48: =IF(AL45="","",AL46) | AM48: =IF(AM45="","",AM46) | AN48: =IF(AN45="","",AN46) | AO48: =IF(AO45="","",AO46)
B49: 11 | C49: Fach | E49: 1 | F49: zu 1 | J49: =Tab_Hinter01!J49 | L49: Note | U49: =Tab_Hinter01!U49 | W49: =Tab_Hinter01!W49 | X49: =Tab_Hinter01!X49 | Z49: 1 | AA49: zu 1 | AE49: =Tab_Hinter01!AE49 | AG49: Note | AP49: =Tab_Hinter01!AP49 | AR49: =Tab_Hinter01!AR49 | AS49: =Tab_Hinter01!AS49
L50: Gewicht | AG50: Gewicht
M51: =IF(M49="","",M49*M50) | N51: =IF(N49="","",N49*N50) | O51: =IF(O49="","",O49*O50) | P51: =IF(P49="","",P49*P50) | Q51: =IF(Q49="","",Q49*Q50) | R51: =IF(R49="","",R49*R50) | S51: =IF(S49="","",S49*S50) | T51: =IF(T49="","",T49*T50) | AH51: =IF(AH49="","",AH49*AH50) | AI51: =IF(AI49="","",AI49*AI50) | AJ51: =IF(AJ49="","",AJ49*AJ50) | AK51: =IF(AK49="","",AK49*AK50) | AL51: =IF(AL49="","",AL49*AL50) | AM51: =IF(AM49="","",AM49*AM50) | AN51: =IF(AN49="","",AN49*AN50) | AO51: =IF(AO49="","",AO49*AO50)
M52: =IF(M49="","",M50) | N52: =IF(N49="","",N50) | O52: =IF(O49="","",O50) | P52: =IF(P49="","",P50) | Q52: =IF(Q49="","",Q50) | R52: =IF(R49="","",R50) | S52: =IF(S49="","",S50) | T52: =IF(T49="","",T50) | AH52: =IF(AH49="","",AH50) | AI52: =IF(AI49="","",AI50) | AJ52: =IF(AJ49="","",AJ50) | AK52: =IF(AK49="","",AK50) | AL52: =IF(AL49="","",AL50) | AM52: =IF(AM49="","",AM50) | AN52: =IF(AN49="","",AN50) | AO52: =IF(AO49="","",AO50)
B53: 12 | C53: Fach | E53: 1 | F53: zu 1 | J53: =Tab_Hinter01!J53 | L53: Note | U53: =Tab_Hinter01!U53 | W53: =Tab_Hinter01!W53 | X53: =Tab_Hinter01!X53 | Z53: 1 | AA53: zu 1 | AE53: =Tab_Hinter01!AE53 | AG53: Note | AP53: =Tab_Hinter01!AP53 | AR53: =Tab_Hinter01!AR53 | AS53: =Tab_Hinter01!AS53
L54: Gewicht | AG54: Gewicht
M55: =IF(M53="","",M53*M54) | N55: =IF(N53="","",N53*N54) | O55: =IF(O53="","",O53*O54) | P55: =IF(P53="","",P53*P54) | Q55: =IF(Q53="","",Q53*Q54) | R55: =IF(R53="","",R53*R54) | S55: =IF(S53="","",S53*S54) | T55: =IF(T53="","",T53*T54) | AH55: =IF(AH53="","",AH53*AH54) | AI55: =IF(AI53="","",AI53*AI54) | AJ55: =IF(AJ53="","",AJ53*AJ54) | AK55: =IF(AK53="","",AK53*AK54) | AL55: =IF(AL53="","",AL53*AL54) | AM55: =IF(AM53="","",AM53*AM54) | AN55: =IF(AN53="","",AN53*AN54) | AO55: =IF(AO53="","",AO53*AO54)
M56: =IF(M53="","",M54) | N56: =IF(N53="","",N54) | O56: =IF(O53="","",O54) | P56: =IF(P53="","",P54) | Q56: =IF(Q53="","",Q54) | R56: =IF(R53="","",R54) | S56: =IF(S53="","",S54) | T56: =IF(T53="","",T54) | AH56: =IF(AH53="","",AH54) | AI56: =IF(AI53="","",AI54) | AJ56: =IF(AJ53="","",AJ54) | AK56: =IF(AK53="","",AK54) | AL56: =IF(AL53="","",AL54) | AM56: =IF(AM53="","",AM54) | AN56: =IF(AN53="","",AN54) | AO56: =IF(AO53="","",AO54)
B57: 13 | C57: Fach | E57: 1 | F57: zu 1 | J57: =Tab_Hinter01!J57 | L57: Note | U57: =Tab_Hinter01!U57 | W57: =Tab_Hinter01!W57 | X57: =Tab_Hinter01!X57 | Z57: 1 | AA57: zu 1 | AE57: =Tab_Hinter01!AE57 | AG57: Note | AP57: =Tab_Hinter01!AP57 | AR57: =Tab_Hinter01!AR57 | AS57: =Tab_Hinter01!AS57
L58: Gewicht | AG58: Gewicht
M59: =IF(M57="","",M57*M58) | N59: =IF(N57="","",N57*N58) | O59: =IF(O57="","",O57*O58) | P59: =IF(P57="","",P57*P58) | Q59: =IF(Q57="","",Q57*Q58) | R59: =IF(R57="","",R57*R58) | S59: =IF(S57="","",S57*S58) | T59: =IF(T57="","",T57*T58) | AH59: =IF(AH57="","",AH57*AH58) | AI59: =IF(AI57="","",AI57*AI58) | AJ59: =IF(AJ57="","",AJ57*AJ58) | AK59: =IF(AK57="","",AK57*AK58) | AL59: =IF(AL57="","",AL57*AL58) | AM59: =IF(AM57="","",AM57*AM58) | AN59: =IF(AN57="","",AN57*AN58) | AO59: =IF(AO57="","",AO57*AO58)
M60: =IF(M57="","",M58) | N60: =IF(N57="","",N58) | O60: =IF(O57="","",O58) | P60: =IF(P57="","",P58) | Q60: =IF(Q57="","",Q58) | R60: =IF(R57="","",R58) | S60: =IF(S57="","",S58) | T60: =IF(T57="","",T58) | AH60: =IF(AH57="","",AH58) | AI60: =IF(AI57="","",AI58) | AJ60: =IF(AJ57="","",AJ58) | AK60: =IF(AK57="","",AK58) | AL60: =IF(AL57="","",AL58) | AM60: =IF(AM57="","",AM58) | AN60: =IF(AN57="","",AN58) | AO60: =IF(AO57="","",AO58)
B61: 14 | C61: Fach | E61: 1 | F61: zu 1 | J61: =Tab_Hinter01!J61 | L61: Note | U61: =Tab_Hinter01!U61 | W61: =Tab_Hinter01!W61 | X61: =Tab_Hinter01!X61 | Z61: 1 | AA61: zu 1 | AE61: =Tab_Hinter01!AE61 | AG61: Note | AP61: =Tab_Hinter01!AP61 | AR61: =Tab_Hinter01!AR61 | AS61: =Tab_Hinter01!AS61
L62: Gewicht | AG62: Gewicht
M63: =IF(M61="","",M61*M62) | N63: =IF(N61="","",N61*N62) | O63: =IF(O61="","",O61*O62) | P63: =IF(P61="","",P61*P62) | Q63: =IF(Q61="","",Q61*Q62) | R63: =IF(R61="","",R61*R62) | S63: =IF(S61="","",S61*S62) | T63: =IF(T61="","",T61*T62) | AH63: =IF(AH61="","",AH61*AH62) | AI63: =IF(AI61="","",AI61*AI62) | AJ63: =IF(AJ61="","",AJ61*AJ62) | AK63: =IF(AK61="","",AK61*AK62) | AL63: =IF(AL61="","",AL61*AL62) | AM63: =IF(AM61="","",AM61*AM62) | AN63: =IF(AN61="","",AN61*AN62) | AO63: =IF(AO61="","",AO61*AO62)
M64: =IF(M61="","",M62) | N64: =IF(N61="","",N62) | O64: =IF(O61="","",O62) | P64: =IF(P61="","",P62) | Q64: =IF(Q61="","",Q62) | R64: =IF(R61="","",R62) | S64: =IF(S61="","",S62) | T64: =IF(T61="","",T62) | AH64: =IF(AH61="","",AH62) | AI64: =IF(AI61="","",AI62) | AJ64: =IF(AJ61="","",AJ62) | AK64: =IF(AK61="","",AK62) | AL64: =IF(AL61="","",AL62) | AM64: =IF(AM61="","",AM62) | AN64: =IF(AN61="","",AN62) | AO64: =IF(AO61="","",AO62)
C65: © Franz Besl, FOSBOS Landshut

Sheet Tab_Hinter01
C3: Hintergrundtabelle | U3: Punktesumme Halbjahr 1 | AP3: Punktesumme Halbjahr 2
W4: =SUM(X9:X47) -> 0 | Y4: =SUM(Y9:Y47) -> 0 | AR4: =SUM(AS9:AS47) -> 0 | AT4: =SUM(AT9:AT47) -> 0
E5: Halbjahr 1 | Z5: Halbjahr 2 | AU5: Fehlerkontrolle
E6: Gewicht: SchA zu sonstigen Noten | H6: Schulaufgabe | K6: sonstige Noten | V6: Gesamt | Z6: Gewicht: SchA zu sonstigen Noten | AC6: Schulaufgabe | AF6: sonstige Noten | AQ6: Gesamt
M7: Kurzarbeit/Exen | Q7: mündlich | U7: Durch-schnitt | W7: unger. | X7: ger. | AH7: Kurzarbeit/Exen | AL7: mündlich | AP7: Durch-schnitt | AR7: unger. | AS7: ger.
H8: 1 | I8: 2 | J8: Durch-schnitt | M8: 1 | N8: 2 | O8: 3 | P8: 4 | Q8: 1 | R8: 2 | S8: 3 | T8: 4 | AC8: 1 | AD8: 2 | AE8: Durch-schnitt | AH8: 1 | AI8: 2 | AJ8: 3 | AK8: 4 | AL8: 1 | AM8: 2 | AN8: 3 | AO8: 4 | AU8: Anzahl Noten | AV8: Anzahl Gewicht
C9: Religionslehre/ Ethik | E9: =Tab!E9 -> 1 | F9: zu 1 | H9: =IF(Tab!H9="","",Tab!H9) | I9: =IF(Tab!I9="","",Tab!I9) | J9: =IF(AND(H9="",I9=""),"",AVERAGE(H9:I9)) | L9: Note | M9: =IF(Tab!M9="","",Tab!M9) | N9: =IF(Tab!N9="","",Tab!N9) | O9: =IF(Tab!O9="","",Tab!O9) | P9: =IF(Tab!P9="","",Tab!P9) | Q9: =IF(Tab!Q9="","",Tab!Q9) | R9: =IF(Tab!R9="","",Tab!R9) | S9: =IF(Tab!S9="","",Tab!S9) | T9: =IF(Tab!T9="","",Tab!T9) | U9: =IF(ISERROR(SUM(M11:T11)/SUM(M12:T12)),"",SUM(M11:T11)/SUM(M12:T12)) | W9: =IF(AND(J9="",U9=""),"",IF(J9="",U9,IF(U9="",J9,(J9*E9+U9)/(E9+1)))) | X9: =IF(W9="","",IF(W9<1,0,ROUND(W9,0))) | Y9: =IF(X9="","",15) | Z9: =Tab!Z9 -> 1 | AA9: zu 1 | AC9: =IF(Tab!AC9="","",Tab!AC9) | AD9: =IF(Tab!AD9="","",Tab!AD9) | AE9: =IF(AND(AC9="",AD9=""),"",AVERAGE(AC9:AD9)) | AG9: Note | AH9: =IF(Tab!AH9="","",Tab!AH9) | AI9: =IF(Tab!AI9="","",Tab!AI9) | AJ9: =IF(Tab!AJ9="","",Tab!AJ9) | AK9: =IF(Tab!AK9="","",Tab!AK9) | AL9: =IF(Tab!AL9="","",Tab!AL9) | AM9: =IF(Tab!AM9="","",Tab!AM9) | AN9: =IF(Tab!AN9="","",Tab!AN9) | AO9: =IF(Tab!AO9="","",Tab!AO9) | AP9: =IF(ISERROR(SUM(AH11:AO11)/SUM(AH12:AO12)),"",SUM(AH11:AO11)/SUM(AH12:AO12)) | AR9: =IF(AND(AE9="",AP9=""),"",IF(AE9="",AP9,IF(AP9="",AE9,(AE9*Z9+AP9)/(Z9+1)))) | AS9: =IF(AR9="","",IF(AR9<1,0,ROUND(AR9,0))) | AT9: =IF(AS9="","",15) | AU9: =COUNT(M9:T9,AH9:AO9) -> 0 | AV9: =COUNT(M10:T10,AH10:AO10) -> 0 | AW9: =IF(AU9=AV9,0,1) -> 0
L10: Gewicht | M10: =IF(Tab!M10="","",Tab!M10) | N10: =IF(Tab!N10="","",Tab!N10) | O10: =IF(Tab!O10="","",Tab!O10) | P10: =IF(Tab!P10="","",Tab!P10) | Q10: =IF(Tab!Q10="","",Tab!Q10) | R10: =IF(Tab!R10="","",Tab!R10) | S10: =IF(Tab!S10="","",Tab!S10) | T10: =IF(Tab!T10="","",Tab!T10) | AG10: Gewicht | AH10: =IF(Tab!AH10="","",Tab!AH10) | AI10: =IF(Tab!AI10="","",Tab!AI10) | AJ10: =IF(Tab!AJ10="","",Tab!AJ10) | AK10: =IF(Tab!AK10="","",Tab!AK10) | AL10: =IF(Tab!AL10="","",Tab!AL10) | AM10: =IF(Tab!AM10="","",Tab!AM10) | AN10: =IF(Tab!AN10="","",Tab!AN10) | AO10: =IF(Tab!AO10="","",Tab!AO10)
M11: =IF(M9="","",M9*M10) | N11: =IF(N9="","",N9*N10) | O11: =IF(O9="","",O9*O10) | P11: =IF(P9="","",P9*P10) | Q11: =IF(Q9="","",Q9*Q10) | R11: =IF(R9="","",R9*R10) | S11: =IF(S9="","",S9*S10) | T11: =IF(T9="","",T9*T10) | AH11: =IF(AH9="","",AH9*AH10) | AI11: =IF(AI9="","",AI9*AI10) | AJ11: =IF(AJ9="","",AJ9*AJ10) | AK11: =IF(AK9="","",AK9*AK10) | AL11: =IF(AL9="","",AL9*AL10) | AM11: =IF(AM9="","",AM9*AM10) | AN11: =IF(AN9="","",AN9*AN10) | AO11: =IF(AO9="","",AO9*AO10)
M12: =IF(M9="","",M10) | N12: =IF(N9="","",N10) | O12: =IF(O9="","",O10) | P12: =IF(P9="","",P10) | Q12: =IF(Q9="","",Q10) | R12: =IF(R9="","",R10) | S12: =IF(S9="","",S10) | T12: =IF(T9="","",T10) | AH12: =IF(AH9="","",AH10) | AI12: =IF(AI9="","",AI10) | AJ12: =IF(AJ9="","",AJ10) | AK12: =IF(AK9="","",AK10) | AL12: =IF(AL9="","",AL10) | AM12: =IF(AM9="","",AM10) | AN12: =IF(AN9="","",AN10) | AO12: =IF(AO9="","",AO10)
C13: Deutsch | E13: =Tab!E13 -> 1 | F13: zu 1 | H13: =IF(Tab!H13="","",Tab!H13) | I13: =IF(Tab!I13="","",Tab!I13) | J13: =IF(AND(H13="",I13=""),"",AVERAGE(H13:I13)) | L13: Note | M13: =IF(Tab!M13="","",Tab!M13) | N13: =IF(Tab!N13="","",Tab!N13) | O13: =IF(Tab!O13="","",Tab!O13) | P13: =IF(Tab!P13="","",Tab!P13) | Q13: =IF(Tab!Q13="","",Tab!Q13) | R13: =IF(Tab!R13="","",Tab!R13) | S13: =IF(Tab!S13="","",Tab!S13) | T13: =IF(Tab!T13="","",Tab!T13) | U13: =IF(ISERROR(SUM(M15:T15)/SUM(M16:T16)),"",SUM(M15:T15)/SUM(M16:T16)) | W13: =IF(AND(J13="",U13=""),"",IF(J13="",U13,IF(U13="",J13,(J13*E13+U13)/(E13+1)))) | X13: =IF(W13="","",IF(W13<1,0,ROUND(W13,0))) | Y13: =IF(X13="","",15) | Z13: 1 | AA13: zu 1 | AC13: =IF(Tab!AC13="","",Tab!AC13) | AD13: =IF(Tab!AD13="","",Tab!AD13) | AE13: =IF(AND(AC13="",AD13=""),"",AVERAGE(AC13:AD13)) | AG13: Note | AH13: =IF(Tab!AH13="","",Tab!AH13) | AI13: =IF(Tab!AI13="","",Tab!AI13) | AJ13: =IF(Tab!AJ13="","",Tab!AJ13) | AK13: =IF(Tab!AK13="","",Tab!AK13) | AL13: =IF(Tab!AL13="","",Tab!AL13) | AM13: =IF(Tab!AM13="","",Tab!AM13) | AN13: =IF(Tab!AN13="","",Tab!AN13) | AO13: =IF(Tab!AO13="","",Tab!AO13) | AP13: =IF(ISERROR(SUM(AH15:AO15)/SUM(AH16:AO16)),"",SUM(AH15:AO15)/SUM(AH16:AO16)) | AR13: =IF(AND(AE13="",AP13=""),"",IF(AE13="",AP13,IF(AP13="",AE13,(AE13*Z13+AP13)/(Z13+1)))) | AS13: =IF(AR13="","",IF(AR13<1,0,ROUND(AR13,0))) | AT13: =IF(AS13="","",15) | AU13: =COUNT(M13:T13,AH13:AO13) -> 0 | AV13: =COUNT(M14:T14,AH14:AO14) -> 0 | AW13: =IF(AU13=AV13,0,1) -> 0
L14: Gewicht | M14: =IF(Tab!M14="","",Tab!M14) | N14: =IF(Tab!N14="","",Tab!N14) | O14: =IF(Tab!O14="","",Tab!O14) | P14: =IF(Tab!P14="","",Tab!P14) | Q14: =IF(Tab!Q14="","",Tab!Q14) | R14: =IF(Tab!R14="","",Tab!R14) | S14: =IF(Tab!S14="","",Tab!S14) | T14: =IF(Tab!T14="","",Tab!T14) | AG14: Gewicht | AH14: =IF(Tab!AH14="","",Tab!AH14) | AI14: =IF(Tab!AI14="","",Tab!AI14) | AJ14: =IF(Tab!AJ14="","",Tab!AJ14) | AK14: =IF(Tab!AK14="","",Tab!AK14) | AL14: =IF(Tab!AL14="","",Tab!AL14) | AM14: =IF(Tab!AM14="","",Tab!AM14) | AN14: =IF(Tab!AN14="","",Tab!AN14) | AO14: =IF(Tab!AO14="","",Tab!AO14)
M15: =IF(M13="","",M13*M14) | N15: =IF(N13="","",N13*N14) | O15: =IF(O13="","",O13*O14) | P15: =IF(P13="","",P13*P14) | Q15: =IF(Q13="","",Q13*Q14) | R15: =IF(R13="","",R13*R14) | S15: =IF(S13="","",S13*S14) | T15: =IF(T13="","",T13*T14) | AH15: =IF(AH13="","",AH13*AH14) | AI15: =IF(AI13="","",AI13*AI14) | AJ15: =IF(AJ13="","",AJ13*AJ14) | AK15: =IF(AK13="","",AK13*AK14) | AL15: =IF(AL13="","",AL13*AL14) | AM15: =IF(AM13="","",AM13*AM14) | AN15: =IF(AN13="","",AN13*AN14) | AO15: =IF(AO13="","",AO13*AO14)
M16: =IF(M13="","",M14) | N16: =IF(N13="","",N14) | O16: =IF(O13="","",O14) | P16: =IF(P13="","",P14) | Q16: =IF(Q13="","",Q14) | R16: =IF(R13="","",R14) | S16: =IF(S13="","",S14) | T16: =IF(T13="","",T14) | AH16: =IF(AH13="","",AH14) | AI16: =IF(AI13="","",AI14) | AJ16: =IF(AJ13="","",AJ14) | AK16: =IF(AK13="","",AK14) | AL16: =IF(AL13="","",AL14) | AM16: =IF(AM13="","",AM14) | AN16: =IF(AN13="","",AN14) | AO16: =IF(AO13="","",AO14)
C17: Englisch | E17: =Tab!E17 -> 1 | F17: zu 1 | H17: =IF(Tab!H17="","",Tab!H17) | I17: =IF(Tab!I17="","",Tab!I17) | J17: =IF(AND(H17="",I17=""),"",AVERAGE(H17:I17)) | L17: Note | M17: =IF(Tab!M17="","",Tab!M17) | N17: =IF(Tab!N17="","",Tab!N17) | O17: =IF(Tab!O17="","",Tab!O17) | P17: =IF(Tab!P17="","",Tab!P17) | Q17: =IF(Tab!Q17="","",Tab!Q17) | R17: =IF(Tab!R17="","",Tab!R17) | S17: =IF(Tab!S17="","",Tab!S17) | T17: =IF(Tab!T17="","",Tab!T17) | U17: =IF(ISERROR(SUM(M19:T19)/SUM(M20:T20)),"",SUM(M19:T19)/SUM(M20:T20)) | W17: =IF(AND(J17="",U17=""),"",IF(J17="",U17,IF(U17="",J17,(J17*E17+U17)/(E17+1)))) | X17: =IF(W17="","",IF(W17<1,0,ROUND(W17,0))) | Y17: =IF(X17="","",15) | Z17: 1 | AA17: zu 1 | AC17: =IF(Tab!AC17="","",Tab!AC17) | AD17: =IF(Tab!AD17="","",Tab!AD17) | AE17: =IF(AND(AC17="",AD17=""),"",AVERAGE(AC17:AD17)) | AG17: Note | AH17: =IF(Tab!AH17="","",Tab!AH17) | AI17: =IF(Tab!AI17="","",Tab!AI17) | AJ17: =IF(Tab!AJ17="","",Tab!AJ17) | AK17: =IF(Tab!AK17="","",Tab!AK17) | AL17: =IF(Tab!AL17="","",Tab!AL17) | AM17: =IF(Tab!AM17="","",Tab!AM17) | AN17: =IF(Tab!AN17="","",Tab!AN17) | AO17: =IF(Tab!AO17="","",Tab!AO17) | AP17: =IF(ISERROR(SUM(AH19:AO19)/SUM(AH20:AO20)),"",SUM(AH19:AO19)/SUM(AH20:AO20)) | AR17: =IF(AND(AE17="",AP17=""),"",IF(AE17="",AP17,IF(AP17="",AE17,(AE17*Z17+AP17)/(Z17+1)))) | AS17: =IF(AR17="","",IF(AR17<1,0,ROUND(AR17,0))) | AT17: =IF(AS17="","",15) | AU17: =COUNT(M17:T17,AH17:AO17) -> 0 | AV17: =COUNT(M18:T18,AH18:AO18) -> 0 | AW17: =IF(AU17=AV17,0,1) -> 0
L18: Gewicht | M18: =IF(Tab!M18="","",Tab!M18) | N18: =IF(Tab!N18="","",Tab!N18) | O18: =IF(Tab!O18="","",Tab!O18) | P18: =IF(Tab!P18="","",Tab!P18) | Q18: =IF(Tab!Q18="","",Tab!Q18) | R18: =IF(Tab!R18="","",Tab!R18) | S18: =IF(Tab!S18="","",Tab!S18) | T18: =IF(Tab!T18="","",Tab!T18) | AG18: Gewicht | AH18: =IF(Tab!AH18="","",Tab!AH18) | AI18: =IF(Tab!AI18="","",Tab!AI18) | AJ18: =IF(Tab!AJ18="","",Tab!AJ18) | AK18: =IF(Tab!AK18="","",Tab!AK18) | AL18: =IF(Tab!AL18="","",Tab!AL18) | AM18: =IF(Tab!AM18="","",Tab!AM18) | AN18: =IF(Tab!AN18="","",Tab!AN18) | AO18: =IF(Tab!AO18="","",Tab!AO18)
M19: =IF(M17="","",M17*M18) | N19: =IF(N17="","",N17*N18) | O19: =IF(O17="","",O17*O18) | P19: =IF(P17="","",P17*P18) | Q19: =IF(Q17="","",Q17*Q18) | R19: =IF(R17="","",R17*R18) | S19: =IF(S17="","",S17*S18) | T19: =IF(T17="","",T17*T18) | AH19: =IF(AH17="","",AH17*AH18) | AI19: =IF(AI17="","",AI17*AI18) | AJ19: =IF(AJ17="","",AJ17*AJ18) | AK19: =IF(AK17="","",AK17*AK18) | AL19: =IF(AL17="","",AL17*AL18) | AM19: =IF(AM17="","",AM17*AM18) | AN19: =IF(AN17="","",AN17*AN18) | AO19: =IF(AO17="","",AO17*AO18)
M20: =IF(M17="","",M18) | N20: =IF(N17="","",N18) | O20: =IF(O17="","",O18) | P20: =IF(P17="","",P18) | Q20: =IF(Q17="","",Q18) | R20: =IF(R17="","",R18) | S20: =IF(S17="","",S18) | T20: =IF(T17="","",T18) | AH20: =IF(AH17="","",AH18) | AI20: =IF(AI17="","",AI18) | AJ20: =IF(AJ17="","",AJ18) | AK20: =IF(AK17="","",AK18) | AL20: =IF(AL17="","",AL18) | AM20: =IF(AM17="","",AM18) | AN20: =IF(AN17="","",AN18) | AO20: =IF(AO17="","",AO18)
C21: Geschichte | E21: =Tab!E21 -> 1 | F21: zu 1 | H21: =IF(Tab!H21="","",Tab!H21) | I21: =IF(Tab!I21="","",Tab!I21) | J21: =IF(AND(H21="",I21=""),"",AVERAGE(H21:I21)) | L21: Note | M21: =IF(Tab!M21="","",Tab!M21) | N21: =IF(Tab!N21="","",Tab!N21) | O21: =IF(Tab!O21="","",Tab!O21) | P21: =IF(Tab!P21="","",Tab!P21) | Q21: =IF(Tab!Q21="","",Tab!Q21) | R21: =IF(Tab!R21="","",Tab!R21) | S21: =IF(Tab!S21="","",Tab!S21) | T21: =IF(Tab!T21="","",Tab!T21) | U21: =IF(ISERROR(SUM(M23:T23)/SUM(M24:T24)),"",SUM(M23:T23)/SUM(M24:T24)) | W21: =IF(AND(J21="",U21=""),"",IF(J21="",U21,IF(U21="",J21,(J21*E21+U21)/(E21+1)))) | X21: =IF(W21="","",IF(W21<1,0,ROUND(W21,0))) | Y21: =IF(X21="","",15) | Z21: 1 | AA21: zu 1 | AC21: =IF(Tab!AC21="","",Tab!AC21) | AD21: =IF(Tab!AD21="","",Tab!AD21) | AE21: =IF(AND(AC21="",AD21=""),"",AVERAGE(AC21:AD21)) | AG21: Note | AH21: =IF(Tab!AH21="","",Tab!AH21) | AI21: =IF(Tab!AI21="","",Tab!AI21) | AJ21: =IF(Tab!AJ21="","",Tab!AJ21) | AK21: =IF(Tab!AK21="","",Tab!AK21) | AL21: =IF(Tab!AL21="","",Tab!AL21) | AM21: =IF(Tab!AM21="","",Tab!AM21) | AN21: =IF(Tab!AN21="","",Tab!AN21) | AO21: =IF(Tab!AO21="","",Tab!AO21) | AP21: =IF(ISERROR(SUM(AH23:AO23)/SUM(AH24:AO24)),"",SUM(AH23:AO23)/SUM(AH24:AO24)) | AR21: =IF(AND(AE21="",AP21=""),"",IF(AE21="",AP21,IF(AP21="",AE21,(AE21*Z21+AP21)/(Z21+1)))) | AS21: =IF(AR21="","",IF(AR21<1,0,ROUND(AR21,0))) | AT21: =IF(AS21="","",15) | AU21: =COUNT(M21:T21,AH21:AO21) -> 0 | AV21: =COUNT(M22:T22,AH22:AO22) -> 0 | AW21: =IF(AU21=AV21,0,1) -> 0
L22: Gewicht | M22: =IF(Tab!M22="","",Tab!M22) | N22: =IF(Tab!N22="","",Tab!N22) | O22: =IF(Tab!O22="","",Tab!O22) | P22: =IF(Tab!P22="","",Tab!P22) | Q22: =IF(Tab!Q22="","",Tab!Q22) | R22: =IF(Tab!R22="","",Tab!R22) | S22: =IF(Tab!S22="","",Tab!S22) | T22: =IF(Tab!T22="","",Tab!T22) | AG22: Gewicht | AH22: =IF(Tab!AH22="","",Tab!AH22) | AI22: =IF(Tab!AI22="","",Tab!AI22) | AJ22: =IF(Tab!AJ22="","",Tab!AJ22) | AK22: =IF(Tab!AK22="","",Tab!AK22) | AL22: =IF(Tab!AL22="","",Tab!AL22) | AM22: =IF(Tab!AM22="","",Tab!AM22) | AN22: =IF(Tab!AN22="","",Tab!AN22) | AO22: =IF(Tab!AO22="","",Tab!AO22)
M23: =IF(M21="","",M21*M22) | N23: =IF(N21="","",N21*N22) | O23: =IF(O21="","",O21*O22) | P23: =IF(P21="","",P21*P22) | Q23: =IF(Q21="","",Q21*Q22) | R23: =IF(R21="","",R21*R22) | S23: =IF(S21="","",S21*S22) | T23: =IF(T21="","",T21*T22) | AH23: =IF(AH21="","",AH21*AH22) | AI23: =IF(AI21="","",AI21*AI22) | AJ23: =IF(AJ21="","",AJ21*AJ22) | AK23: =IF(AK21="","",AK21*AK22) | AL23: =IF(AL21="","",AL21*AL22) | AM23: =IF(AM21="","",AM21*AM22) | AN23: =IF(AN21="","",AN21*AN22) | AO23: =IF(AO21="","",AO21*AO22)
M24: =IF(M21="","",M22) | N24: =IF(N21="","",N22) | O24: =IF(O21="","",O22) | P24: =IF(P21="","",P22) | Q24: =IF(Q21="","",Q22) | R24: =IF(R21="","",R22) | S24: =IF(S21="","",S22) | T24: =IF(T21="","",T22) | AH24: =IF(AH21="","",AH22) | AI24: =IF(AI21="","",AI22) | AJ24: =IF(AJ21="","",AJ22) | AK24: =IF(AK21="","",AK22) | AL24: =IF(AL21="","",AL22) | AM24: =IF(AM21="","",AM22) | AN24: =IF(AN21="","",AN22) | AO24: =IF(AO21="","",AO22)
C25: Sozialkunde | E25: =Tab!E25 -> 1 | F25: zu 1 | H25: =IF(Tab!H25="","",Tab!H25) | I25: =IF(Tab!I25="","",Tab!I25) | J25: =IF(AND(H25="",I25=""),"",AVERAGE(H25:I25)) | L25: Note | M25: =IF(Tab!M25="","",Tab!M25) | N25: =IF(Tab!N25="","",Tab!N25) | O25: =IF(Tab!O25="","",Tab!O25) | P25: =IF(Tab!P25="","",Tab!P25) | Q25: =IF(Tab!Q25="","",Tab!Q25) | R25: =IF(Tab!R25="","",Tab!R25) | S25: =IF(Tab!S25="","",Tab!S25) | T25: =IF(Tab!T25="","",Tab!T25) | U25: =IF(ISERROR(SUM(M27:T27)/SUM(M28:T28)),"",SUM(M27:T27)/SUM(M28:T28)) | W25: =IF(AND(J25="",U25=""),"",IF(J25="",U25,IF(U25="",J25,(J25*E25+U25)/(E25+1)))) | X25: =IF(W25="","",IF(W25<1,0,ROUND(W25,0))) | Y25: =IF(X25="","",15) | Z25: 1 | AA25: zu 1 | AC25: =IF(Tab!AC25="","",Tab!AC25) | AD25: =IF(Tab!AD25="","",Tab!AD25) | AE25: =IF(AND(AC25="",AD25=""),"",AVERAGE(AC25:AD25)) | AG25: Note | AH25: =IF(Tab!AH25="","",Tab!AH25) | AI25: =IF(Tab!AI25="","",Tab!AI25) | AJ25: =IF(Tab!AJ25="","",Tab!AJ25) | AK25: =IF(Tab!AK25="","",Tab!AK25) | AL25: =IF(Tab!AL25="","",Tab!AL25) | AM25: =IF(Tab!AM25="","",Tab!AM25) | AN25: =IF(Tab!AN25="","",Tab!AN25) | AO25: =IF(Tab!AO25="","",Tab!AO25) | AP25: =IF(ISERROR(SUM(AH27:AO27)/SUM(AH28:AO28)),"",SUM(AH27:AO27)/SUM(AH28:AO28)) | AR25: =IF(AND(AE25="",AP25=""),"",IF(AE25="",AP25,IF(AP25="",AE25,(AE25*Z25+AP25)/(Z25+1)))) | AS25: =IF(AR25="","",IF(AR25<1,0,ROUND(AR25,0))) | AT25: =IF(AS25="","",15) | AU25: =COUNT(M25:T25,AH25:AO25) -> 0 | AV25: =COUNT(M26:T26,AH26:AO26) -> 0 | AW25: =IF(AU25=AV25,0,1) -> 0
L26: Gewicht | M26: =IF(Tab!M26="","",Tab!M26) | N26: =IF(Tab!N26="","",Tab!N26) | O26: =IF(Tab!O26="","",Tab!O26) | P26: =IF(Tab!P26="","",Tab!P26) | Q26: =IF(Tab!Q26="","",Tab!Q26) | R26: =IF(Tab!R26="","",Tab!R26) | S26: =IF(Tab!S26="","",Tab!S26) | T26: =IF(Tab!T26="","",Tab!T26) | AG26: Gewicht | AH26: =IF(Tab!AH26="","",Tab!AH26) | AI26: =IF(Tab!AI26="","",Tab!AI26) | AJ26: =IF(Tab!AJ26="","",Tab!AJ26) | AK26: =IF(Tab!AK26="","",Tab!AK26) | AL26: =IF(Tab!AL26="","",Tab!AL26) | AM26: =IF(Tab!AM26="","",Tab!AM26) | AN26: =IF(Tab!AN26="","",Tab!AN26) | AO26: =IF(Tab!AO26="","",Tab!AO26)
M27: =IF(M25="","",M25*M26) | N27: =IF(N25="","",N25*N26) | O27: =IF(O25="","",O25*O26) | P27: =IF(P25="","",P25*P26) | Q27: =IF(Q25="","",Q25*Q26) | R27: =IF(R25="","",R25*R26) | S27: =IF(S25="","",S25*S26) | T27: =IF(T25="","",T25*T26) | AH27: =IF(AH25="","",AH25*AH26) | AI27: =IF(AI25="","",AI25*AI26) | AJ27: =IF(AJ25="","",AJ25*AJ26) | AK27: =IF(AK25="","",AK25*AK26) | AL27: =IF(AL25="","",AL25*AL26) | AM27: =IF(AM25="","",AM25*AM26) | AN27: =IF(AN25="","",AN25*AN26) | AO27: =IF(AO25="","",AO25*AO26)
M28: =IF(M25="","",M26) | N28: =IF(N25="","",N26) | O28: =IF(O25="","",O26) | P28: =IF(P25="","",P26) | Q28: =IF(Q25="","",Q26) | R28: =IF(R25="","",R26) | S28: =IF(S25="","",S26) | T28: =IF(T25="","",T26) | AH28: =IF(AH25="","",AH26) | AI28: =IF(AI25="","",AI26) | AJ28: =IF(AJ25="","",AJ26) | AK28: =IF(AK25="","",AK26) | AL28: =IF(AL25="","",AL26) | AM28: =IF(AM25="","",AM26) | AN28: =IF(AN25="","",AN26) | AO28: =IF(AO25="","",AO26)
C29: Mathematik | E29: =Tab!E29 -> 1 | F29: zu 1 | H29: =IF(Tab!H29="","",Tab!H29) | I29: =IF(Tab!I29="","",Tab!I29) | J29: =IF(AND(H29="",I29=""),"",AVERAGE(H29:I29)) | L29: Note | M29: =IF(Tab!M29="","",Tab!M29) | N29: =IF(Tab!N29="","",Tab!N29) | O29: =IF(Tab!O29="","",Tab!O29) | P29: =IF(Tab!P29="","",Tab!P29) | Q29: =IF(Tab!Q29="","",Tab!Q29) | R29: =IF(Tab!R29="","",Tab!R29) | S29: =IF(Tab!S29="","",Tab!S29) | T29: =IF(Tab!T29="","",Tab!T29) | U29: =IF(ISERROR(SUM(M31:T31)/SUM(M32:T32)),"",SUM(M31:T31)/SUM(M32:T32)) | W29: =IF(AND(J29="",U29=""),"",IF(J29="",U29,IF(U29="",J29,(J29*E29+U29)/(E29+1)))) | X29: =IF(W29="","",IF(W29<1,0,ROUND(W29,0))) | Y29: =IF(X29="","",15) | Z29: 1 | AA29: zu 1 | AC29: =IF(Tab!AC29="","",Tab!AC29) | AD29: =IF(Tab!AD29="","",Tab!AD29) | AE29: =IF(AND(AC29="",AD29=""),"",AVERAGE(AC29:AD29)) | AG29: Note | AH29: =IF(Tab!AH29="","",Tab!AH29) | AI29: =IF(Tab!AI29="","",Tab!AI29) | AJ29: =IF(Tab!AJ29="","",Tab!AJ29) | AK29: =IF(Tab!AK29="","",Tab!AK29) | AL29: =IF(Tab!AL29="","",Tab!AL29) | AM29: =IF(Tab!AM29="","",Tab!AM29) | AN29: =IF(Tab!AN29="","",Tab!AN29) | AO29: =IF(Tab!AO29="","",Tab!AO29) | AP29: =IF(ISERROR(SUM(AH31:AO31)/SUM(AH32:AO32)),"",SUM(AH31:AO31)/SUM(AH32:AO32)) | AR29: =IF(AND(AE29="",AP29=""),"",IF(AE29="",AP29,IF(AP29="",AE29,(AE29*Z29+AP29)/(Z29+1)))) | AS29: =IF(AR29="","",IF(AR29<1,0,ROUND(AR29,0))) | AT29: =IF(AS29="","",15) | AU29: =COUNT(M29:T29,AH29:AO29) -> 0 | AV29: =COUNT(M30:T30,AH30:AO30) -> 0 | AW29: =IF(AU29=AV29,0,1) -> 0
L30: Gewicht | M30: =IF(Tab!M30="","",Tab!M30) | N30: =IF(Tab!N30="","",Tab!N30) | O30: =IF(Tab!O30="","",Tab!O30) | P30: =IF(Tab!P30="","",Tab!P30) | Q30: =IF(Tab!Q30="","",Tab!Q30) | R30: =IF(Tab!R30="","",Tab!R30) | S30: =IF(Tab!S30="","",Tab!S30) | T30: =IF(Tab!T30="","",Tab!T30) | AG30: Gewicht | AH30: =IF(Tab!AH30="","",Tab!AH30) | AI30: =IF(Tab!AI30="","",Tab!AI30) | AJ30: =IF(Tab!AJ30="","",Tab!AJ30) | AK30: =IF(Tab!AK30="","",Tab!AK30) | AL30: =IF(Tab!AL30="","",Tab!AL30) | AM30: =IF(Tab!AM30="","",Tab!AM30) | AN30: =IF(Tab!AN30="","",Tab!AN30) | AO30: =IF(Tab!AO30="","",Tab!AO30)
M31: =IF(M29="","",M29*M30) | N31: =IF(N29="","",N29*N30) | O31: =IF(O29="","",O29*O30) | P31: =IF(P29="","",P29*P30) | Q31: =IF(Q29="","",Q29*Q30) | R31: =IF(R29="","",R29*R30) | S31: =IF(S29="","",S29*S30) | T31: =IF(T29="","",T29*T30) | AH31: =IF(AH29="","",AH29*AH30) | AI31: =IF(AI29="","",AI29*AI30) | AJ31: =IF(AJ29="","",AJ29*AJ30) | AK31: =IF(AK29="","",AK29*AK30) | AL31: =IF(AL29="","",AL29*AL30) | AM31: =IF(AM29="","",AM29*AM30) | AN31: =IF(AN29="","",AN29*AN30) | AO31: =IF(AO29="","",AO29*AO30)
M32: =IF(M29="","",M30) | N32: =IF(N29="","",N30) | O32: =IF(O29="","",O30) | P32: =IF(P29="","",P30) | Q32: =IF(Q29="","",Q30) | R32: =IF(R29="","",R30) | S32: =IF(S29="","",S30) | T32: =IF(T29="","",T30) | AH32: =IF(AH29="","",AH30) | AI32: =IF(AI29="","",AI30) | AJ32: =IF(AJ29="","",AJ30) | AK32: =IF(AK29="","",AK30) | AL32: =IF(AL29="","",AL30) | AM32: =IF(AM29="","",AM30) | AN32: =IF(AN29="","",AN30) | AO32: =IF(AO29="","",AO30)
C33: Profilfach | E33: =Tab!E33 -> 1 | F33: zu 1 | H33: =IF(Tab!H33="","",Tab!H33) | I33: =IF(Tab!I33="","",Tab!I33) | J33: =IF(AND(H33="",I33=""),"",AVERAGE(H33:I33)) | L33: Note | M33: =IF(Tab!M33="","",Tab!M33) | N33: =IF(Tab!N33="","",Tab!N33) | O33: =IF(Tab!O33="","",Tab!O33) | P33: =IF(Tab!P33="","",Tab!P33) | Q33: =IF(Tab!Q33="","",Tab!Q33) | R33: =IF(Tab!R33="","",Tab!R33) | S33: =IF(Tab!S33="","",Tab!S33) | T33: =IF(Tab!T33="","",Tab!T33) | U33: =IF(ISERROR(SUM(M35:T35)/SUM(M36:T36)),"",SUM(M35:T35)/SUM(M36:T36)) | W33: =IF(AND(J33="",U33=""),"",IF(J33="",U33,IF(U33="",J33,(J33*E33+U33)/(E33+1)))) | X33: =IF(W33="","",IF(W33<1,0,ROUND(W33,0))) | Y33: =IF(X33="","",15) | Z33: 1 | AA33: zu 1 | AC33: =IF(Tab!AC33="","",Tab!AC33) | AD33: =IF(Tab!AD33="","",Tab!AD33) | AE33: =IF(AND(AC33="",AD33=""),"",AVERAGE(AC33:AD33)) | AG33: Note | AH33: =IF(Tab!AH33="","",Tab!AH33) | AI33: =IF(Tab!AI33="","",Tab!AI33) | AJ33: =IF(Tab!AJ33="","",Tab!AJ33) | AK33: =IF(Tab!AK33="","",Tab!AK33) | AL33: =IF(Tab!AL33="","",Tab!AL33) | AM33: =IF(Tab!AM33="","",Tab!AM33) | AN33: =IF(Tab!AN33="","",Tab!AN33) | AO33: =IF(Tab!AO33="","",Tab!AO33) | AP33: =IF(ISERROR(SUM(AH35:AO35)/SUM(AH36:AO36)),"",SUM(AH35:AO35)/SUM(AH36:AO36)) | AR33: =IF(AND(AE33="",AP33=""),"",IF(AE33="",AP33,IF(AP33="",AE33,(AE33*Z33+AP33)/(Z33+1)))) | AS33: =IF(AR33="","",IF(AR33<1,0,ROUND(AR33,0))) | AT33: =IF(AS33="","",15) | AU33: =COUNT(M33:T33,AH33:AO33) -> 0 | AV33: =COUNT(M34:T34,AH34:AO34) -> 0 | AW33: =IF(AU33=AV33,0,1) -> 0
L34: Gewicht | M34: =IF(Tab!M34="","",Tab!M34) | N34: =IF(Tab!N34="","",Tab!N34) | O34: =IF(Tab!O34="","",Tab!O34) | P34: =IF(Tab!P34="","",Tab!P34) | Q34: =IF(Tab!Q34="","",Tab!Q34) | R34: =IF(Tab!R34="","",Tab!R34) | S34: =IF(Tab!S34="","",Tab!S34) | T34: =IF(Tab!T34="","",Tab!T34) | AG34: Gewicht | AH34: =IF(Tab!AH34="","",Tab!AH34) | AI34: =IF(Tab!AI34="","",Tab!AI34) | AJ34: =IF(Tab!AJ34="","",Tab!AJ34) | AK34: =IF(Tab!AK34="","",Tab!AK34) | AL34: =IF(Tab!AL34="","",Tab!AL34) | AM34: =IF(Tab!AM34="","",Tab!AM34) | AN34: =IF(Tab!AN34="","",Tab!AN34) | AO34: =IF(Tab!AO34="","",Tab!AO34)
M35: =IF(M33="","",M33*M34) | N35: =IF(N33="","",N33*N34) | O35: =IF(O33="","",O33*O34) | P35: =IF(P33="","",P33*P34) | Q35: =IF(Q33="","",Q33*Q34) | R35: =IF(R33="","",R33*R34) | S35: =IF(S33="","",S33*S34) | T35: =IF(T33="","",T33*T34) | AH35: =IF(AH33="","",AH33*AH34) | AI35: =IF(AI33="","",AI33*AI34) | AJ35: =IF(AJ33="","",AJ33*AJ34) | AK35: =IF(AK33="","",AK33*AK34) | AL35: =IF(AL33="","",AL33*AL34) | AM35: =IF(AM33="","",AM33*AM34) | AN35: =IF(AN33="","",AN33*AN34) | AO35: =IF(AO33="","",AO33*AO34)
M36: =IF(M33="","",M34) | N36: =IF(N33="","",N34) | O36: =IF(O33="","",O34) | P36: =IF(P33="","",P34) | Q36: =IF(Q33="","",Q34) | R36: =IF(R33="","",R34) | S36: =IF(S33="","",S34) | T36: =IF(T33="","",T34) | AH36: =IF(AH33="","",AH34) | AI36: =IF(AI33="","",AI34) | AJ36: =IF(AJ33="","",AJ34) | AK36: =IF(AK33="","",AK34) | AL36: =IF(AL33="","",AL34) | AM36: =IF(AM33="","",AM34) | AN36: =IF(AN33="","",AN34) | AO36: =IF(AO33="","",AO34)
C37: Fach | E37: =Tab!E37 -> 1 | F37: zu 1 | H37: =IF(Tab!H37="","",Tab!H37) | I37: =IF(Tab!I37="","",Tab!I37) | J37: =IF(AND(H37="",I37=""),"",AVERAGE(H37:I37)) | L37: Note | M37: =IF(Tab!M37="","",Tab!M37) | N37: =IF(Tab!N37="","",Tab!N37) | O37: =IF(Tab!O37="","",Tab!O37) | P37: =IF(Tab!P37="","",Tab!P37) | Q37: =IF(Tab!Q37="","",Tab!Q37) | R37: =IF(Tab!R37="","",Tab!R37) | S37: =IF(Tab!S37="","",Tab!S37) | T37: =IF(Tab!T37="","",Tab!T37) | U37: =IF(ISERROR(SUM(M39:T39)/SUM(M40:T40)),"",SUM(M39:T39)/SUM(M40:T40)) | W37: =IF(AND(J37="",U37=""),"",IF(J37="",U37,IF(U37="",J37,(J37*E37+U37)/(E37+1)))) | X37: =IF(W37="","",IF(W37<1,0,ROUND(W37,0))) | Y37: =IF(X37="","",15) | Z37: 1 | AA37: zu 1 | AC37: =IF(Tab!AC37="","",Tab!AC37) | AD37: =IF(Tab!AD37="","",Tab!AD37) | AE37: =IF(AND(AC37="",AD37=""),"",AVERAGE(AC37:AD37)) | AG37: Note | AH37: =IF(Tab!AH37="","",Tab!AH37) | AI37: =IF(Tab!AI37="","",Tab!AI37) | AJ37: =IF(Tab!AJ37="","",Tab!AJ37) | AK37: =IF(Tab!AK37="","",Tab!AK37) | AL37: =IF(Tab!AL37="","",Tab!AL37) | AM37: =IF(Tab!AM37="","",Tab!AM37) | AN37: =IF(Tab!AN37="","",Tab!AN37) | AO37: =IF(Tab!AO37="","",Tab!AO37) | AP37: =IF(ISERROR(SUM(AH39:AO39)/SUM(AH40:AO40)),"",SUM(AH39:AO39)/SUM(AH40:AO40)) | AR37: =IF(AND(AE37="",AP37=""),"",IF(AE37="",AP37,IF(AP37="",AE37,(AE37*Z37+AP37)/(Z37+1)))) | AS37: =IF(AR37="","",IF(AR37<1,0,ROUND(AR37,0))) | AT37: =IF(AS37="","",15) | AU37: =COUNT(M37:T37,AH37:AO37) -> 0 | AV37: =COUNT(M38:T38,AH38:AO38) -> 0 | AW37: =IF(AU37=AV37,0,1) -> 0
L38: Gewicht | M38: =IF(Tab!M38="","",Tab!M38) | N38: =IF(Tab!N38="","",Tab!N38) | O38: =IF(Tab!O38="","",Tab!O38) | P38: =IF(Tab!P38="","",Tab!P38) | Q38: =IF(Tab!Q38="","",Tab!Q38) | R38: =IF(Tab!R38="","",Tab!R38) | S38: =IF(Tab!S38="","",Tab!S38) | T38: =IF(Tab!T38="","",Tab!T38) | AG38: Gewicht | AH38: =IF(Tab!AH38="","",Tab!AH38) | AI38: =IF(Tab!AI38="","",Tab!AI38) | AJ38: =IF(Tab!AJ38="","",Tab!AJ38) | AK38: =IF(Tab!AK38="","",Tab!AK38) | AL38: =IF(Tab!AL38="","",Tab!AL38) | AM38: =IF(Tab!AM38="","",Tab!AM38) | AN38: =IF(Tab!AN38="","",Tab!AN38) | AO38: =IF(Tab!AO38="","",Tab!AO38)
M39: =IF(M37="","",M37*M38) | N39: =IF(N37="","",N37*N38) | O39: =IF(O37="","",O37*O38) | P39: =IF(P37="","",P37*P38) | Q39: =IF(Q37="","",Q37*Q38) | R39: =IF(R37="","",R37*R38) | S39: =IF(S37="","",S37*S38) | T39: =IF(T37="","",T37*T38) | AH39: =IF(AH37="","",AH37*AH38) | AI39: =IF(AI37="","",AI37*AI38) | AJ39: =IF(AJ37="","",AJ37*AJ38) | AK39: =IF(AK37="","",AK37*AK38) | AL39: =IF(AL37="","",AL37*AL38) | AM39: =IF(AM37="","",AM37*AM38) | AN39: =IF(AN37="","",AN37*AN38) | AO39: =IF(AO37="","",AO37*AO38)
M40: =IF(M37="","",M38) | N40: =IF(N37="","",N38) | O40: =IF(O37="","",O38) | P40: =IF(P37="","",P38) | Q40: =IF(Q37="","",Q38) | R40: =IF(R37="","",R38) | S40: =IF(S37="","",S38) | T40: =IF(T37="","",T38) | AH40: =IF(AH37="","",AH38) | AI40: =IF(AI37="","",AI38) | AJ40: =IF(AJ37="","",AJ38) | AK40: =IF(AK37="","",AK38) | AL40: =IF(AL37="","",AL38) | AM40: =IF(AM37="","",AM38) | AN40: =IF(AN37="","",AN38) | AO40: =IF(AO37="","",AO38)
C41: Fach | E41: =Tab!E41 -> 1 | F41: zu 1 | H41: =IF(Tab!H41="","",Tab!H41) | I41: =IF(Tab!I41="","",Tab!I41) | J41: =IF(AND(H41="",I41=""),"",AVERAGE(H41:I41)) | L41: Note | M41: =IF(Tab!M41="","",Tab!M41) | N41: =IF(Tab!N41="","",Tab!N41) | O41: =IF(Tab!O41="","",Tab!O41) | P41: =IF(Tab!P41="","",Tab!P41) | Q41: =IF(Tab!Q41="","",Tab!Q41) | R41: =IF(Tab!R41="","",Tab!R41) | S41: =IF(Tab!S41="","",Tab!S41) | T41: =IF(Tab!T41="","",Tab!T41) | U41: =IF(ISERROR(SUM(M43:T43)/SUM(M44:T44)),"",SUM(M43:T43)/SUM(M44:T44)) | W41: =IF(AND(J41="",U41=""),"",IF(J41="",U41,IF(U41="",J41,(J41*E41+U41)/(E41+1)))) | X41: =IF(W41="","",IF(W41<1,0,ROUND(W41,0))) | Y41: =IF(X41="","",15) | Z41: 1 | AA41: zu 1 | AC41: =IF(Tab!AC41="","",Tab!AC41) | AD41: =IF(Tab!AD41="","",Tab!AD41) | AE41: =IF(AND(AC41="",AD41=""),"",AVERAGE(AC41:AD41)) | AG41: Note | AH41: =IF(Tab!AH41="","",Tab!AH41) | AI41: =IF(Tab!AI41="","",Tab!AI41) | AJ41: =IF(Tab!AJ41="","",Tab!AJ41) | AK41: =IF(Tab!AK41="","",Tab!AK41) | AL41: =IF(Tab!AL41="","",Tab!AL41) | AM41: =IF(Tab!AM41="","",Tab!AM41) | AN41: =IF(Tab!AN41="","",Tab!AN41) | AO41: =IF(Tab!AO41="","",Tab!AO41) | AP41: =IF(ISERROR(SUM(AH43:AO43)/SUM(AH44:AO44)),"",SUM(AH43:AO43)/SUM(AH44:AO44)) | AR41: =IF(AND(AE41="",AP41=""),"",IF(AE41="",AP41,IF(AP41="",AE41,(AE41*Z41+AP41)/(Z41+1)))) | AS41: =IF(AR41="","",IF(AR41<1,0,ROUND(AR41,0))) | AT41: =IF(AS41="","",15) | AU41: =COUNT(M41:T41,AH41:AO41) -> 0 | AV41: =COUNT(M42:T42,AH42:AO42) -> 0 | AW41: =IF(AU41=AV41,0,1) -> 0
L42: Gewicht | M42: =IF(Tab!M42="","",Tab!M42) | N42: =IF(Tab!N42="","",Tab!N42) | O42: =IF(Tab!O42="","",Tab!O42) | P42: =IF(Tab!P42="","",Tab!P42) | Q42: =IF(Tab!Q42="","",Tab!Q42) | R42: =IF(Tab!R42="","",Tab!R42) | S42: =IF(Tab!S42="","",Tab!S42) | T42: =IF(Tab!T42="","",Tab!T42) | AG42: Gewicht | AH42: =IF(Tab!AH42="","",Tab!AH42) | AI42: =IF(Tab!AI42="","",Tab!AI42) | AJ42: =IF(Tab!AJ42="","",Tab!AJ42) | AK42: =IF(Tab!AK42="","",Tab!AK42) | AL42: =IF(Tab!AL42="","",Tab!AL42) | AM42: =IF(Tab!AM42="","",Tab!AM42) | AN42: =IF(Tab!AN42="","",Tab!AN42) | AO42: =IF(Tab!AO42="","",Tab!AO42)
M43: =IF(M41="","",M41*M42) | N43: =IF(N41="","",N41*N42) | O43: =IF(O41="","",O41*O42) | P43: =IF(P41="","",P41*P42) | Q43: =IF(Q41="","",Q41*Q42) | R43: =IF(R41="","",R41*R42) | S43: =IF(S41="","",S41*S42) | T43: =IF(T41="","",T41*T42) | AH43: =IF(AH41="","",AH41*AH42) | AI43: =IF(AI41="","",AI41*AI42) | AJ43: =IF(AJ41="","",AJ41*AJ42) | AK43: =IF(AK41="","",AK41*AK42) | AL43: =IF(AL41="","",AL41*AL42) | AM43: =IF(AM41="","",AM41*AM42) | AN43: =IF(AN41="","",AN41*AN42) | AO43: =IF(AO41="","",AO41*AO42)
M44: =IF(M41="","",M42) | N44: =IF(N41="","",N42) | O44: =IF(O41="","",O42) | P44: =IF(P41="","",P42) | Q44: =IF(Q41="","",Q42) | R44: =IF(R41="","",R42) | S44: =IF(S41="","",S42) | T44: =IF(T41="","",T42) | AH44: =IF(AH41="","",AH42) | AI44: =IF(AI41="","",AI42) | AJ44: =IF(AJ41="","",AJ42) | AK44: =IF(AK41="","",AK42) | AL44: =IF(AL41="","",AL42) | AM44: =IF(AM41="","",AM42) | AN44: =IF(AN41="","",AN42) | AO44: =IF(AO41="","",AO42)
C45: Fach | E45: =Tab!E45 -> 1 | F45: zu 1 | H45: =IF(Tab!H45="","",Tab!H45) | I45: =IF(Tab!I45="","",Tab!I45) | J45: =IF(AND(H45="",I45=""),"",AVERAGE(H45:I45)) | L45: Note | M45: =IF(Tab!M45="","",Tab!M45) | N45: =IF(Tab!N45="","",Tab!N45) | O45: =IF(Tab!O45="","",Tab!O45) | P45: =IF(Tab!P45="","",Tab!P45) | Q45: =IF(Tab!Q45="","",Tab!Q45) | R45: =IF(Tab!R45="","",Tab!R45) | S45: =IF(Tab!S45="","",Tab!S45) | T45: =IF(Tab!T45="","",Tab!T45) | U45: =IF(ISERROR(SUM(M47:T47)/SUM(M48:T48)),"",SUM(M47:T47)/SUM(M48:T48)) | W45: =IF(AND(J45="",U45=""),"",IF(J45="",U45,IF(U45="",J45,(J45*E45+U45)/(E45+1)))) | X45: =IF(W45="","",IF(W45<1,0,ROUND(W45,0))) | Y45: =IF(X45="","",15) | Z45: 1 | AA45: zu 1 | AC45: =IF(Tab!AC45="","",Tab!AC45) | AD45: =IF(Tab!AD45="","",Tab!AD45) | AE45: =IF(AND(AC45="",AD45=""),"",AVERAGE(AC45:AD45)) | AG45: Note | AH45: =IF(Tab!AH45="","",Tab!AH45) | AI45: =IF(Tab!AI45="","",Tab!AI45) | AJ45: =IF(Tab!AJ45="","",Tab!AJ45) | AK45: =IF(Tab!AK45="","",Tab!AK45) | AL45: =IF(Tab!AL45="","",Tab!AL45) | AM45: =IF(Tab!AM45="","",Tab!AM45) | AN45: =IF(Tab!AN45="","",Tab!AN45) | AO45: =IF(Tab!AO45="","",Tab!AO45) | AP45: =IF(ISERROR(SUM(AH47:AO47)/SUM(AH48:AO48)),"",SUM(AH47:AO47)/SUM(AH48:AO48)) | AR45: =IF(AND(AE45="",AP45=""),"",IF(AE45="",AP45,IF(AP45="",AE45,(AE45*Z45+AP45)/(Z45+1)))) | AS45: =IF(AR45="","",IF(AR45<1,0,ROUND(AR45,0))) | AT45: =IF(AS45="","",15) | AU45: =COUNT(M45:T45,AH45:AO45) -> 0 | AV45: =COUNT(M46:T46,AH46:AO46) -> 0 | AW45: =IF(AU45=AV45,0,1) -> 0
L46: Gewicht | M46: =IF(Tab!M46="","",Tab!M46) | N46: =IF(Tab!N46="","",Tab!N46) | O46: =IF(Tab!O46="","",Tab!O46) | P46: =IF(Tab!P46="","",Tab!P46) | Q46: =IF(Tab!Q46="","",Tab!Q46) | R46: =IF(Tab!R46="","",Tab!R46) | S46: =IF(Tab!S46="","",Tab!S46) | T46: =IF(Tab!T46="","",Tab!T46) | AG46: Gewicht | AH46: =IF(Tab!AH46="","",Tab!AH46) | AI46: =IF(Tab!AI46="","",Tab!AI46) | AJ46: =IF(Tab!AJ46="","",Tab!AJ46) | AK46: =IF(Tab!AK46="","",Tab!AK46) | AL46: =IF(Tab!AL46="","",Tab!AL46) | AM46: =IF(Tab!AM46="","",Tab!AM46) | AN46: =IF(Tab!AN46="","",Tab!AN46) | AO46: =IF(Tab!AO46="","",Tab!AO46)
M47: =IF(M45="","",M45*M46) | N47: =IF(N45="","",N45*N46) | O47: =IF(O45="","",O45*O46) | P47: =IF(P45="","",P45*P46) | Q47: =IF(Q45="","",Q45*Q46) | R47: =IF(R45="","",R45*R46) | S47: =IF(S45="","",S45*S46) | T47: =IF(T45="","",T45*T46) | AH47: =IF(AH45="","",AH45*AH46) | AI47: =IF(AI45="","",AI45*AI46) | AJ47: =IF(AJ45="","",AJ45*AJ46) | AK47: =IF(AK45="","",AK45*AK46) | AL47: =IF(AL45="","",AL45*AL46) | AM47: =IF(AM45="","",AM45*AM46) | AN47: =IF(AN45="","",AN45*AN46) | AO47: =IF(AO45="","",AO45*AO46)
M48: =IF(M45="","",M46) | N48: =IF(N45="","",N46) | O48: =IF(O45="","",O46) | P48: =IF(P45="","",P46) | Q48: =IF(Q45="","",Q46) | R48: =IF(R45="","",R46) | S48: =IF(S45="","",S46) | T48: =IF(T45="","",T46) | AH48: =IF(AH45="","",AH46) | AI48: =IF(AI45="","",AI46) | AJ48: =IF(AJ45="","",AJ46) | AK48: =IF(AK45="","",AK46) | AL48: =IF(AL45="","",AL46) | AM48: =IF(AM45="","",AM46) | AN48: =IF(AN45="","",AN46) | AO48: =IF(AO45="","",AO46)
C49: Fach | E49: =Tab!E49 -> 1 | F49: zu 1 | H49: =IF(Tab!H49="","",Tab!H49) | I49: =IF(Tab!I49="","",Tab!I49) | J49: =IF(AND(H49="",I49=""),"",AVERAGE(H49:I49)) | L49: Note | M49: =IF(Tab!M49="","",Tab!M49) | N49: =IF(Tab!N49="","",Tab!N49) | O49: =IF(Tab!O49="","",Tab!O49) | P49: =IF(Tab!P49="","",Tab!P49) | Q49: =IF(Tab!Q49="","",Tab!Q49) | R49: =IF(Tab!R49="","",Tab!R49) | S49: =IF(Tab!S49="","",Tab!S49) | T49: =IF(Tab!T49="","",Tab!T49) | U49: =IF(ISERROR(SUM(M51:T51)/SUM(M52:T52)),"",SUM(M51:T51)/SUM(M52:T52)) | W49: =IF(AND(J49="",U49=""),"",IF(J49="",U49,IF(U49="",J49,(J49*E49+U49)/(E49+1)))) | X49: =IF(W49="","",IF(W49<1,0,ROUND(W49,0))) | Y49: =IF(X49="","",15) | Z49: 1 | AA49: zu 1 | AC49: =IF(Tab!AC49="","",Tab!AC49) | AD49: =IF(Tab!AD49="","",Tab!AD49) | AE49: =IF(AND(AC49="",AD49=""),"",AVERAGE(AC49:AD49)) | AG49: Note | AH49: =IF(Tab!AH49="","",Tab!AH49) | AI49: =IF(Tab!AI49="","",Tab!AI49) | AJ49: =IF(Tab!AJ49="","",Tab!AJ49) | AK49: =IF(Tab!AK49="","",Tab!AK49) | AL49: =IF(Tab!AL49="","",Tab!AL49) | AM49: =IF(Tab!AM49="","",Tab!AM49) | AN49: =IF(Tab!AN49="","",Tab!AN49) | AO49: =IF(Tab!AO49="","",Tab!AO49) | AP49: =IF(ISERROR(SUM(AH51:AO51)/SUM(AH52:AO52)),"",SUM(AH51:AO51)/SUM(AH52:AO52)) | AR49: =IF(AND(AE49="",AP49=""),"",IF(AE49="",AP49,IF(AP49="",AE49,(AE49*Z49+AP49)/(Z49+1)))) | AS49: =IF(AR49="","",IF(AR49<1,0,ROUND(AR49,0))) | AT49: =IF(AS49="","",15) | AU49: =COUNT(M49:T49,AH49:AO49) -> 0 | AV49: =COUNT(M50:T50,AH50:AO50) -> 0 | AW49: =IF(AU49=AV49,0,1) -> 0
L50: Gewicht | M50: =IF(Tab!M50="","",Tab!M50) | N50: =IF(Tab!N50="","",Tab!N50) | O50: =IF(Tab!O50="","",Tab!O50) | P50: =IF(Tab!P50="","",Tab!P50) | Q50: =IF(Tab!Q50="","",Tab!Q50) | R50: =IF(Tab!R50="","",Tab!R50) | S50: =IF(Tab!S50="","",Tab!S50) | T50: =IF(Tab!T50="","",Tab!T50) | AG50: Gewicht | AH50: =IF(Tab!AH50="","",Tab!AH50) | AI50: =IF(Tab!AI50="","",Tab!AI50) | AJ50: =IF(Tab!AJ50="","",Tab!AJ50) | AK50: =IF(Tab!AK50="","",Tab!AK50) | AL50: =IF(Tab!AL50="","",Tab!AL50) | AM50: =IF(Tab!AM50="","",Tab!AM50) | AN50: =IF(Tab!AN50="","",Tab!AN50) | AO50: =IF(Tab!AO50="","",Tab!AO50)
M51: =IF(M49="","",M49*M50) | N51: =IF(N49="","",N49*N50) | O51: =IF(O49="","",O49*O50) | P51: =IF(P49="","",P49*P50) | Q51: =IF(Q49="","",Q49*Q50) | R51: =IF(R49="","",R49*R50) | S51: =IF(S49="","",S49*S50) | T51: =IF(T49="","",T49*T50) | AH51: =IF(AH49="","",AH49*AH50) | AI51: =IF(AI49="","",AI49*AI50) | AJ51: =IF(AJ49="","",AJ49*AJ50) | AK51: =IF(AK49="","",AK49*AK50) | AL51: =IF(AL49="","",AL49*AL50) | AM51: =IF(AM49="","",AM49*AM50) | AN51: =IF(AN49="","",AN49*AN50) | AO51: =IF(AO49="","",AO49*AO50)
M52: =IF(M49="","",M50) | N52: =IF(N49="","",N50) | O52: =IF(O49="","",O50) | P52: =IF(P49="","",P50) | Q52: =IF(Q49="","",Q50) | R52: =IF(R49="","",R50) | S52: =IF(S49="","",S50) | T52: =IF(T49="","",T50) | AH52: =IF(AH49="","",AH50) | AI52: =IF(AI49="","",AI50) | AJ52: =IF(AJ49="","",AJ50) | AK52: =IF(AK49="","",AK50) | AL52: =IF(AL49="","",AL50) | AM52: =IF(AM49="","",AM50) | AN52: =IF(AN49="","",AN50) | AO52: =IF(AO49="","",AO50)
C53: Fach | E53: =Tab!E53 -> 1 | F53: zu 1 | H53: =IF(Tab!H53="","",Tab!H53) | I53: =IF(Tab!I53="","",Tab!I53) | J53: =IF(AND(H53="",I53=""),"",AVERAGE(H53:I53)) | L53: Note | M53: =IF(Tab!M53="","",Tab!M53) | N53: =IF(Tab!N53="","",Tab!N53) | O53: =IF(Tab!O53="","",Tab!O53) | P53: =IF(Tab!P53="","",Tab!P53) | Q53: =IF(Tab!Q53="","",Tab!Q53) | R53: =IF(Tab!R53="","",Tab!R53) | S53: =IF(Tab!S53="","",Tab!S53) | T53: =IF(Tab!T53="","",Tab!T53) | U53: =IF(ISERROR(SUM(M55:T55)/SUM(M56:T56)),"",SUM(M55:T55)/SUM(M56:T56)) | W53: =IF(AND(J53="",U53=""),"",IF(J53="",U53,IF(U53="",J53,(J53*E53+U53)/(E53+1)))) | X53: =IF(W53="","",IF(W53<1,0,ROUND(W53,0))) | Y53: =IF(X53="","",15) | Z53: 1 | AA53: zu 1 | AC53: =IF(Tab!AC53="","",Tab!AC53) | AD53: =IF(Tab!AD53="","",Tab!AD53) | AE53: =IF(AND(AC53="",AD53=""),"",AVERAGE(AC53:AD53)) | AG53: Note | AH53: =IF(Tab!AH53="","",Tab!AH53) | AI53: =IF(Tab!AI53="","",Tab!AI53) | AJ53: =IF(Tab!AJ53="","",Tab!AJ53) | AK53: =IF(Tab!AK53="","",Tab!AK53) | AL53: =IF(Tab!AL53="","",Tab!AL53) | AM53: =IF(Tab!AM53="","",Tab!AM53) | AN53: =IF(Tab!AN53="","",Tab!AN53) | AO53: =IF(Tab!AO53="","",Tab!AO53) | AP53: =IF(ISERROR(SUM(AH55:AO55)/SUM(AH56:AO56)),"",SUM(AH55:AO55)/SUM(AH56:AO56)) | AR53: =IF(AND(AE53="",AP53=""),"",IF(AE53="",AP53,IF(AP53="",AE53,(AE53*Z53+AP53)/(Z53+1)))) | AS53: =IF(AR53="","",IF(AR53<1,0,ROUND(AR53,0))) | AT53: =IF(AS53="","",15) | AU53: =COUNT(M53:T53,AH53:AO53) -> 0 | AV53: =COUNT(M54:T54,AH54:AO54) -> 0 | AW53: =IF(AU53=AV53,0,1) -> 0
L54: Gewicht | M54: =IF(Tab!M54="","",Tab!M54) | N54: =IF(Tab!N54="","",Tab!N54) | O54: =IF(Tab!O54="","",Tab!O54) | P54: =IF(Tab!P54="","",Tab!P54) | Q54: =IF(Tab!Q54="","",Tab!Q54) | R54: =IF(Tab!R54="","",Tab!R54) | S54: =IF(Tab!S54="","",Tab!S54) | T54: =IF(Tab!T54="","",Tab!T54) | AG54: Gewicht | AH54: =IF(Tab!AH54="","",Tab!AH54) | AI54: =IF(Tab!AI54="","",Tab!AI54) | AJ54: =IF(Tab!AJ54="","",Tab!AJ54) | AK54: =IF(Tab!AK54="","",Tab!AK54) | AL54: =IF(Tab!AL54="","",Tab!AL54) | AM54: =IF(Tab!AM54="","",Tab!AM54) | AN54: =IF(Tab!AN54="","",Tab!AN54) | AO54: =IF(Tab!AO54="","",Tab!AO54)
M55: =IF(M53="","",M53*M54) | N55: =IF(N53="","",N53*N54) | O55: =IF(O53="","",O53*O54) | P55: =IF(P53="","",P53*P54) | Q55: =IF(Q53="","",Q53*Q54) | R55: =IF(R53="","",R53*R54) | S55: =IF(S53="","",S53*S54) | T55: =IF(T53="","",T53*T54) | AH55: =IF(AH53="","",AH53*AH54) | AI55: =IF(AI53="","",AI53*AI54) | AJ55: =IF(AJ53="","",AJ53*AJ54) | AK55: =IF(AK53="","",AK53*AK54) | AL55: =IF(AL53="","",AL53*AL54) | AM55: =IF(AM53="","",AM53*AM54) | AN55: =IF(AN53="","",AN53*AN54) | AO55: =IF(AO53="","",AO53*AO54)
M56: =IF(M53="","",M54) | N56: =IF(N53="","",N54) | O56: =IF(O53="","",O54) | P56: =IF(P53="","",P54) | Q56: =IF(Q53="","",Q54) | R56: =IF(R53="","",R54) | S56: =IF(S53="","",S54) | T56: =IF(T53="","",T54) | AH56: =IF(AH53="","",AH54) | AI56: =IF(AI53="","",AI54) | AJ56: =IF(AJ53="","",AJ54) | AK56: =IF(AK53="","",AK54) | AL56: =IF(AL53="","",AL54) | AM56: =IF(AM53="","",AM54) | AN56: =IF(AN53="","",AN54) | AO56: =IF(AO53="","",AO54)
C57: Fach | E57: =Tab!E57 -> 1 | F57: zu 1 | H57: =IF(Tab!H57="","",Tab!H57) | I57: =IF(Tab!I57="","",Tab!I57) | J57: =IF(AND(H57="",I57=""),"",AVERAGE(H57:I57)) | L57: Note | M57: =IF(Tab!M57="","",Tab!M57) | N57: =IF(Tab!N57="","",Tab!N57) | O57: =IF(Tab!O57="","",Tab!O57) | P57: =IF(Tab!P57="","",Tab!P57) | Q57: =IF(Tab!Q57="","",Tab!Q57) | R57: =IF(Tab!R57="","",Tab!R57) | S57: =IF(Tab!S57="","",Tab!S57) | T57: =IF(Tab!T57="","",Tab!T57) | U57: =IF(ISERROR(SUM(M59:T59)/SUM(M60:T60)),"",SUM(M59:T59)/SUM(M60:T60)) | W57: =IF(AND(J57="",U57=""),"",IF(J57="",U57,IF(U57="",J57,(J57*E57+U57)/(E57+1)))) | X57: =IF(W57="","",IF(W57<1,0,ROUND(W57,0))) | Y57: =IF(X57="","",15) | Z57: 1 | AA57: zu 1 | AC57: =IF(Tab!AC57="","",Tab!AC57) | AD57: =IF(Tab!AD57="","",Tab!AD57) | AE57: =IF(AND(AC57="",AD57=""),"",AVERAGE(AC57:AD57)) | AG57: Note | AH57: =IF(Tab!AH57="","",Tab!AH57) | AI57: =IF(Tab!AI57="","",Tab!AI57) | AJ57: =IF(Tab!AJ57="","",Tab!AJ57) | AK57: =IF(Tab!AK57="","",Tab!AK57) | AL57: =IF(Tab!AL57="","",Tab!AL57) | AM57: =IF(Tab!AM57="","",Tab!AM57) | AN57: =IF(Tab!AN57="","",Tab!AN57) | AO57: =IF(Tab!AO57="","",Tab!AO57) | AP57: =IF(ISERROR(SUM(AH59:AO59)/SUM(AH60:AO60)),"",SUM(AH59:AO59)/SUM(AH60:AO60)) | AR57: =IF(AND(AE57="",AP57=""),"",IF(AE57="",AP57,IF(AP57="",AE57,(AE57*Z57+AP57)/(Z57+1)))) | AS57: =IF(AR57="","",IF(AR57<1,0,ROUND(AR57,0))) | AT57: =IF(AS57="","",15) | AU57: =COUNT(M57:T57,AH57:AO57) -> 0 | AV57: =COUNT(M58:T58,AH58:AO58) -> 0 | AW57: =IF(AU57=AV57,0,1) -> 0
L58: Gewicht | M58: =IF(Tab!M58="","",Tab!M58) | N58: =IF(Tab!N58="","",Tab!N58) | O58: =IF(Tab!O58="","",Tab!O58) | P58: =IF(Tab!P58="","",Tab!P58) | Q58: =IF(Tab!Q58="","",Tab!Q58) | R58: =IF(Tab!R58="","",Tab!R58) | S58: =IF(Tab!S58="","",Tab!S58) | T58: =IF(Tab!T58="","",Tab!T58) | AG58: Gewicht | AH58: =IF(Tab!AH58="","",Tab!AH58) | AI58: =IF(Tab!AI58="","",Tab!AI58) | AJ58: =IF(Tab!AJ58="","",Tab!AJ58) | AK58: =IF(Tab!AK58="","",Tab!AK58) | AL58: =IF(Tab!AL58="","",Tab!AL58) | AM58: =IF(Tab!AM58="","",Tab!AM58) | AN58: =IF(Tab!AN58="","",Tab!AN58) | AO58: =IF(Tab!AO58="","",Tab!AO58)
M59: =IF(M57="","",M57*M58) | N59: =IF(N57="","",N57*N58) | O59: =IF(O57="","",O57*O58) | P59: =IF(P57="","",P57*P58) | Q59: =IF(Q57="","",Q57*Q58) | R59: =IF(R57="","",R57*R58) | S59: =IF(S57="","",S57*S58) | T59: =IF(T57="","",T57*T58) | AH59: =IF(AH57="","",AH57*AH58) | AI59: =IF(AI57="","",AI57*AI58) | AJ59: =IF(AJ57="","",AJ57*AJ58) | AK59: =IF(AK57="","",AK57*AK58) | AL59: =IF(AL57="","",AL57*AL58) | AM59: =IF(AM57="","",AM57*AM58) | AN59: =IF(AN57="","",AN57*AN58) | AO59: =IF(AO57="","",AO57*AO58)
M60: =IF(M57="","",M58) | N60: =IF(N57="","",N58) | O60: =IF(O57="","",O58) | P60: =IF(P57="","",P58) | Q60: =IF(Q57="","",Q58) | R60: =IF(R57="","",R58) | S60: =IF(S57="","",S58) | T60: =IF(T57="","",T58) | AH60: =IF(AH57="","",AH58) | AI60: =IF(AI57="","",AI58) | AJ60: =IF(AJ57="","",AJ58) | AK60: =IF(AK57="","",AK58) | AL60: =IF(AL57="","",AL58) | AM60: =IF(AM57="","",AM58) | AN60: =IF(AN57="","",AN58) | AO60: =IF(AO57="","",AO58)
C61: Fach | E61: =Tab!E61 -> 1 | F61: zu 1 | H61: =IF(Tab!H61="","",Tab!H61) | I61: =IF(Tab!I61="","",Tab!I61) | J61: =IF(AND(H61="",I61=""),"",AVERAGE(H61:I61)) | L61: Note | M61: =IF(Tab!M61="","",Tab!M61) | N61: =IF(Tab!N61="","",Tab!N61) | O61: =IF(Tab!O61="","",Tab!O61) | P61: =IF(Tab!P61="","",Tab!P61) | Q61: =IF(Tab!Q61="","",Tab!Q61) | R61: =IF(Tab!R61="","",Tab!R61) | S61: =IF(Tab!S61="","",Tab!S61) | T61: =IF(Tab!T61="","",Tab!T61) | U61: =IF(ISERROR(SUM(M63:T63)/SUM(M64:T64)),"",SUM(M63:T63)/SUM(M64:T64)) | W61: =IF(AND(J61="",U61=""),"",IF(J61="",U61,IF(U61="",J61,(J61*E61+U61)/(E61+1)))) | X61: =IF(W61="","",IF(W61<1,0,ROUND(W61,0))) | Y61: =IF(X61="","",15) | Z61: 1 | AA61: zu 1 | AC61: =IF(Tab!AC61="","",Tab!AC61) | AD61: =IF(Tab!AD61="","",Tab!AD61) | AE61: =IF(AND(AC61="",AD61=""),"",AVERAGE(AC61:AD61)) | AG61: Note | AH61: =IF(Tab!AH61="","",Tab!AH61) | AI61: =IF(Tab!AI61="","",Tab!AI61) | AJ61: =IF(Tab!AJ61="","",Tab!AJ61) | AK61: =IF(Tab!AK61="","",Tab!AK61) | AL61: =IF(Tab!AL61="","",Tab!AL61) | AM61: =IF(Tab!AM61="","",Tab!AM61) | AN61: =IF(Tab!AN61="","",Tab!AN61) | AO61: =IF(Tab!AO61="","",Tab!AO61) | AP61: =IF(ISERROR(SUM(AH63:AO63)/SUM(AH64:AO64)),"",SUM(AH63:AO63)/SUM(AH64:AO64)) | AR61: =IF(AND(AE61="",AP61=""),"",IF(AE61="",AP61,IF(AP61="",AE61,(AE61*Z61+AP61)/(Z61+1)))) | AS61: =IF(AR61="","",IF(AR61<1,0,ROUND(AR61,0))) | AT61: =IF(AS61="","",15) | AU61: =COUNT(M61:T61,AH61:AO61) -> 0 | AV61: =COUNT(M62:T62,AH62:AO62) -> 0 | AW61: =IF(AU61=AV61,0,1) -> 0
L62: Gewicht | M62: =IF(Tab!M62="","",Tab!M62) | N62: =IF(Tab!N62="","",Tab!N62) | O62: =IF(Tab!O62="","",Tab!O62) | P62: =IF(Tab!P62="","",Tab!P62) | Q62: =IF(Tab!Q62="","",Tab!Q62) | R62: =IF(Tab!R62="","",Tab!R62) | S62: =IF(Tab!S62="","",Tab!S62) | T62: =IF(Tab!T62="","",Tab!T62) | AG62: Gewicht | AH62: =IF(Tab!AH62="","",Tab!AH62) | AI62: =IF(Tab!AI62="","",Tab!AI62) | AJ62: =IF(Tab!AJ62="","",Tab!AJ62) | AK62: =IF(Tab!AK62="","",Tab!AK62) | AL62: =IF(Tab!AL62="","",Tab!AL62) | AM62: =IF(Tab!AM62="","",Tab!AM62) | AN62: =IF(Tab!AN62="","",Tab!AN62) | AO62: =IF(Tab!AO62="","",Tab!AO62)
M63: =IF(M61="","",M61*M62) | N63: =IF(N61="","",N61*N62) | O63: =IF(O61="","",O61*O62) | P63: =IF(P61="","",P61*P62) | Q63: =IF(Q61="","",Q61*Q62) | R63: =IF(R61="","",R61*R62) | S63: =IF(S61="","",S61*S62) | T63: =IF(T61="","",T61*T62) | AH63: =IF(AH61="","",AH61*AH62) | AI63: =IF(AI61="","",AI61*AI62) | AJ63: =IF(AJ61="","",AJ61*AJ62) | AK63: =IF(AK61="","",AK61*AK62) | AL63: =IF(AL61="","",AL61*AL62) | AM63: =IF(AM61="","",AM61*AM62) | AN63: =IF(AN61="","",AN61*AN62) | AO63: =IF(AO61="","",AO61*AO62)
M64: =IF(M61="","",M62) | N64: =IF(N61="","",N62) | O64: =IF(O61="","",O62) | P64: =IF(P61="","",P62) | Q64: =IF(Q61="","",Q62) | R64: =IF(R61="","",R62) | S64: =IF(S61="","",S62) | T64: =IF(T61="","",T62) | AH64: =IF(AH61="","",AH62) | AI64: =IF(AI61="","",AI62) | AJ64: =IF(AJ61="","",AJ62) | AK64: =IF(AK61="","",AK62) | AL64: =IF(AL61="","",AL62) | AM64: =IF(AM61="","",AM62) | AN64: =IF(AN61="","",AN62) | AO64: =IF(AO61="","",AO62)
AU65: =SUM(AU9:AU64) -> 0 | AV65: =SUM(AV9:AV64) -> 0 | AW65: =SUM(AW9:AW62) -> 0
AV67: =IF(AU65<AV65,"Note fehlt",IF(AV65<AU65,"Gewichtung fehlt",IF(AW65>0,"Note/Gewichtung fehlt","")))

Sheet wichtige Hinweise
