Workbook

Sheet Tab1
B2: Notenrechner für den Fachabiturschnitt!!
B3: Name | D3: Vorname | I3: Fachrichtung wählen
B4: xyz | D4: rst
B5: Wirtschaft u. Verwaltung | E5: Halbjahresergebnisse in Punkten (gleichgewichtig/einfach); linke (grüne) Spalte Note eintragen; rechte (gelbe) Spalte Note abwählen | M5: A nzahl HJ-Noten | N5: abgewählte HJ-Noten | O5: Eingabe-Hinweise | P5: Noten-schnitt mit/ ohne Opti-mierung | T5: schriftl. Prfg | U5: mdl. Prfg | V5: Prüfung gesamt | W5: Gewicht d. Prfg | Z5: Gesamt-ergebnis im Fach als Punktzahl gerundet gemäß § 49 Abs. 9 | AB5: Gesamt-ergebnis im Fach als Note gerundet gemäß § 49 Abs. 1 Satz 2
C6: 11. Klasse | D6: 12. Klasse | E6: 11|1 | G6: 11|2 | I6: 12|1 | K6: 12|2 | P6: ohne | Q6: mit | AD6: ='B1'!AD30 -> Prüfungsnoten nicht komplett
B7: Religionslehre/Ethik | M7: =COUNTA(E7,G7,I7,K7) -> 0 | N7: =COUNTA(F7,H7,J7,L7) -> 0 | O7: ='B1'!Q7 -> Note fehlt | P7: ='B1'!V7 | Q7: ='B1'!O40 -> - - | Z7: ='B1'!Y7 | AA7: ='B1'!Z7 | AB7: ='B1'!AA7 | AC7: ='B1'!AB7
B8: Deutsch | M8: =COUNTA(E8,G8,I8,K8) -> 0 | N8: =COUNTA(F8,H8,J8,L8) -> 0 | O8: ='B1'!Q8 -> Note fehlt | P8: ='B1'!V8 | Q8: ='B1'!O41 -> - - | V8: =IF(AND(T8="",U8=""),"",IF(U8="",T8,ROUND((T8*2+U8)/3,0))) | W8: ='B1'!$C$35 -> 3 | Z8: ='B1'!Y8 | AA8: ='B1'!Z8 | AB8: ='B1'!AA8 | AC8: ='B1'!AB8
B9: Englisch | M9: =COUNTA(E9,G9,I9,K9) -> 0 | N9: =COUNTA(F9,H9,J9,L9) -> 0 | O9: ='B1'!Q9 -> Note fehlt | P9: ='B1'!V9 | Q9: ='B1'!O42 -> - - | V9: =IF(AND(T9="",U9=""),"",IF(U9="",T9,ROUND((T9*2+U9)/3,0))) | W9: ='B1'!$C$35 -> 3 | Z9: ='B1'!Y9 | AA9: ='B1'!Z9 | AB9: ='B1'!AA9 | AC9: ='B1'!AB9
B10: Geschichte | M10: =COUNTA(E10,G10,I10,K10) -> 0 | N10: =COUNTA(F10,H10,J10,L10) -> 0 | O10: ='B1'!Q10 -> Note fehlt | P10: ='B1'!V10 | Q10: ='B1'!O43 -> - - | Z10: ='B1'!Y10 | AA10: ='B1'!Z10 | AB10: ='B1'!AA10 | AC10: ='B1'!AB10
B11: Sozialkunde | M11: =COUNTA(E11,G11,I11,K11) -> 0 | N11: =COUNTA(F11,H11,J11,L11) -> 0 | O11: ='B1'!Q11 -> Note fehlt | P11: ='B1'!V11 | Q11: ='B1'!O44 -> - - | Z11: ='B1'!Y11 | AA11: ='B1'!Z11 | AB11: ='B1'!AA11 | AC11: ='B1'!AB11
B12: Mathematik | M12: =COUNTA(E12,G12,I12,K12) -> 0 | N12: =COUNTA(F12,H12,J12,L12) -> 0 | O12: ='B1'!Q12 -> Note fehlt | P12: ='B1'!V12 | Q12: ='B1'!O45 -> - - | V12: =IF(AND(T12="",U12=""),"",IF(U12="",T12,ROUND((T12*2+U12)/3,0))) | W12: ='B1'!$C$35 -> 3 | Z12: ='B1'!Y12 | AA12: ='B1'!Z12 | AB12: ='B1'!AA12 | AC12: ='B1'!AB12
Z13: ='B1'!Y13 | AA13: ='B1'!Z13 | AB13: ='B1'!AA13 | AC13: ='B1'!AB13
B14: Profilfach 1 | C14: ='B1'!C14 -> BwR | D14: ='B1'!D14 -> BwR | M14: =COUNTA(E14,G14,I14,K14) -> 0 | N14: =COUNTA(F14,H14,J14,L14) -> 0 | O14: ='B1'!Q14 -> Note fehlt | P14: ='B1'!V14 | Q14: ='B1'!O47 -> - - | V14: =IF(AND(T14="",U14=""),"",IF(U14="",T14,ROUND((T14*2+U14)/3,0))) | W14: ='B1'!$C$35 -> 3 | Z14: ='B1'!Y14 | AA14: ='B1'!Z14 | AB14: ='B1'!AA14 | AC14: ='B1'!AB14
B15: Profilfach 2 | C15: ='B1'!C15 -> VWL | D15: ='B1'!D15 -> VWL | M15: =COUNTA(E15,G15,I15,K15) -> 0 | N15: =COUNTA(F15,H15,J15,L15) -> 0 | O15: ='B1'!Q15 -> Note fehlt | P15: ='B1'!V15 | Q15: ='B1'!O48 -> - - | Z15: ='B1'!Y15 | AA15: ='B1'!Z15 | AB15: ='B1'!AA15 | AC15: ='B1'!AB15
B16: Profilfach 3 | C16: ='B1'!C16 -> Rechtslehre | D16: ='B1'!D16 -> Naturwissensch.
B17: Noten Profilfach 3 Nicht-Techniker | C17: 11. Klasse | M17: =COUNTA(E17,G17,I17,K17) -> 0 | N17: =COUNTA(F17,H17,J17,L17) -> 0 | O17: ='B1'!Q17 -> Profilfach 3 fehlt | P17: ='B1'!V17 | Q17: ='B1'!O50 -> - - | Z17: ='B1'!Y17 | AA17: ='B1'!Z17 | AB17: ='B1'!AA17 | AC17: ='B1'!AB17
C18: 12. Klasse | M18: =COUNTA(E18,G18,I18,K18) -> 0 | N18: =COUNTA(F18,H18,J18,L18) -> 0 | O18: ='B1'!Q18 -> Profilfach 3 fehlt | P18: ='B1'!V18 | Q18: ='B1'!O51 -> - - | Z18: ='B1'!Y18 | AA18: ='B1'!Z18 | AB18: ='B1'!AA18 | AC18: ='B1'!AB18
B19: Noten Profilfach 3 Techniker | M19: =COUNTA(E19,G19,I19,K19) -> 0 | N19: =COUNTA(F19,H19,J19,L19) -> 0 | O19: ='B1'!Q19 -> Profilfach 3 fehlt | P19: ='B1'!V19 | Q19: ='B1'!O52 -> - - | Z19: ='B1'!Y19 | AA19: ='B1'!Z19 | AB19: ='B1'!AA19 | AC19: ='B1'!AB19 | AF19: aktuelle Durchschnittsnote:
B21: Profilfach 4 | D21: ='B1'!D21 -> Informatik | M21: =COUNTA(E21,G21,I21,K21) -> 0 | N21: =COUNTA(F21,H21,J21,L21) -> 0 | O21: ='B1'!Q21 -> Note fehlt | P21: ='B1'!V21 | Q21: ='B1'!O54 -> - - | Z21: ='B1'!Y21 | AA21: ='B1'!Z21 | AB21: ='B1'!AA21 | AC21: ='B1'!AB21
B22: Wahlpflichtfach 1 | M22: =COUNTA(E22,G22,I22,K22) -> 0 | N22: =COUNTA(F22,H22,J22,L22) -> 0 | O22: ='B1'!Q22 -> Note fehlt | P22: ='B1'!V22 | Q22: ='B1'!O55 -> - - | Z22: ='B1'!Y22 | AA22: ='B1'!Z22 | AB22: ='B1'!AA22 | AC22: ='B1'!AB22 | AG22: ='B1'!M66 -> #DIV/0!
B23: Wahlpflichtfach 2 | M23: =COUNTA(E23,G23,I23,K23) -> 0 | N23: =COUNTA(F23,H23,J23,L23) -> 0 | O23: ='B1'!Q23 -> Note fehlt | P23: ='B1'!V23 | Q23: ='B1'!O56 -> - - | Z23: ='B1'!Y23 | AA23: ='B1'!Z23 | AB23: ='B1'!AA23 | AC23: ='B1'!AB23 | AG23: ='B1'!M67 -> #DIV/0!
B24: Wahlpflichtfach 3 | C24: hat nicht jeder | M24: =COUNTA(E24,G24,I24,K24) -> 0 | N24: =COUNTA(F24,H24,J24,L24) -> 0 | O24: ='B1'!Q24 -> okay | P24: ='B1'!V24 | Q24: ='B1'!O57 -> - -
C25: Fachreferat | M25: =COUNTA(E25,G25,I25,K25) -> 0 | O25: ='B1'!Q25 -> Note fehlt | Z25: ='B1'!Y25 | AA25: ='B1'!Z25 -> #VALUE! | AB25: ='B1'!AA25 -> #VALUE! | AC25: ='B1'!AB25 -> #VALUE!
C26: fachprakt. Ausb. | M26: =COUNTA(E26,G26,I26,K26) -> 0 | Z26: ='B1'!Y26 -> #VALUE! | AA26: ='B1'!Z26 -> #VALUE! | AB26: ='B1'!AA26 -> #VALUE! | AC26: ='B1'!AB26 -> #VALUE!
V28: Achtung: Keine Gewähr für das korrekte Berechnen der Werte!!!
B29: © Franz Besl, FOS Landshut | E29: Version: 02. Feb. 2019
G33: Eingabewerte
G34: Noten | H34: Fach-Auswahl
C35: Sozialwesen | D35: 1 | G35: 15 | H35: X
C36: Technik | D36: 2 | G36: 14
C37: Wirtschaft u. Verwaltung | D37: 3 | G37: 13 | H37: x
C38: Intern. Wirtschaft | D38: 4 | G38: 12
G39: 11
G40: 10
G41: 9
G42: 8
G43: 7
G44: 6
G45: 5
G46: 4
G47: 3
G48: 2
G49: 1
G50: 0
C62: Klassen-Wahl: | D62: BOS12 | E62: FOS 11 u. 12
D63: FALSE | E63: TRUE
C64: Technik ?? | D64: =IF(B5="Technik",TRUE,FALSE) -> FALSE
D66: FOS Format
D88: BOS Format

Sheet Hinweise

Sheet B1
B1: Berechnungstabelle im Hintergrund
O2: Note fehlt | AO2: ='Tab1'!B5 -> Wirtschaft u. Verwaltung | AP2: Sozialwesen | AQ2: 1 | AR2: =VLOOKUP($AO$2,$AP$2:$AQ$5,2,FALSE) -> 3 | AT2: 11. Klasse | AX2: Gewählt | AY2: 12. Klasse | BC2: Gewählt
AP3: Technik | AQ3: 2 | AT3: Sozialwesen | AU3: Technik | AV3: Wirtschaft und Verw. | AW3: Intern. Wirtschaft | AX3: . | AY3: Sozialwesen | AZ3: Technik | BA3: Wirtschaft und Verw. | BB3: Intern. Wirtschaft | BC3: .
AP4: Wirtschaft u. Verwaltung | AQ4: 3 | AS4: Profilfach 1 | AT4: PäPsy | AU4: Physik | AV4: BwR | AW4: IBV | AX4: =VLOOKUP($AS4,$AS$3:$BB$7,$AR$2+1,FALSE) -> BwR | AY4: PäPsy | AZ4: Physik | BA4: BwR | BB4: IBV | BC4: =VLOOKUP($AS4,$AS$3:$BB$7,$AR$2+6,FALSE) -> BwR
C5: 11. Klasse | D5: 12. Klasse | E5: relevante Halbjahresergebnisse nach Punkten (gleichgewichtig) | M5: ='Tab1'!M5 -> A nzahl HJ-Noten | N5: ='Tab1'!N5 -> abgewählte HJ-Noten | O5: Hinweise bei fehlerhafter Eingab e | P5: Prüfen ob Fach ohne Note gewählt! | Q5: FehlerHinweis (zusammengeführt) | S5: Prüfungsergebnis in Punkten | T5: Gewichtungsfaktor der Prüfung | U5: Durchschnitt der eingebrachten Halbjahresergebnisse | W5: Teiler minimal / maximal | Y5: Gesamtergebnis im Fach als Punktzahl gerundet gemäß § 49 Abs. 9 | AA5: Gesamtergebnis im Fach als Note gerundet gemäß § 49 Abs. 1 Satz 2 | AC5: Kontrolle ob ein Ergebnis schlechtger als ausreichend | AD5: Fachbiturbestanden, falls sämtliche Gesamtergebnisse mindestens "ausreichend" | AG5: 11|1 | AH5: 11|2 | AI5: 12|1 | AJ5: 12|2 | AK5: Gesamt aus 11 und 12 | AL5: Prüfungsnote gewichtet | AP5: Intern. Wirtschaft | AQ5: 4 | AS5: Profilfach 2 | AT5: Sozialwirts. u.Recht | AU5: Technologie | AV5: VWL | AW5: Franz.o. Span. | AX5: =VLOOKUP($AS5,$AS$3:$BB$7,$AR$2+1,FALSE) -> VWL | AY5: Sozialwirts. u.Recht | AZ5: Technologie | BA5: VWL | BB5: Franz. o.Span. | BC5: =VLOOKUP($AS5,$AS$3:$BB$7,$AR$2+6,FALSE) -> VWL
B6: ='Tab1'!B5 -> Wirtschaft u. Verwaltung | E6: 11|1 | F6: Ab-wahl | G6: 11|2 | H6: Ab-wahl | I6: 12|1 | J6: Ab-wahl | K6: 12|2 | L6: Ab-wahl | U6: ohne Streichung | V6: gerundet | AD6: =AD30 -> Prüfungsnoten nicht komplett | AS6: Profilfach 3 | AT6: Chemie | AU6: Chemie | AV6: Rechtslehre | AW6: Rechtslehre | AX6: =VLOOKUP($AS6,$AS$3:$BB$7,$AR$2+1,FALSE) -> Rechtslehre | AY6: Biologie | AZ6: Chemie | BA6: Naturwissensch. | BB6: Naturwissensch. | BC6: =VLOOKUP($AS6,$AS$3:$BB$7,$AR$2+6,FALSE) -> Naturwissensch.
B7: Religionslehre/Ethik | E7: =IF('Tab1'!E7="","",'Tab1'!E7) | F7: =IF('Tab1'!F7="","","1") | G7: =IF('Tab1'!G7="","",'Tab1'!G7) | H7: =IF('Tab1'!H7="","",1) | I7: =IF('Tab1'!I7="","",'Tab1'!I7) | J7: =IF('Tab1'!J7="","",1) | K7: =IF('Tab1'!K7="","",'Tab1'!K7) | L7: =IF('Tab1'!L7="","",1) | M7: ='Tab1'!M7 -> 0 | N7: ='Tab1'!N7 -> 0 | O7: =IF(M7=0,$O$2,IF(N7>1,"nur eine Note abwählen","okay")) -> Note fehlt | P7: =IF(OR(AND(E7="",F7<>""),AND(G7="",H7<>""),AND(I7="",J7<>""),AND(K7="",L7<>"")),"Fach ohne Note gewählt","okay") -> okay | Q7: =IF(O7<>"okay",O7,P7) -> Note fehlt | R7: =IF(Q7="okay",0,1) -> 1 | U7: =IF(ISERROR(SUM(E7,G7,I7,K7)/M7),"",SUM(E7,G7,I7,K7)/M7) | V7: =IF(U7="","",ROUND(U7,0)) | W7: 1|2 | X7: =N7+T7 -> 0 | Y7: =IF(X7=0,"",(AK7+AL7)/(N7+T7)) | Z7: =IF(Y7="","",ROUND(Y7,0)) | AA7: =IF(Z7="","",VLOOKUP(Z7,$AW$12:$AY$30,3,FALSE)) | AB7: =IF(Z7="","",VLOOKUP(Z7,$AW$12:$AY$30,2,FALSE)) | AC7: =IF(AB7="","",IF(AB7>4,1,0)) | AG7: =IF(E7="","",IF(F7="","",E7)) | AH7: =IF(G7="","",IF(H7="","",G7)) | AI7: =IF(I7="","",IF(J7="","",I7)) | AJ7: =IF(K7="","",IF(L7="","",K7)) | AK7: =SUM(AG7:AJ7) -> 0 | AS7: Profilfach 4 | AY7: Soziologie | AZ7: Mathem. Add. | BA7: Informatik | BB7: Intern. Busi.Stud. | BC7: =VLOOKUP($AS7,$AS$3:$BB$7,$AR$2+6,FALSE) -> Informatik
B8: Deutsch | E8: =IF('Tab1'!E8="","",'Tab1'!E8) | F8: =IF('Tab1'!F8="","","1") | G8: =IF('Tab1'!G8="","",'Tab1'!G8) | H8: =IF('Tab1'!H8="","",1) | I8: =IF('Tab1'!I8="","",'Tab1'!I8) | J8: =IF('Tab1'!J8="","",1) | K8: =IF('Tab1'!K8="","",'Tab1'!K8) | L8: =IF('Tab1'!L8="","",1) | M8: ='Tab1'!M8 -> 0 | N8: ='Tab1'!N8 -> 0 | O8: =IF(M8=0,$O$2,IF(N8>1,"nur eine Note abwählen","okay")) -> Note fehlt | P8: =IF(OR(AND(E8="",F8<>""),AND(G8="",H8<>""),AND(I8="",J8<>""),AND(K8="",L8<>"")),"Fach ohne Note gewählt","okay") -> okay | Q8: =IF(O8<>"okay",O8,P8) -> Note fehlt | R8: =IF(Q8="okay",0,1) -> 1 | S8: =IF('Tab1'!V8="","",'Tab1'!V8) | T8: =$C$35 -> 3 | U8: =IF(ISERROR(SUM(E8,G8,I8,K8)/M8),"",SUM(E8,G8,I8,K8)/M8) | V8: =IF(U8="","",ROUND(U8,0)) | W8: 4|6 | X8: =N8+T8 -> 3 | Y8: =IF(S8="","",(AK8+AL8)/(N8+T8)) | Z8: =IF(Y8="","",ROUND(Y8,0)) | AA8: =IF(Z8="","",VLOOKUP(Z8,$AW$12:$AY$30,3,FALSE)) | AB8: =IF(Z8="","",VLOOKUP(Z8,$AW$12:$AY$30,2,FALSE)) | AC8: =IF(AB8="","",IF(AB8>4,1,0)) | AG8: =IF(E8="","",IF(F8="","",E8)) | AH8: =IF(G8="","",IF(H8="","",G8)) | AI8: =IF(I8="","",IF(J8="","",I8)) | AJ8: =IF(K8="","",IF(L8="","",K8)) | AK8: =SUM(AG8:AJ8) -> 0 | AL8: =IF(S8="","",3*S8)
B9: Englisch | E9: =IF('Tab1'!E9="","",'Tab1'!E9) | F9: =IF('Tab1'!F9="","","1") | G9: =IF('Tab1'!G9="","",'Tab1'!G9) | H9: =IF('Tab1'!H9="","",1) | I9: =IF('Tab1'!I9="","",'Tab1'!I9) | J9: =IF('Tab1'!J9="","",1) | K9: =IF('Tab1'!K9="","",'Tab1'!K9) | L9: =IF('Tab1'!L9="","",1) | M9: ='Tab1'!M9 -> 0 | N9: ='Tab1'!N9 -> 0 | O9: =IF(M9=0,$O$2,IF(N9>1,"nur eine Note abwählen","okay")) -> Note fehlt | P9: =IF(OR(AND(E9="",F9<>""),AND(G9="",H9<>""),AND(I9="",J9<>""),AND(K9="",L9<>"")),"Fach ohne Note gewählt","okay") -> okay | Q9: =IF(O9<>"okay",O9,P9) -> Note fehlt | R9: =IF(Q9="okay",0,1) -> 1 | S9: =IF('Tab1'!V9="","",'Tab1'!V9) | T9: =$C$35 -> 3 | U9: =IF(ISERROR(SUM(E9,G9,I9,K9)/M9),"",SUM(E9,G9,I9,K9)/M9) | V9: =IF(U9="","",ROUND(U9,0)) | W9: 4|6 | X9: =N9+T9 -> 3 | Y9: =IF(S9="","",(AK9+AL9)/(N9+T9)) | Z9: =IF(Y9="","",ROUND(Y9,0)) | AA9: =IF(Z9="","",VLOOKUP(Z9,$AW$12:$AY$30,3,FALSE)) | AB9: =IF(Z9="","",VLOOKUP(Z9,$AW$12:$AY$30,2,FALSE)) | AC9: =IF(AB9="","",IF(AB9>4,1,0)) | AG9: =IF(E9="","",IF(F9="","",E9)) | AH9: =IF(G9="","",IF(H9="","",G9)) | AI9: =IF(I9="","",IF(J9="","",I9)) | AJ9: =IF(K9="","",IF(L9="","",K9)) | AK9: =SUM(AG9:AJ9) -> 0 | AL9: =IF(S9="","",3*S9)
B10: Geschichte | E10: =IF('Tab1'!E10="","",'Tab1'!E10) | F10: =IF('Tab1'!F10="","","1") | G10: =IF('Tab1'!G10="","",'Tab1'!G10) | H10: =IF('Tab1'!H10="","",1) | I10: =IF('Tab1'!I10="","",'Tab1'!I10) | J10: =IF('Tab1'!J10="","",1) | K10: =IF('Tab1'!K10="","",'Tab1'!K10) | L10: =IF('Tab1'!L10="","",1) | M10: ='Tab1'!M10 -> 0 | N10: ='Tab1'!N10 -> 0 | O10: =IF(M10=0,$O$2,IF(N10>1,"nur eine Note abwählen","okay")) -> Note fehlt | P10: =IF(OR(AND(E10="",F10<>""),AND(G10="",H10<>""),AND(I10="",J10<>""),AND(K10="",L10<>"")),"Fach ohne Note gewählt","okay") -> okay | Q10: =IF(O10<>"okay",O10,P10) -> Note fehlt | R10: =IF(Q10="okay",0,1) -> 1 | U10: =IF(ISERROR(SUM(E10,G10,I10,K10)/M10),"",SUM(E10,G10,I10,K10)/M10) | V10: =IF(U10="","",ROUND(U10,0)) | W10: 1|2 | X10: =N10+T10 -> 0 | Y10: =IF(X10=0,"",(AK10+AL10)/(N10+T10)) | Z10: =IF(Y10="","",ROUND(Y10,0)) | AA10: =IF(Z10="","",VLOOKUP(Z10,$AW$12:$AY$30,3,FALSE)) | AB10: =IF(Z10="","",VLOOKUP(Z10,$AW$12:$AY$30,2,FALSE)) | AC10: =IF(AB10="","",IF(AB10>4,1,0)) | AG10: =IF(E10="","",IF(F10="","",E10)) | AH10: =IF(G10="","",IF(H10="","",G10)) | AI10: =IF(I10="","",IF(J10="","",I10)) | AJ10: =IF(K10="","",IF(L10="","",K10)) | AK10: =SUM(AG10:AJ10) -> 0
B11: Sozialkunde | E11: =IF('Tab1'!E11="","",'Tab1'!E11) | F11: =IF('Tab1'!F11="","","1") | G11: =IF('Tab1'!G11="","",'Tab1'!G11) | H11: =IF('Tab1'!H11="","",1) | I11: =IF('Tab1'!I11="","",'Tab1'!I11) | J11: =IF('Tab1'!J11="","",1) | K11: =IF('Tab1'!K11="","",'Tab1'!K11) | L11: =IF('Tab1'!L11="","",1) | M11: ='Tab1'!M11 -> 0 | N11: ='Tab1'!N11 -> 0 | O11: =IF(M11=0,$O$2,IF(N11>1,"nur eine Note abwählen","okay")) -> Note fehlt | P11: =IF(OR(AND(E11="",F11<>""),AND(G11="",H11<>""),AND(I11="",J11<>""),AND(K11="",L11<>"")),"Fach ohne Note gewählt","okay") -> okay | Q11: =IF(O11<>"okay",O11,P11) -> Note fehlt | R11: =IF(Q11="okay",0,1) -> 1 | U11: =IF(ISERROR(SUM(E11,G11,I11,K11)/M11),"",SUM(E11,G11,I11,K11)/M11) | V11: =IF(U11="","",ROUND(U11,0)) | W11: 1|2 | X11: =N11+T11 -> 0 | Y11: =IF(X11=0,"",(AK11+AL11)/(N11+T11)) | Z11: =IF(Y11="","",ROUND(Y11,0)) | AA11: =IF(Z11="","",VLOOKUP(Z11,$AW$12:$AY$30,3,FALSE)) | AB11: =IF(Z11="","",VLOOKUP(Z11,$AW$12:$AY$30,2,FALSE)) | AC11: =IF(AB11="","",IF(AB11>4,1,0)) | AG11: =IF(E11="","",IF(F11="","",E11)) | AH11: =IF(G11="","",IF(H11="","",G11)) | AI11: =IF(I11="","",IF(J11="","",I11)) | AJ11: =IF(K11="","",IF(L11="","",K11)) | AK11: =SUM(AG11:AJ11) -> 0 | AQ11: Kontrolabfrage für Profilfach 3 | AR11: 0 noch keine Eingabe; 1 passt; 2 zuviele Zeilen | AW11: Notenpunkte | AX11: Note
B12: Mathematik | E12: =IF('Tab1'!E12="","",'Tab1'!E12) | F12: =IF('Tab1'!F12="","","1") | G12: =IF('Tab1'!G12="","",'Tab1'!G12) | H12: =IF('Tab1'!H12="","",1) | I12: =IF('Tab1'!I12="","",'Tab1'!I12) | J12: =IF('Tab1'!J12="","",1) | K12: =IF('Tab1'!K12="","",'Tab1'!K12) | L12: =IF('Tab1'!L12="","",1) | M12: ='Tab1'!M12 -> 0 | N12: ='Tab1'!N12 -> 0 | O12: =IF(M12=0,$O$2,IF(N12>1,"nur eine Note abwählen","okay")) -> Note fehlt | P12: =IF(OR(AND(E12="",F12<>""),AND(G12="",H12<>""),AND(I12="",J12<>""),AND(K12="",L12<>"")),"Fach ohne Note gewählt","okay") -> okay | Q12: =IF(O12<>"okay",O12,P12) -> Note fehlt | R12: =IF(Q12="okay",0,1) -> 1 | S12: =IF('Tab1'!V12="","",'Tab1'!V12) | T12: =$C$35 -> 3 | U12: =IF(ISERROR(SUM(E12,G12,I12,K12)/M12),"",SUM(E12,G12,I12,K12)/M12) | V12: =IF(U12="","",ROUND(U12,0)) | W12: 4|6 | X12: =N12+T12 -> 3 | Y12: =IF(S12="","",(AK12+AL12)/(N12+T12)) | Z12: =IF(Y12="","",ROUND(Y12,0)) | AA12: =IF(Z12="","",VLOOKUP(Z12,$AW$12:$AY$30,3,FALSE)) | AB12: =IF(Z12="","",VLOOKUP(Z12,$AW$12:$AY$30,2,FALSE)) | AC12: =IF(AB12="","",IF(AB12>4,1,0)) | AG12: =IF(E12="","",IF(F12="","",E12)) | AH12: =IF(G12="","",IF(H12="","",G12)) | AI12: =IF(I12="","",IF(J12="","",I12)) | AJ12: =IF(K12="","",IF(L12="","",K12)) | AK12: =SUM(AG12:AJ12) -> 0 | AL12: =IF(S12="","",3*S12) | AQ12: =IF(AR12=0,"Profilfach 3 fehlt",IF(AR12=1,"okay","Fehler in Profilfach 3")) -> Profilfach 3 fehlt | AR12: =IF(AND(M17=0,M18=0,M19=0),0,IF(OR(AND(M17<>0,M19<>0),AND(M18<>0,M19<>0)),2,1)) -> 0 | AW12: 0 | AX12: 6 | AY12: ungen.
W13: 1|2 | X13: =N13+T13 -> 0 | Y13: =IF(X13=0,"",(AK13+AL13)/(N13+T13)) | Z13: =IF(Y13="","",ROUND(Y13,0)) | AA13: =IF(Z13="","",VLOOKUP(Z13,$AW$12:$AY$30,3,FALSE)) | AB13: =IF(Z13="","",VLOOKUP(Z13,$AW$12:$AY$30,2,FALSE)) | AC13: =IF(AB13="","",IF(AB13>4,1,0)) | AG13: =IF(E13="","",IF(F13="","",E13)) | AH13: =IF(G13="","",IF(H13="","",G13)) | AI13: =IF(I13="","",IF(J13="","",I13)) | AJ13: =IF(K13="","",IF(L13="","",K13)) | AK13: =SUM(AG13:AJ13) -> 0 | AW13: 1 | AX13: 5 | AY13: mangelh.
B14: Profilfach 1 | C14: =AX4 -> BwR | D14: =BC4 -> BwR | E14: =IF('Tab1'!E14="","",'Tab1'!E14) | F14: =IF('Tab1'!F14="","","1") | G14: =IF('Tab1'!G14="","",'Tab1'!G14) | H14: =IF('Tab1'!H14="","",1) | I14: =IF('Tab1'!I14="","",'Tab1'!I14) | J14: =IF('Tab1'!J14="","",1) | K14: =IF('Tab1'!K14="","",'Tab1'!K14) | L14: =IF('Tab1'!L14="","",1) | M14: ='Tab1'!M14 -> 0 | N14: ='Tab1'!N14 -> 0 | O14: =IF(M14=0,$O$2,IF(N14>1,"nur eine Note abwählen","okay")) -> Note fehlt | P14: =IF(OR(AND(E14="",F14<>""),AND(G14="",H14<>""),AND(I14="",J14<>""),AND(K14="",L14<>"")),"Fach ohne Note gewählt","okay") -> okay | Q14: =IF(O14<>"okay",O14,P14) -> Note fehlt | R14: =IF(Q14="okay",0,1) -> 1 | S14: =IF('Tab1'!V14="","",'Tab1'!V14) | T14: =$C$35 -> 3 | U14: =IF(ISERROR(SUM(E14,G14,I14,K14)/M14),"",SUM(E14,G14,I14,K14)/M14) | V14: =IF(U14="","",ROUND(U14,0)) | W14: 4|6 | X14: =N14+T14 -> 3 | Y14: =IF(S14="","",(AK14+AL14)/(N14+T14)) | Z14: =IF(Y14="","",ROUND(Y14,0)) | AA14: =IF(Z14="","",VLOOKUP(Z14,$AW$12:$AY$30,3,FALSE)) | AB14: =IF(Z14="","",VLOOKUP(Z14,$AW$12:$AY$30,2,FALSE)) | AC14: =IF(AB14="","",IF(AB14>4,1,0)) | AG14: =IF(E14="","",IF(F14="","",E14)) | AH14: =IF(G14="","",IF(H14="","",G14)) | AI14: =IF(I14="","",IF(J14="","",I14)) | AJ14: =IF(K14="","",IF(L14="","",K14)) | AK14: =SUM(AG14:AJ14) -> 0 | AL14: =IF(S14="","",3*S14) | AW14: 2 | AX14: 5 | AY14: mangelh.
B15: Profilfach 2 | C15: =AX5 -> VWL | D15: =BC5 -> VWL | E15: =IF('Tab1'!E15="","",'Tab1'!E15) | F15: =IF('Tab1'!F15="","","1") | G15: =IF('Tab1'!G15="","",'Tab1'!G15) | H15: =IF('Tab1'!H15="","",1) | I15: =IF('Tab1'!I15="","",'Tab1'!I15) | J15: =IF('Tab1'!J15="","",1) | K15: =IF('Tab1'!K15="","",'Tab1'!K15) | L15: =IF('Tab1'!L15="","",1) | M15: ='Tab1'!M15 -> 0 | N15: ='Tab1'!N15 -> 0 | O15: =IF(M15=0,$O$2,IF(N15>1,"nur eine Note abwählen","okay")) -> Note fehlt | P15: =IF(OR(AND(E15="",F15<>""),AND(G15="",H15<>""),AND(I15="",J15<>""),AND(K15="",L15<>"")),"Fach ohne Note gewählt","okay") -> okay | Q15: =IF(O15<>"okay",O15,P15) -> Note fehlt | R15: =IF(Q15="okay",0,1) -> 1 | U15: =IF(ISERROR(SUM(E15,G15,I15,K15)/M15),"",SUM(E15,G15,I15,K15)/M15) | V15: =IF(U15="","",ROUND(U15,0)) | W15: 1|3 | X15: =N15+T15 -> 0 | Y15: =IF(X15=0,"",(AK15+AL15)/(N15+T15)) | Z15: =IF(Y15="","",ROUND(Y15,0)) | AA15: =IF(Z15="","",VLOOKUP(Z15,$AW$12:$AY$30,3,FALSE)) | AB15: =IF(Z15="","",VLOOKUP(Z15,$AW$12:$AY$30,2,FALSE)) | AC15: =IF(AB15="","",IF(AB15>4,1,0)) | AG15: =IF(E15="","",IF(F15="","",E15)) | AH15: =IF(G15="","",IF(H15="","",G15)) | AI15: =IF(I15="","",IF(J15="","",I15)) | AJ15: =IF(K15="","",IF(L15="","",K15)) | AK15: =SUM(AG15:AJ15) -> 0 | AW15: 3 | AX15: 5 | AY15: mangelh.
B16: Profilfach 3 | C16: =AX6 -> Rechtslehre | D16: =BC6 -> Naturwissensch. | AW16: 4 | AX16: 4 | AY16: ausreich.
B17: Noten des Profilfachs 3 für Nicht-Techniker | C17: 11. Klasse | E17: =IF('Tab1'!E17="","",'Tab1'!E17) | F17: =IF('Tab1'!F17="","",1) | G17: =IF('Tab1'!G17="","",'Tab1'!G17) | H17: =IF('Tab1'!H17="","",1) | I17: =IF('Tab1'!I17="","",'Tab1'!I17) | J17: =IF('Tab1'!J17="","",1) | K17: =IF('Tab1'!K17="","",'Tab1'!K17) | L17: =IF('Tab1'!L17="","",1) | M17: ='Tab1'!M17 -> 0 | N17: ='Tab1'!N17 -> 0 | O17: =AQ12 -> Profilfach 3 fehlt | P17: =IF(OR(AND(E17="",F17<>""),AND(G17="",H17<>""),AND(I17="",J17<>""),AND(K17="",L17<>"")),"Fach ohne Note gewählt","okay") -> okay | Q17: =IF(O17<>"okay",O17,P17) -> Profilfach 3 fehlt | R17: =IF(Q17="okay",0,1) -> 1 | U17: =IF(ISERROR(SUM(E17,G17,I17,K17)/M17),"",SUM(E17,G17,I17,K17)/M17) | V17: =IF(U17="","",ROUND(U17,0)) | W17: 1|2 | X17: =N17+T17 -> 0 | Y17: =IF(X17=0,"",(AK17+AL17)/(N17+T17)) | Z17: =IF(Y17="","",ROUND(Y17,0)) | AA17: =IF(Z17="","",VLOOKUP(Z17,$AW$12:$AY$30,3,FALSE)) | AB17: =IF(Z17="","",VLOOKUP(Z17,$AW$12:$AY$30,2,FALSE)) | AC17: =IF(AB17="","",IF(AB17>4,1,0)) | AG17: =IF(E17="","",IF(F17="","",E17)) | AH17: =IF(G17="","",IF(H17="","",G17)) | AI17: =IF(I17="","",IF(J17="","",I17)) | AJ17: =IF(K17="","",IF(L17="","",K17)) | AK17: =SUM(AG17:AJ17) -> 0 | AW17: 5 | AX17: 4 | AY17: ausreich.
C18: 12. Klasse | E18: =IF('Tab1'!E18="","",'Tab1'!E18) | F18: =IF('Tab1'!F18="","",1) | G18: =IF('Tab1'!G18="","",'Tab1'!G18) | H18: =IF('Tab1'!H18="","",1) | I18: =IF('Tab1'!I18="","",'Tab1'!I18) | J18: =IF('Tab1'!J18="","",1) | K18: =IF('Tab1'!K18="","",'Tab1'!K18) | L18: =IF('Tab1'!L18="","",1) | M18: ='Tab1'!M18 -> 0 | N18: ='Tab1'!N18 -> 0 | P18: =IF(OR(AND(E18="",F18<>""),AND(G18="",H18<>""),AND(I18="",J18<>""),AND(K18="",L18<>"")),"Fach ohne Note gewählt","okay") -> okay | Q18: =IF(O17<>"okay",O17,P18) -> Profilfach 3 fehlt | R18: =IF(Q18="okay",0,1) -> 1 | U18: =IF(ISERROR(SUM(E18,G18,I18,K18)/M18),"",SUM(E18,G18,I18,K18)/M18) | V18: =IF(U18="","",ROUND(U18,0)) | W18: 1|2 | X18: =N18+T18 -> 0 | Y18: =IF(X18=0,"",(AK18+AL18)/(N18+T18)) | Z18: =IF(Y18="","",ROUND(Y18,0)) | AA18: =IF(Z18="","",VLOOKUP(Z18,$AW$12:$AY$30,3,FALSE)) | AB18: =IF(Z18="","",VLOOKUP(Z18,$AW$12:$AY$30,2,FALSE)) | AC18: =IF(AB18="","",IF(AB18>4,1,0)) | AG18: =IF(E18="","",IF(F18="","",E18)) | AH18: =IF(G18="","",IF(H18="","",G18)) | AI18: =IF(I18="","",IF(J18="","",I18)) | AJ18: =IF(K18="","",IF(L18="","",K18)) | AK18: =SUM(AG18:AJ18) -> 0 | AW18: 6 | AX18: 4 | AY18: ausreich.
B19: Noten des Profilfachs 3 für Techniker | E19: =IF('Tab1'!E19="","",'Tab1'!E19) | F19: =IF('Tab1'!F19="","",1) | G19: =IF('Tab1'!G19="","",'Tab1'!G19) | H19: =IF('Tab1'!H19="","",1) | I19: =IF('Tab1'!I19="","",'Tab1'!I19) | J19: =IF('Tab1'!J19="","",1) | K19: =IF('Tab1'!K19="","",'Tab1'!K19) | L19: =IF('Tab1'!L19="","",1) | M19: ='Tab1'!M19 -> 0 | N19: ='Tab1'!N19 -> 0 | P19: =IF(OR(AND(E19="",F19<>""),AND(G19="",H19<>""),AND(I19="",J19<>""),AND(K19="",L19<>"")),"Fach ohne Note gewählt","okay") -> okay | Q19: =IF(O17<>"okay",O17,P19) -> Profilfach 3 fehlt | R19: =IF(Q19="okay",0,1) -> 1 | U19: =IF(ISERROR(SUM(E19,G19,I19,K19)/M19),"",SUM(E19,G19,I19,K19)/M19) | V19: =IF(U19="","",ROUND(U19,0)) | W19: 1|3 | X19: =N19+T19 -> 0 | Y19: =IF(X19=0,"",(AK19+AL19)/(N19+T19)) | Z19: =IF(Y19="","",ROUND(Y19,0)) | AA19: =IF(Z19="","",VLOOKUP(Z19,$AW$12:$AY$30,3,FALSE)) | AB19: =IF(Z19="","",VLOOKUP(Z19,$AW$12:$AY$30,2,FALSE)) | AC19: =IF(AB19="","",IF(AB19>4,1,0)) | AG19: =IF(E19="","",IF(F19="","",E19)) | AH19: =IF(G19="","",IF(H19="","",G19)) | AI19: =IF(I19="","",IF(J19="","",I19)) | AJ19: =IF(K19="","",IF(L19="","",K19)) | AK19: =SUM(AG19:AJ19) -> 0 | AW19: 7 | AX19: 3 | AY19: befried.
AW20: 8 | AX20: 3 | AY20: befried.
B21: Profilfach 4 | D21: =BC7 -> Informatik | E21: =IF('Tab1'!E21="","",'Tab1'!E21) | F21: =IF('Tab1'!F21="","","1") | G21: =IF('Tab1'!G21="","",'Tab1'!G21) | H21: =IF('Tab1'!H21="","",1) | I21: =IF('Tab1'!I21="","",'Tab1'!I21) | J21: =IF('Tab1'!J21="","",1) | K21: =IF('Tab1'!K21="","",'Tab1'!K21) | L21: =IF('Tab1'!L21="","",1) | M21: ='Tab1'!M21 -> 0 | N21: ='Tab1'!N21 -> 0 | O21: =IF(M21=0,$O$2,IF(N21>1,"nur eine Note abwählen","okay")) -> Note fehlt | P21: =IF(OR(AND(E21="",F21<>""),AND(G21="",H21<>""),AND(I21="",J21<>""),AND(K21="",L21<>"")),"Fach ohne Note gewählt","okay") -> okay | Q21: =IF(O21<>"okay",O21,P21) -> Note fehlt | R21: =IF(Q21="okay",0,1) -> 1 | U21: =IF(ISERROR(SUM(E21,G21,I21,K21)/M21),"",SUM(E21,G21,I21,K21)/M21) | V21: =IF(U21="","",ROUND(U21,0)) | W21: 1|2 | X21: =N21+T21 -> 0 | Y21: =IF(X21=0,"",(AK21+AL21)/(N21+T21)) | Z21: =IF(Y21="","",ROUND(Y21,0)) | AA21: =IF(Z21="","",VLOOKUP(Z21,$AW$12:$AY$30,3,FALSE)) | AB21: =IF(Z21="","",VLOOKUP(Z21,$AW$12:$AY$30,2,FALSE)) | AC21: =IF(AB21="","",IF(AB21>4,1,0)) | AG21: =IF(E21="","",IF(F21="","",E21)) | AH21: =IF(G21="","",IF(H21="","",G21)) | AI21: =IF(I21="","",IF(J21="","",I21)) | AJ21: =IF(K21="","",IF(L21="","",K21)) | AK21: =SUM(AG21:AJ21) -> 0 | AW21: 9 | AX21: 3 | AY21: befried.
B22: Wahlpflichtfach 1 | E22: =IF('Tab1'!E22="","",'Tab1'!E22) | F22: =IF('Tab1'!F22="","","1") | G22: =IF('Tab1'!G22="","",'Tab1'!G22) | H22: =IF('Tab1'!H22="","",1) | I22: =IF('Tab1'!I22="","",'Tab1'!I22) | J22: =IF('Tab1'!J22="","",1) | K22: =IF('Tab1'!K22="","",'Tab1'!K22) | L22: =IF('Tab1'!L22="","",1) | M22: ='Tab1'!M22 -> 0 | N22: ='Tab1'!N22 -> 0 | O22: =IF(M22=0,$O$2,IF(N22>1,"nur eine Note abwählen","okay")) -> Note fehlt | P22: =IF(OR(AND(E22="",F22<>""),AND(G22="",H22<>""),AND(I22="",J22<>""),AND(K22="",L22<>"")),"Fach ohne Note gewählt","okay") -> okay | Q22: =IF(O22<>"okay",O22,P22) -> Note fehlt | R22: =IF(Q22="okay",0,1) -> 1 | U22: =IF(ISERROR(SUM(E22,G22,I22,K22)/M22),"",SUM(E22,G22,I22,K22)/M22) | V22: =IF(U22="","",ROUND(U22,0)) | W22: 1|2 | X22: =N22+T22 -> 0 | Y22: =IF(X22=0,"",(AK22+AL22)/(N22+T22)) | Z22: =IF(Y22="","",ROUND(Y22,0)) | AA22: =IF(Z22="","",VLOOKUP(Z22,$AW$12:$AY$30,3,FALSE)) | AB22: =IF(Z22="","",VLOOKUP(Z22,$AW$12:$AY$30,2,FALSE)) | AC22: =IF(AB22="","",IF(AB22>4,1,0)) | AG22: =IF(E22="","",IF(F22="","",E22)) | AH22: =IF(G22="","",IF(H22="","",G22)) | AI22: =IF(I22="","",IF(J22="","",I22)) | AJ22: =IF(K22="","",IF(L22="","",K22)) | AK22: =SUM(AG22:AJ22) -> 0 | AW22: 10 | AX22: 2 | AY22: gut
B23: Wahlpflichtfach 2 | E23: =IF('Tab1'!E23="","",'Tab1'!E23) | F23: =IF('Tab1'!F23="","","1") | G23: =IF('Tab1'!G23="","",'Tab1'!G23) | H23: =IF('Tab1'!H23="","",1) | I23: =IF('Tab1'!I23="","",'Tab1'!I23) | J23: =IF('Tab1'!J23="","",1) | K23: =IF('Tab1'!K23="","",'Tab1'!K23) | L23: =IF('Tab1'!L23="","",1) | M23: ='Tab1'!M23 -> 0 | N23: ='Tab1'!N23 -> 0 | O23: =IF(M23=0,$O$2,IF(N23>1,"nur eine Note abwählen","okay")) -> Note fehlt | P23: =IF(OR(AND(E23="",F23<>""),AND(G23="",H23<>""),AND(I23="",J23<>""),AND(K23="",L23<>"")),"Fach ohne Note gewählt","okay") -> okay | Q23: =IF(O23<>"okay",O23,P23) -> Note fehlt | R23: =IF(Q23="okay",0,1) -> 1 | U23: =IF(ISERROR(SUM(E23,G23,I23,K23)/M23),"",SUM(E23,G23,I23,K23)/M23) | V23: =IF(U23="","",ROUND(U23,0)) | W23: 1|2 | X23: =N23+T23 -> 0 | Y23: =IF(X23=0,"",(AK23+AL23)/(N23+T23)) | Z23: =IF(Y23="","",ROUND(Y23,0)) | AA23: =IF(Z23="","",VLOOKUP(Z23,$AW$12:$AY$30,3,FALSE)) | AB23: =IF(Z23="","",VLOOKUP(Z23,$AW$12:$AY$30,2,FALSE)) | AC23: =IF(AB23="","",IF(AB23>4,1,0)) | AG23: =IF(E23="","",IF(F23="","",E23)) | AH23: =IF(G23="","",IF(H23="","",G23)) | AI23: =IF(I23="","",IF(J23="","",I23)) | AJ23: =IF(K23="","",IF(L23="","",K23)) | AK23: =SUM(AG23:AJ23) -> 0 | AW23: 11 | AX23: 2 | AY23: gut
B24: Wahlpflichtfach 3 | I24: =IF('Tab1'!I24="","",'Tab1'!I24) | J24: =IF('Tab1'!J24="","",1) | K24: =IF('Tab1'!K24="","",'Tab1'!K24) | L24: =IF('Tab1'!L24="","",1) | M24: ='Tab1'!M24 -> 0 | N24: ='Tab1'!N24 -> 0 | O24: =IF(N24>1,"nur eine Note abwählen","okay") -> okay | P24: =IF(OR(AND(E24="",F24<>""),AND(G24="",H24<>""),AND(I24="",J24<>""),AND(K24="",L24<>"")),"Fach ohne Note gewählt","okay") -> okay | Q24: =IF(O24<>"okay",O24,P24) -> okay | U24: =IF(ISERROR(SUM(E24,G24,I24,K24)/M24),"",SUM(E24,G24,I24,K24)/M24) | V24: =IF(U24="","",ROUND(U24,0)) | AC24: =IF(AB24="","",IF(AB24>4,1,0))
B25: Fachreferat | E25: =IF('Tab1'!E25="","",'Tab1'!E25) | G25: =IF('Tab1'!G25="","",'Tab1'!G25) | I25: =IF('Tab1'!I25="","",'Tab1'!I25) | M25: ='Tab1'!M25 -> 0 | O25: =IF(M25=1,"okay","Note fehlt") -> Note fehlt | Q25: =O25 -> Note fehlt | R25: =IF(Q25="okay",0,1) -> 1 | U25: =IF(ISERROR(SUM(E25,G25,I25,K25)/M25),"",SUM(E25,G25,I25,K25)/M25) | V25: =IF(U25="","",ROUND(U25,0)) | W25: 1 | X25: 1 | Y25: =I25 | Z25: =ROUND(Y25,0) -> #VALUE! | AA25: =IF(Z25="","",VLOOKUP(Z25,$AW$12:$AY$30,3,FALSE)) -> #VALUE! | AB25: =IF(Z25="","",VLOOKUP(Z25,$AW$12:$AY$30,2,FALSE)) -> #VALUE! | AC25: =IF(AB25="","",IF(AB25>4,1,0)) -> #VALUE! | AG25: =IF(AND(E25="",F25=""),"",IF(F25="",E25,"")) | AH25: =IF(AND(G25="",H25=""),"",IF(H25="",G25,"")) | AI25: =IF(AND(I25="",J25=""),"",IF(J25="",I25,"")) | AJ25: =IF(AND(K25="",L25=""),"",IF(L25="",K25,"")) | AK25: =SUM(AG25:AJ25) -> 0 | AW25: 12 | AX25: 2 | AY25: gut
B26: fachpraktische Ausbildung | E26: =IF('Tab1'!E26="","",'Tab1'!E26) | G26: =IF('Tab1'!G26="","",'Tab1'!G26) | M26: ='Tab1'!M26 -> 0 | U26: =IF(ISERROR(SUM(E26,G26,I26,K26)/M26),"",SUM(E26,G26,I26,K26)/M26) | V26: =IF(U26="","",ROUND(U26,0)) | W26: 2 | X26: 2 | Y26: =(E26+G26)/2 -> #VALUE! | Z26: =ROUND(Y26,0) -> #VALUE! | AA26: =IF(Z26="","",VLOOKUP(Z26,$AW$12:$AY$30,3,FALSE)) -> #VALUE! | AB26: =IF(Z26="","",VLOOKUP(Z26,$AW$12:$AY$30,2,FALSE)) -> #VALUE! | AC26: =IF(AB26="","",IF(AB26>4,1,0)) -> #VALUE! | AG26: =IF(AND(E26="",F26=""),"",IF(F26="",E26,"")) | AH26: =IF(AND(G26="",H26=""),"",IF(H26="",G26,"")) | AI26: =IF(AND(I26="",J26=""),"",IF(J26="",I26,"")) | AJ26: =IF(AND(K26="",L26=""),"",IF(L26="",K26,"")) | AK26: =SUM(AG26:AJ26) -> 0 | AW26: 13 | AX26: 1 | AY26: sehr gut
C27: Anzahl vorhandener Fächernoten | D27: =SUM(E27:K27) -> 0 | E27: =COUNT(E7:E23) -> 0 | G27: =COUNT(G7:G23) -> 0 | I27: =COUNT(I7:I24) -> 0 | K27: =COUNT(K7:K24) -> 0 | AW27: 14 | AX27: 1 | AY27: sehr gut
C28: Anzahl abgewählter Noten | D28: =SUM(F28:L28) -> 0 | F28: =SUM(F7:F26) -> 0 | H28: =SUM(H7:H26) -> 0 | J28: =SUM(J7:J25) -> 0 | L28: =SUM(L7:L24) -> 0
C29: Differenz | D29: =D27-D28 -> 0
E30: =IF(D29<25,H31,IF(D29>25,H32,"Notenanzahl passt vermutlich!")) -> es sind 25 Note(n) zu wenig | F30: Anzahl der nötigen Noten | J30: =C32 -> 25 | R30: =SUM(R7:R26) -> 15 | S30: =IF(R30=0,"","HINWEIS! Falsche Notenanzahl, Eingabe, … etc!!") -> HINWEIS! Falsche Notenanzahl, Eingabe, … etc!! | AC30: =SUM(AC7:AC26) -> #VALUE! | AD30: =IF(COUNT(S8:S9,S12,S14)<4,"Prüfungsnoten nicht komplett",IF(D29<>J30,"zu wenig oder zuviel Fächernoten","")) -> Prüfungsnoten nicht komplett | AW30: 15 | AX30: 1 | AY30: sehr gut
E31: zu wenig | G31: =D29-J30 -> -25 | H31: =CONCATENATE("es sind ",ABS(G31)," Note(n) zu wenig") -> es sind 25 Note(n) zu wenig
B32: Klassenwahl/Anzahl benötiger Noten | C32: =IF(C33,17,IF(C34,25,0)) -> 25 | E32: zu viel | G32: =J30-D29 -> 25 | H32: =CONCATENATE("es sind ",ABS(G32)," Note(n) zuviel") -> es sind 25 Note(n) zuviel
B33: BOS12 | C33: ='Tab1'!D63 -> FALSE | H33: =CONCATENATE("davon sind ",D28," Note(n) abgewählt") -> davon sind 0 Note(n) abgewählt
B34: FOS11u12 | C34: ='Tab1'!E63 -> TRUE | H34: =CONCATENATE("weitere ",D27," Noten sind eingetragen") -> weitere 0 Noten sind eingetragen
B35: Prfg-Notengewicht | C35: =IF(C34,3,2) -> 3 | H35: =CONCATENATE("zusätzlich zum Fachreferat [und FpA] sind noch weitere ",J30, " Noten einzubringen") -> zusätzlich zum Fachreferat [und FpA] sind noch weitere 25 Noten einzubringen
T37: alternative Bestehensbedingungen (versch. Kriterien)
E38: Berechnung der Punkte der eingebrachten Ergebnisse | T38: Halb-jahres-ergebnisse | U38: Prüfungs-ergebnisse | V38: Mindest-Punkte-Zahl 200 | W38: FPA 11.Klasse best | X38: bestanden nach den alternativen Kriterien
E39: 11|1 | F39: Pkte maximal | G39: 11|2 | H39: Pkte maximal | I39: 12|1 | J39: Pkte maximal | K39: 12|2 | L39: Pkte maximal | M39: err. Pkte in 11 und 12 | N39: max. mögl. Pkte in 11 u. 12 | O39: Durch-schnitt mit Optim. | P39: Prfg-Punkte gewichtet | Q39: max. mögl. Prfg Pkte | T39: Anzahl 6(dopp.) und 5(einf.) | U39: Anzahl 6(dopp.) und 5(einf.)
D40: Rel-lehre/Eth. | E40: =IF(E7="","",IF(F7="",E7,"")) | F40: =IF(E40="","",15) | G40: =IF(G7="","",IF(H7="",G7,"")) | H40: =IF(G40="","",15) | I40: =IF(I7="","",IF(J7="",I7,"")) | J40: =IF(I40="","",15) | K40: =IF(K7="","",IF(L7="",K7,"")) | L40: =IF(K40="","",15) | M40: =SUM(E40,G40,I40,K40,) -> 0 | N40: =SUM(F40,H40,J40,L40,) -> 0 | O40: =IF(ISERROR(ROUND(AVERAGE(E40,G40,I40,K40),0)),"- -",ROUND(AVERAGE(E40,G40,I40,K40),0)) -> - - | T40: =SUM(F40:F56,H40:H56,J40:J58,L40:L56) -> 0 | U40: =SUM(Q41:Q47) -> 0
D41: Deutsch | E41: =IF(E8="","",IF(F8="",E8,"")) | F41: =IF(E41="","",15) | G41: =IF(G8="","",IF(H8="",G8,"")) | H41: =IF(G41="","",15) | I41: =IF(I8="","",IF(J8="",I8,"")) | J41: =IF(I41="","",15) | K41: =IF(K8="","",IF(L8="",K8,"")) | L41: =IF(K41="","",15) | M41: =SUM(E41,G41,I41,K41,) -> 0 | N41: =SUM(F41,H41,J41,L41,) -> 0 | O41: =IF(ISERROR(ROUND(AVERAGE(E41,G41,I41,K41),0)),"- -",ROUND(AVERAGE(E41,G41,I41,K41),0)) -> - - | P41: =IF(S8="","",S8*T8) | Q41: =IF(P41="","",15*T8) | T41: =IF(COUNT(S8:S9,S12,S14)<4,"",T40<=3) | U41: =IF(COUNT(S8:S9,S12,S14)<4,"",U40<=2) | V41: =IF(COUNT(S8:S9,S12,S14)<4,"",M62>=200) | W41: =IF(COUNT(S8:S9,S12,S14)<4,"",AND(E59>=4,G59>=4)) | X41: =IF(COUNT(S8:S9,S12,S14)<4,"",IF(AND(T41,U41,V41,W41),"JA","NEIN"))
D42: Englisch | E42: =IF(E9="","",IF(F9="",E9,"")) | F42: =IF(E42="","",15) | G42: =IF(G9="","",IF(H9="",G9,"")) | H42: =IF(G42="","",15) | I42: =IF(I9="","",IF(J9="",I9,"")) | J42: =IF(I42="","",15) | K42: =IF(K9="","",IF(L9="",K9,"")) | L42: =IF(K42="","",15) | M42: =SUM(E42,G42,I42,K42,) -> 0 | N42: =SUM(F42,H42,J42,L42,) -> 0 | O42: =IF(ISERROR(ROUND(AVERAGE(E42,G42,I42,K42),0)),"- -",ROUND(AVERAGE(E42,G42,I42,K42),0)) -> - - | P42: =IF(S9="","",S9*T9) | Q42: =IF(P42="","",15*T9) | X42: =IF(COUNT(S8:S9,S12,S14)<4,"",IF(X41="JA","Fachabitur nach alternativen Kriterien bestanden","Fachabitur nach alternativen Kriterien nicht bestanden"))
D43: Geschichte | E43: =IF(E10="","",IF(F10="",E10,"")) | F43: =IF(E43="","",15) | G43: =IF(G10="","",IF(H10="",G10,"")) | H43: =IF(G43="","",15) | I43: =IF(I10="","",IF(J10="",I10,"")) | J43: =IF(I43="","",15) | K43: =IF(K10="","",IF(L10="",K10,"")) | L43: =IF(K43="","",15) | M43: =SUM(E43,G43,I43,K43,) -> 0 | N43: =SUM(F43,H43,J43,L43,) -> 0 | O43: =IF(ISERROR(ROUND(AVERAGE(E43,G43,I43,K43),0)),"- -",ROUND(AVERAGE(E43,G43,I43,K43),0)) -> - -
D44: Sozialkunde | E44: =IF(E11="","",IF(F11="",E11,"")) | F44: =IF(E44="","",15) | G44: =IF(G11="","",IF(H11="",G11,"")) | H44: =IF(G44="","",15) | I44: =IF(I11="","",IF(J11="",I11,"")) | J44: =IF(I44="","",15) | K44: =IF(K11="","",IF(L11="",K11,"")) | L44: =IF(K44="","",15) | M44: =SUM(E44,G44,I44,K44,) -> 0 | N44: =SUM(F44,H44,J44,L44,) -> 0 | O44: =IF(ISERROR(ROUND(AVERAGE(E44,G44,I44,K44),0)),"- -",ROUND(AVERAGE(E44,G44,I44,K44),0)) -> - -
D45: Mathematik | E45: =IF(E12="","",IF(F12="",E12,"")) | F45: =IF(E45="","",15) | G45: =IF(G12="","",IF(H12="",G12,"")) | H45: =IF(G45="","",15) | I45: =IF(I12="","",IF(J12="",I12,"")) | J45: =IF(I45="","",15) | K45: =IF(K12="","",IF(L12="",K12,"")) | L45: =IF(K45="","",15) | M45: =SUM(E45,G45,I45,K45,) -> 0 | N45: =SUM(F45,H45,J45,L45,) -> 0 | O45: =IF(ISERROR(ROUND(AVERAGE(E45,G45,I45,K45),0)),"- -",ROUND(AVERAGE(E45,G45,I45,K45),0)) -> - - | P45: =IF(S12="","",S12*T12) | Q45: =IF(P45="","",15*T12)
D47: Profilfach 1 | E47: =IF(E14="","",IF(F14="",E14,"")) | F47: =IF(E47="","",15) | G47: =IF(G14="","",IF(H14="",G14,"")) | H47: =IF(G47="","",15) | I47: =IF(I14="","",IF(J14="",I14,"")) | J47: =IF(I47="","",15) | K47: =IF(K14="","",IF(L14="",K14,"")) | L47: =IF(K47="","",15) | M47: =SUM(E47,G47,I47,K47,) -> 0 | N47: =SUM(F47,H47,J47,L47,) -> 0 | O47: =IF(ISERROR(ROUND(AVERAGE(E47,G47,I47,K47),0)),"- -",ROUND(AVERAGE(E47,G47,I47,K47),0)) -> - - | P47: =IF(S14="","",S14*T14) | Q47: =IF(P47="","",15*T14)
D48: Profilfach 2 | E48: =IF(E15="","",IF(F15="",E15,"")) | F48: =IF(E48="","",15) | G48: =IF(G15="","",IF(H15="",G15,"")) | H48: =IF(G48="","",15) | I48: =IF(I15="","",IF(J15="",I15,"")) | J48: =IF(I48="","",15) | K48: =IF(K15="","",IF(L15="",K15,"")) | L48: =IF(K48="","",15) | M48: =SUM(E48,G48,I48,K48,) -> 0 | N48: =SUM(F48,H48,J48,L48,) -> 0 | O48: =IF(ISERROR(ROUND(AVERAGE(E48,G48,I48,K48),0)),"- -",ROUND(AVERAGE(E48,G48,I48,K48),0)) -> - -
D49: Profilfach 3
D50: falls nur in 11 | E50: =IF(E17="","",IF(F17="",E17,"")) | F50: =IF(E50="","",15) | G50: =IF(G17="","",IF(H17="",G17,"")) | H50: =IF(G50="","",15) | I50: =IF(I17="","",IF(J17="",I17,"")) | J50: =IF(I50="","",15) | K50: =IF(K17="","",IF(L17="",K17,"")) | L50: =IF(K50="","",15) | M50: =SUM(E50,G50,I50,K50,) -> 0 | N50: =SUM(F50,H50,J50,L50,) -> 0 | O50: =IF(ISERROR(ROUND(AVERAGE(E50,G50,I50,K50),0)),"- -",ROUND(AVERAGE(E50,G50,I50,K50),0)) -> - -
D51: falls nur in 12 | E51: =IF(E18="","",IF(F18="",E18,"")) | F51: =IF(E51="","",15) | G51: =IF(G18="","",IF(H18="",G18,"")) | H51: =IF(G51="","",15) | I51: =IF(I18="","",IF(J18="",I18,"")) | J51: =IF(I51="","",15) | K51: =IF(K18="","",IF(L18="",K18,"")) | L51: =IF(K51="","",15) | M51: =SUM(E51,G51,I51,K51,) -> 0 | N51: =SUM(F51,H51,J51,L51,) -> 0 | O51: =IF(ISERROR(ROUND(AVERAGE(E51,G51,I51,K51),0)),"- -",ROUND(AVERAGE(E51,G51,I51,K51),0)) -> - -
D52: falls in 11 und 12 | E52: =IF(E19="","",IF(F19="",E19,"")) | F52: =IF(E52="","",15) | G52: =IF(G19="","",IF(H19="",G19,"")) | H52: =IF(G52="","",15) | I52: =IF(I19="","",IF(J19="",I19,"")) | J52: =IF(I52="","",15) | K52: =IF(K19="","",IF(L19="",K19,"")) | L52: =IF(K52="","",15) | M52: =SUM(E52,G52,I52,K52,) -> 0 | N52: =SUM(F52,H52,J52,L52,) -> 0 | O52: =IF(ISERROR(ROUND(AVERAGE(E52,G52,I52,K52),0)),"- -",ROUND(AVERAGE(E52,G52,I52,K52),0)) -> - -
D53: Kontr. Profilfa. 3 | O53: =IF(ISERROR(ROUND(AVERAGE(E53,G53,I53,K53),0)),"- -",ROUND(AVERAGE(E53,G53,I53,K53),0)) -> - -
D54: Profilfach 4 | E54: =IF(E21="","",IF(F21="",E21,"")) | F54: =IF(E54="","",15) | G54: =IF(G21="","",IF(H21="",G21,"")) | H54: =IF(G54="","",15) | I54: =IF(I21="","",IF(J21="",I21,"")) | J54: =IF(I54="","",15) | K54: =IF(K21="","",IF(L21="",K21,"")) | L54: =IF(K54="","",15) | M54: =SUM(E54,G54,I54,K54,) -> 0 | N54: =SUM(F54,H54,J54,L54,) -> 0 | O54: =IF(ISERROR(ROUND(AVERAGE(E54,G54,I54,K54),0)),"- -",ROUND(AVERAGE(E54,G54,I54,K54),0)) -> - -
D55: Wahlpflichtfach 1 | E55: =IF(E22="","",IF(F22="",E22,"")) | F55: =IF(E55="","",15) | G55: =IF(G22="","",IF(H22="",G22,"")) | H55: =IF(G55="","",15) | I55: =IF(I22="","",IF(J22="",I22,"")) | J55: =IF(I55="","",15) | K55: =IF(K22="","",IF(L22="",K22,"")) | L55: =IF(K55="","",15) | M55: =SUM(E55,G55,I55,K55,) -> 0 | N55: =SUM(F55,H55,J55,L55,) -> 0 | O55: =IF(ISERROR(ROUND(AVERAGE(E55,G55,I55,K55),0)),"- -",ROUND(AVERAGE(E55,G55,I55,K55),0)) -> - -
D56: Wahlpflichtfach 2 | E56: =IF(E23="","",IF(F23="",E23,"")) | F56: =IF(E56="","",15) | G56: =IF(G23="","",IF(H23="",G23,"")) | H56: =IF(G56="","",15) | I56: =IF(I23="","",IF(J23="",I23,"")) | J56: =IF(I56="","",15) | K56: =IF(K23="","",IF(L23="",K23,"")) | L56: =IF(K56="","",15) | M56: =SUM(E56,G56,I56,K56,) -> 0 | N56: =SUM(F56,H56,J56,L56,) -> 0 | O56: =IF(ISERROR(ROUND(AVERAGE(E56,G56,I56,K56),0)),"- -",ROUND(AVERAGE(E56,G56,I56,K56),0)) -> - -
D57: Wahlpflichtfach 3 | E57: =IF(E24="","",IF(F24="",E24,"")) | F57: =IF(E57="","",15) | G57: =IF(G24="","",IF(H24="",G24,"")) | H57: =IF(G57="","",15) | I57: =IF(I24="","",IF(J24="",I24,"")) | J57: =IF(I57="","",15) | K57: =IF(K24="","",IF(L24="",K24,"")) | L57: =IF(K57="","",15) | M57: =SUM(E57,G57,I57,K57,) -> 0 | N57: =SUM(F57,H57,J57,L57,) -> 0 | O57: =IF(ISERROR(ROUND(AVERAGE(E57,G57,I57,K57),0)),"- -",ROUND(AVERAGE(E57,G57,I57,K57),0)) -> - -
D58: Fachreferat | I58: =IF(I25="","",IF(J25="",I25,"")) | J58: =IF(I58="","",15) | M58: =SUM(E58,G58,I58,K58,) -> 0 | N58: =SUM(F58,H58,J58,L58,) -> 0
D59: fachpraktische Ausbildung | E59: =IF(E26="","",IF(F26="",E26,"")) | F59: =IF(E59="","",15) | G59: =IF(G26="","",IF(H26="",G26,"")) | H59: =IF(G59="","",15) | M59: =SUM(E59,G59,I59,K59,) -> 0 | N59: =SUM(F59,H59,J59,L59,) -> 0
L60: Summe | M60: =SUM(M40:M59) -> 0 | N60: =SUM(N40:N59) -> 0 | P60: =SUM(P41:P42,P45,P47) -> 0 | Q60: =SUM(Q41:Q42,Q45,Q47) -> 0
L62: Gesamt-Punktesumme: | M62: =M60+P60 -> 0 | O62: =CONCATENATE("Von bisher ",M63," möglichen sind aktuell ",M62," Punkte erreicht worden!") -> Von bisher 0 möglichen sind aktuell 0 Punkte erreicht worden!
L63: maximal mögliche Punkte: | M63: =N60+Q60 -> 0
L64: Quotient der beiden Punktzahlen: | M64: =M62/M63 -> #DIV/0!
L66: Durchschnittsnote nach Formel: | M66: =IF(17/3-5*M64<1,1,17/3-5*M64) -> #DIV/0!
L67: auf eine Nachkommastelle genau: | M67: =INT(M66*10)/10 -> #DIV/0!

Sheet opti
A1: 1 | B1: 2 | C1: 3 | D1: 4 | E1: 5 | F1: 6 | G1: 7 | H1: 8 | I1: 9 | J1: 10 | K1: 11 | L1: 12 | M1: 13 | N1: 14 | O1: 15 | P1: 16 | Q1: 17 | R1: 18 | S1: 19 | T1: 20 | U1: 21 | V1: 22 | X1: 24 | Y1: 25 | Z1: 26 | AA1: 27 | AB1: 28 | AC1: 29 | AD1: 30 | AE1: 31 | AF1: 32 | AG1: 33 | AH1: 34 | AI1: 35 | AJ1: 36 | AK1: 37 | AL1: 38 | AM1: 39 | AN1: 40
B2: Optimierung des Fachabiturschnitts!! | S2: Anzahl der eingegeben Noten (ohne Fachref und FPA) | U2: ='B1'!D27 -> 0 | V2: Anzahl der benötigten Noten: 17 oder 25 | X2: ='B1'!J30 -> 25
B3: Name | D3: Vorname | G3: Klasse | S3: Noten zuviel | U3: =U2-'B1'!J30 -> -25
B4: ='Tab1'!B4:C4 -> xyz | D4: ='Tab1'!D4:F4 -> rst | G4: ='Tab1'!G4:H4 -> 0 | S4: TRUE | T4: =IF(S4,1,0) -> 1
B5: ='Tab1'!B5 -> Wirtschaft u. Verwaltung | E5: relevante Halbjahresergebnisse nach Punkten (gleichgewichtig / einfach) | R5: kleinste Note | S5: Spalte wo kleinste Note | T5: Rang kleinste Note | V5: Rangänderung wegen:
C6: 11. Klasse | D6: 12. Klasse | E6: 11|1 | G6: 11|2 | I6: 12|1 | K6: 12|2 | N6: 1 | O6: 2 | P6: 3 | Q6: 4 | T6: unge-wichtet | U6: gewichtet | V6: Prüfungs-fach | W6: Noten-schnitt <4 | X6: Summe: | Y6: Noten-schnitt
B7: Religionslehre/Ethik | E7: =IF('Tab1'!E7="","",'Tab1'!E7) | G7: =IF('Tab1'!G7="","",'Tab1'!G7) | I7: =IF('Tab1'!I7="","",'Tab1'!I7) | K7: =IF('Tab1'!K7="","",'Tab1'!K7) | M7: 1 | N7: =E7 | O7: =G7 | P7: =I7 | Q7: =K7 | R7: =IF(ISERROR(SMALL(N7:Q7,1)),33,SMALL(N7:Q7,1)) -> 33 | S7: =IF(ISERROR(MATCH(R7,N7:Q7,0)),"",MATCH(R7,N7:Q7,0)) | T7: =IF(R7=33,"",IF(ISERROR(RANK(R7,$R$7:$R$24,1)),"",RANK(R7,$R$7:$R$24,1))) | U7: =IF(R7=33,"",IF(ISERROR(RANK(R7,$R$7:$R$24,1)),"",RANK(R7,$R$7:$R$24,1)+X7)) | W7: =IF(Y7<4,-1*T7+1,0) -> 0 | X7: =SUM(V7:W7) -> 0 | Y7: =IF('B1'!V7="","",'B1'!V7)
B8: Deutsch | E8: =IF('Tab1'!E8="","",'Tab1'!E8) | G8: =IF('Tab1'!G8="","",'Tab1'!G8) | I8: =IF('Tab1'!I8="","",'Tab1'!I8) | K8: =IF('Tab1'!K8="","",'Tab1'!K8) | M8: 2 | N8: =E8 | O8: =G8 | P8: =I8 | Q8: =K8 | R8: =IF(ISERROR(SMALL(N8:Q8,1)),33,SMALL(N8:Q8,1)) -> 33 | S8: =IF(ISERROR(MATCH(R8,N8:Q8,0)),"",MATCH(R8,N8:Q8,0)) | T8: =IF(R8=33,"",IF(ISERROR(RANK(R8,$R$7:$R$24,1)),"",RANK(R8,$R$7:$R$24,1))) | U8: =IF(R8=33,"",IF(ISERROR(RANK(R8,$R$7:$R$24,1)),"",RANK(R8,$R$7:$R$24,1)+X8)) | V8: 1 | W8: =IF(Y8<4,-1*T8+1,0) -> 0 | X8: =SUM(V8:W8) -> 1 | Y8: =IF('B1'!V8="","",'B1'!V8)
B9: Englisch | E9: =IF('Tab1'!E9="","",'Tab1'!E9) | G9: =IF('Tab1'!G9="","",'Tab1'!G9) | I9: =IF('Tab1'!I9="","",'Tab1'!I9) | K9: =IF('Tab1'!K9="","",'Tab1'!K9) | M9: 3 | N9: =E9 | O9: =G9 | P9: =I9 | Q9: =K9 | R9: =IF(ISERROR(SMALL(N9:Q9,1)),33,SMALL(N9:Q9,1)) -> 33 | S9: =IF(ISERROR(MATCH(R9,N9:Q9,0)),"",MATCH(R9,N9:Q9,0)) | T9: =IF(R9=33,"",IF(ISERROR(RANK(R9,$R$7:$R$24,1)),"",RANK(R9,$R$7:$R$24,1))) | U9: =IF(R9=33,"",IF(ISERROR(RANK(R9,$R$7:$R$24,1)),"",RANK(R9,$R$7:$R$24,1)+X9)) | V9: 1 | W9: =IF(Y9<4,-1*T9+1,0) -> 0 | X9: =SUM(V9:W9) -> 1 | Y9: =IF('B1'!V9="","",'B1'!V9)
B10: Geschichte | E10: =IF('Tab1'!E10="","",'Tab1'!E10) | G10: =IF('Tab1'!G10="","",'Tab1'!G10) | I10: =IF('Tab1'!I10="","",'Tab1'!I10) | K10: =IF('Tab1'!K10="","",'Tab1'!K10) | M10: 4 | N10: =E10 | O10: =G10 | P10: =I10 | Q10: =K10 | R10: =IF(ISERROR(SMALL(N10:Q10,1)),33,SMALL(N10:Q10,1)) -> 33 | S10: =IF(ISERROR(MATCH(R10,N10:Q10,0)),"",MATCH(R10,N10:Q10,0)) | T10: =IF(R10=33,"",IF(ISERROR(RANK(R10,$R$7:$R$24,1)),"",RANK(R10,$R$7:$R$24,1))) | U10: =IF(R10=33,"",IF(ISERROR(RANK(R10,$R$7:$R$24,1)),"",RANK(R10,$R$7:$R$24,1)+X10)) | W10: =IF(Y10<4,-1*T10+1,0) -> 0 | X10: =SUM(V10:W10) -> 0 | Y10: =IF('B1'!V10="","",'B1'!V10)
B11: Sozialkunde | E11: =IF('Tab1'!E11="","",'Tab1'!E11) | G11: =IF('Tab1'!G11="","",'Tab1'!G11) | I11: =IF('Tab1'!I11="","",'Tab1'!I11) | K11: =IF('Tab1'!K11="","",'Tab1'!K11) | M11: 5 | N11: =E11 | O11: =G11 | P11: =I11 | Q11: =K11 | R11: =IF(ISERROR(SMALL(N11:Q11,1)),33,SMALL(N11:Q11,1)) -> 33 | S11: =IF(ISERROR(MATCH(R11,N11:Q11,0)),"",MATCH(R11,N11:Q11,0)) | T11: =IF(R11=33,"",IF(ISERROR(RANK(R11,$R$7:$R$24,1)),"",RANK(R11,$R$7:$R$24,1))) | U11: =IF(R11=33,"",IF(ISERROR(RANK(R11,$R$7:$R$24,1)),"",RANK(R11,$R$7:$R$24,1)+X11)) | W11: =IF(Y11<4,-1*T11+1,0) -> 0 | X11: =SUM(V11:W11) -> 0 | Y11: =IF('B1'!V11="","",'B1'!V11)
B12: Mathematik | E12: =IF('Tab1'!E12="","",'Tab1'!E12) | G12: =IF('Tab1'!G12="","",'Tab1'!G12) | I12: =IF('Tab1'!I12="","",'Tab1'!I12) | K12: =IF('Tab1'!K12="","",'Tab1'!K12) | M12: 6 | N12: =E12 | O12: =G12 | P12: =I12 | Q12: =K12 | R12: =IF(ISERROR(SMALL(N12:Q12,1)),33,SMALL(N12:Q12,1)) -> 33 | S12: =IF(ISERROR(MATCH(R12,N12:Q12,0)),"",MATCH(R12,N12:Q12,0)) | T12: =IF(R12=33,"",IF(ISERROR(RANK(R12,$R$7:$R$24,1)),"",RANK(R12,$R$7:$R$24,1))) | U12: =IF(R12=33,"",IF(ISERROR(RANK(R12,$R$7:$R$24,1)),"",RANK(R12,$R$7:$R$24,1)+X12)) | V12: 1 | W12: =IF(Y12<4,-1*T12+1,0) -> 0 | X12: =SUM(V12:W12) -> 1 | Y12: =IF('B1'!V12="","",'B1'!V12)
R13: =IF(ISERROR(SMALL(N13:Q13,1)),33,SMALL(N13:Q13,1)) -> 33 | S13: =IF(ISERROR(MATCH(R13,N13:Q13,0)),"",MATCH(R13,N13:Q13,0))
B14: Profilfach 1 | C14: ='B1'!C14 -> BwR | D14: ='B1'!D14 -> BwR | E14: =IF('Tab1'!E14="","",'Tab1'!E14) | G14: =IF('Tab1'!G14="","",'Tab1'!G14) | I14: =IF('Tab1'!I14="","",'Tab1'!I14) | K14: =IF('Tab1'!K14="","",'Tab1'!K14) | M14: 8 | N14: =E14 | O14: =G14 | P14: =I14 | Q14: =K14 | R14: =IF(ISERROR(SMALL(N14:Q14,1)),33,SMALL(N14:Q14,1)) -> 33 | S14: =IF(ISERROR(MATCH(R14,N14:Q14,0)),"",MATCH(R14,N14:Q14,0)) | T14: =IF(R14=33,"",IF(ISERROR(RANK(R14,$R$7:$R$24,1)),"",RANK(R14,$R$7:$R$24,1))) | U14: =IF(R14=33,"",IF(ISERROR(RANK(R14,$R$7:$R$24,1)),"",RANK(R14,$R$7:$R$24,1)+X14)) | V14: 1 | W14: =IF(Y14<4,-1*T14+1,0) -> 0 | X14: =SUM(V14:W14) -> 1 | Y14: =IF('B1'!V14="","",'B1'!V14)
B15: Profilfach 2 | C15: ='B1'!C15 -> VWL | D15: ='B1'!D15 -> VWL | E15: =IF('Tab1'!E15="","",'Tab1'!E15) | G15: =IF('Tab1'!G15="","",'Tab1'!G15) | I15: =IF('Tab1'!I15="","",'Tab1'!I15) | K15: =IF('Tab1'!K15="","",'Tab1'!K15) | M15: 9 | N15: =E15 | O15: =G15 | P15: =I15 | Q15: =K15 | R15: =IF(ISERROR(SMALL(N15:Q15,1)),33,SMALL(N15:Q15,1)) -> 33 | S15: =IF(ISERROR(MATCH(R15,N15:Q15,0)),"",MATCH(R15,N15:Q15,0)) | T15: =IF(R15=33,"",IF(ISERROR(RANK(R15,$R$7:$R$24,1)),"",RANK(R15,$R$7:$R$24,1))) | U15: =IF(R15=33,"",IF(ISERROR(RANK(R15,$R$7:$R$24,1)),"",RANK(R15,$R$7:$R$24,1)+X15)) | W15: =IF(Y15<4,-1*T15+1,0) -> 0 | X15: =SUM(V15:W15) -> 0 | Y15: =IF('B1'!V15="","",'B1'!V15)
B16: Profilfach 3 | C16: ='B1'!C16 -> Rechtslehre | D16: ='B1'!D16 -> Naturwissensch. | E16: =IF('Tab1'!E16="","",'Tab1'!E16) | G16: =IF('Tab1'!G16="","",'Tab1'!G16) | I16: =IF('Tab1'!I16="","",'Tab1'!I16) | K16: =IF('Tab1'!K16="","",'Tab1'!K16) | N16: =E16 | O16: =G16 | P16: =I16 | Q16: =K16 | R16: =IF(ISERROR(SMALL(N16:Q16,1)),33,SMALL(N16:Q16,1)) -> 33
B17: Noten des Profilfachs 3 für Nicht-Techniker | C17: 11. Klasse | E17: =IF('Tab1'!E17="","",'Tab1'!E17) | G17: =IF('Tab1'!G17="","",'Tab1'!G17) | I17: =IF('Tab1'!I17="","",'Tab1'!I17) | K17: =IF('Tab1'!K17="","",'Tab1'!K17) | M17: 11 | N17: =E17 | O17: =G17 | P17: =I17 | Q17: =K17 | R17: =IF(ISERROR(SMALL(N17:Q17,1)),33,SMALL(N17:Q17,1)) -> 33 | S17: =IF(ISERROR(MATCH(R17,N17:Q17,0)),"",MATCH(R17,N17:Q17,0)) | T17: =IF(R17=33,"",IF(ISERROR(RANK(R17,$R$7:$R$24,1)),"",RANK(R17,$R$7:$R$24,1))) | U17: =IF(R17=33,"",IF(ISERROR(RANK(R17,$R$7:$R$24,1)),"",RANK(R17,$R$7:$R$24,1)+X17)) | W17: =IF(Y17<4,-1*T17+1,0) -> 0 | X17: =SUM(V17:W17) -> 0 | Y17: =IF('B1'!V17="","",'B1'!V17)
C18: 12. Klasse | E18: =IF('Tab1'!E18="","",'Tab1'!E18) | G18: =IF('Tab1'!G18="","",'Tab1'!G18) | I18: =IF('Tab1'!I18="","",'Tab1'!I18) | K18: =IF('Tab1'!K18="","",'Tab1'!K18) | M18: 12 | N18: =E18 | O18: =G18 | P18: =I18 | Q18: =K18 | R18: =IF(ISERROR(SMALL(N18:Q18,1)),33,SMALL(N18:Q18,1)) -> 33 | S18: =IF(ISERROR(MATCH(R18,N18:Q18,0)),"",MATCH(R18,N18:Q18,0)) | T18: =IF(R18=33,"",IF(ISERROR(RANK(R18,$R$7:$R$24,1)),"",RANK(R18,$R$7:$R$24,1))) | U18: =IF(R18=33,"",IF(ISERROR(RANK(R18,$R$7:$R$24,1)),"",RANK(R18,$R$7:$R$24,1)+X18)) | W18: =IF(Y18<4,-1*T18+1,0) -> 0 | X18: =SUM(V18:W18) -> 0 | Y18: =IF('B1'!V18="","",'B1'!V18)
B19: Noten des Profilfachs 3 für Techniker | E19: =IF('Tab1'!E19="","",'Tab1'!E19) | G19: =IF('Tab1'!G19="","",'Tab1'!G19) | I19: =IF('Tab1'!I19="","",'Tab1'!I19) | K19: =IF('Tab1'!K19="","",'Tab1'!K19) | M19: 13 | N19: =E19 | O19: =G19 | P19: =I19 | Q19: =K19 | R19: =IF(ISERROR(SMALL(N19:Q19,1)),33,SMALL(N19:Q19,1)) -> 33 | S19: =IF(ISERROR(MATCH(R19,N19:Q19,0)),"",MATCH(R19,N19:Q19,0)) | T19: =IF(R19=33,"",IF(ISERROR(RANK(R19,$R$7:$R$24,1)),"",RANK(R19,$R$7:$R$24,1))) | U19: =IF(R19=33,"",IF(ISERROR(RANK(R19,$R$7:$R$24,1)),"",RANK(R19,$R$7:$R$24,1)+X19)) | W19: =IF(Y19<4,-1*T19+1,0) -> 0 | X19: =SUM(V19:W19) -> 0 | Y19: =IF('B1'!V19="","",'B1'!V19) | AH19: aktuelle Durchschnittsnote:
E20: =IF('Tab1'!E20="","",'Tab1'!E20) | G20: =IF('Tab1'!G20="","",'Tab1'!G20) | I20: =IF('Tab1'!I20="","",'Tab1'!I20) | K20: =IF('Tab1'!K20="","",'Tab1'!K20) | N20: =E20 | O20: =G20 | P20: =I20 | Q20: =K20 | R20: =IF(ISERROR(SMALL(N20:Q20,1)),33,SMALL(N20:Q20,1)) -> 33
B21: Profilfach 4 | D21: ='B1'!D21 -> Informatik | E21: =IF('Tab1'!E21="","",'Tab1'!E21) | G21: =IF('Tab1'!G21="","",'Tab1'!G21) | I21: =IF('Tab1'!I21="","",'Tab1'!I21) | K21: =IF('Tab1'!K21="","",'Tab1'!K21) | M21: 15 | N21: =E21 | O21: =G21 | P21: =I21 | Q21: =K21 | R21: =IF(ISERROR(SMALL(N21:Q21,1)),33,SMALL(N21:Q21,1)) -> 33 | S21: =IF(ISERROR(MATCH(R21,N21:Q21,0)),"",MATCH(R21,N21:Q21,0)) | T21: =IF(R21=33,"",IF(ISERROR(RANK(R21,$R$7:$R$24,1)),"",RANK(R21,$R$7:$R$24,1))) | U21: =IF(R21=33,"",IF(ISERROR(RANK(R21,$R$7:$R$24,1)),"",RANK(R21,$R$7:$R$24,1)+X21)) | W21: =IF(Y21<4,-1*T21+1,0) -> 0 | X21: =SUM(V21:W21) -> 0 | Y21: =IF('B1'!V21="","",'B1'!V21)
B22: Wahlpflichtfach 1 | E22: =IF('Tab1'!E22="","",'Tab1'!E22) | G22: =IF('Tab1'!G22="","",'Tab1'!G22) | I22: =IF('Tab1'!I22="","",'Tab1'!I22) | K22: =IF('Tab1'!K22="","",'Tab1'!K22) | M22: 16 | N22: =E22 | O22: =G22 | P22: =I22 | Q22: =K22 | R22: =IF(ISERROR(SMALL(N22:Q22,1)),33,SMALL(N22:Q22,1)) -> 33 | S22: =IF(ISERROR(MATCH(R22,N22:Q22,0)),"",MATCH(R22,N22:Q22,0)) | T22: =IF(R22=33,"",IF(ISERROR(RANK(R22,$R$7:$R$24,1)),"",RANK(R22,$R$7:$R$24,1))) | U22: =IF(R22=33,"",IF(ISERROR(RANK(R22,$R$7:$R$24,1)),"",RANK(R22,$R$7:$R$24,1)+X22)) | W22: =IF(Y22<4,-1*T22+1,0) -> 0 | X22: =SUM(V22:W22) -> 0 | Y22: =IF('B1'!V22="","",'B1'!V22) | AI22: ='B1'!M66 -> #DIV/0!
B23: Wahlpflichtfach 2 | E23: =IF('Tab1'!E23="","",'Tab1'!E23) | G23: =IF('Tab1'!G23="","",'Tab1'!G23) | I23: =IF('Tab1'!I23="","",'Tab1'!I23) | K23: =IF('Tab1'!K23="","",'Tab1'!K23) | M23: 17 | N23: =E23 | O23: =G23 | P23: =I23 | Q23: =K23 | R23: =IF(ISERROR(SMALL(N23:Q23,1)),33,SMALL(N23:Q23,1)) -> 33 | S23: =IF(ISERROR(MATCH(R23,N23:Q23,0)),"",MATCH(R23,N23:Q23,0)) | T23: =IF(R23=33,"",IF(ISERROR(RANK(R23,$R$7:$R$24,1)),"",RANK(R23,$R$7:$R$24,1))) | U23: =IF(R23=33,"",IF(ISERROR(RANK(R23,$R$7:$R$24,1)),"",RANK(R23,$R$7:$R$24,1)+X23)) | W23: =IF(Y23<4,-1*T23+1,0) -> 0 | X23: =SUM(V23:W23) -> 0 | Y23: =IF('B1'!V23="","",'B1'!V23) | AI23: ='B1'!M67 -> #DIV/0!
B24: Wahlpflichtfach 3 | E24: =IF('Tab1'!E24="","",'Tab1'!E24) | G24: =IF('Tab1'!G24="","",'Tab1'!G24) | I24: =IF('Tab1'!I24="","",'Tab1'!I24) | K24: =IF('Tab1'!K24="","",'Tab1'!K24) | M24: 18 | N24: =E24 | O24: =G24 | P24: =I24 | Q24: =K24 | R24: =IF(ISERROR(SMALL(N24:Q24,1)),33,SMALL(N24:Q24,1)) -> 33 | S24: =IF(ISERROR(MATCH(R24,N24:Q24,0)),"",MATCH(R24,N24:Q24,0)) | T24: =IF(R24=33,"",IF(ISERROR(RANK(R24,$R$7:$R$24,1)),"",RANK(R24,$R$7:$R$24,1))) | U24: =IF(R24=33,"",IF(ISERROR(RANK(R24,$R$7:$R$24,1)),"",RANK(R24,$R$7:$R$24,1)+X24)) | W24: =IF(Y24<4,-1*T24+1,0) -> 0 | X24: =SUM(V24:W24) -> 0 | Y24: =IF('B1'!V24="","",'B1'!V24)
B25: Fachreferat | E25: =IF('Tab1'!E25="","",'Tab1'!E25) | F25: =IF('Tab1'!F25="","",'Tab1'!F25) | G25: =IF('Tab1'!G25="","",'Tab1'!G25) | H25: =IF('Tab1'!H25="","",'Tab1'!H25) | I25: =IF('Tab1'!I25="","",'Tab1'!I25) | J25: =IF('Tab1'!J25="","",'Tab1'!J25) | K25: =IF('Tab1'!K25="","",'Tab1'!K25) | L25: =IF('Tab1'!L25="","",'Tab1'!L25)
B26: fachprakt. Ausb. | E26: =IF('Tab1'!E26="","",'Tab1'!E26) | F26: =IF('Tab1'!F26="","",'Tab1'!F26) | G26: =IF('Tab1'!G26="","",'Tab1'!G26) | H26: =IF('Tab1'!H26="","",'Tab1'!H26) | I26: =IF('Tab1'!I26="","",'Tab1'!I26) | J26: =IF('Tab1'!J26="","",'Tab1'!J26) | K26: =IF('Tab1'!K26="","",'Tab1'!K26) | L26: =IF('Tab1'!L26="","",'Tab1'!L26)
B27: Autor: Franz Besl, FOS Landshut
G33: Eingabewerte
G34: Noten | H34: Fach-Auswahl
C35: Sozialwesen | D35: 1 | G35: 15 | H35: X
C36: Technik | D36: 2 | G36: 14
C37: Wirtschaft u. Verwaltung | D37: 3 | G37: 13 | H37: x
C38: Intern. Wirtschaft | D38: 4 | G38: 12
G39: 11
G40: 10
G41: 9
G42: 8
G43: 7
G44: 6
G45: 5
G46: 4
G47: 3
G48: 2
G49: 1
G50: 0
